BEGIN:VCALENDAR
VERSION:2.0
PRODID:-//Swiss Karate Federation - ECPv6.15.20//NONSGML v1.0//EN
CALSCALE:GREGORIAN
METHOD:PUBLISH
X-WR-CALNAME:Swiss Karate Federation
X-ORIGINAL-URL:https://www.karate.ch
X-WR-CALDESC:Veranstaltungen für Swiss Karate Federation
REFRESH-INTERVAL;VALUE=DURATION:PT1H
X-Robots-Tag:noindex
X-PUBLISHED-TTL:PT1H
BEGIN:VTIMEZONE
TZID:Europe/Zurich
BEGIN:DAYLIGHT
TZOFFSETFROM:+0100
TZOFFSETTO:+0200
TZNAME:CEST
DTSTART:20190331T010000
END:DAYLIGHT
BEGIN:STANDARD
TZOFFSETFROM:+0200
TZOFFSETTO:+0100
TZNAME:CET
DTSTART:20191027T010000
END:STANDARD
BEGIN:DAYLIGHT
TZOFFSETFROM:+0100
TZOFFSETTO:+0200
TZNAME:CEST
DTSTART:20200329T010000
END:DAYLIGHT
BEGIN:STANDARD
TZOFFSETFROM:+0200
TZOFFSETTO:+0100
TZNAME:CET
DTSTART:20201025T010000
END:STANDARD
BEGIN:DAYLIGHT
TZOFFSETFROM:+0100
TZOFFSETTO:+0200
TZNAME:CEST
DTSTART:20210328T010000
END:DAYLIGHT
BEGIN:STANDARD
TZOFFSETFROM:+0200
TZOFFSETTO:+0100
TZNAME:CET
DTSTART:20211031T010000
END:STANDARD
END:VTIMEZONE
BEGIN:VEVENT
DTSTART;TZID=Europe/Zurich:20200429T000000
DTEND;TZID=Europe/Zurich:20200502T000000
DTSTAMP:20260426T040005
CREATED:20200327T052248Z
LAST-MODIFIED:20200418T025937Z
UID:114985-1588118400-1588377600@www.karate.ch
SUMMARY:ABGESAGT/ANNULÉ: Nationalkader Training Olympiapool Kumite\,
DESCRIPTION:  \n 
URL:https://www.karate.ch/event/abgesagt-annule-nationalkader-training-olympiapool-kumite-magglingen/
LOCATION:Magglingen\, Hauptstrasse 232\, BE\, 2532\, Schweiz
ATTACH;FMTTYPE=image/png:https://www.karate.ch/wp-content/uploads/absage_annule.png
END:VEVENT
BEGIN:VEVENT
DTSTART;VALUE=DATE:20200501
DTEND;VALUE=DATE:20200505
DTSTAMP:20260426T040005
CREATED:20200327T052519Z
LAST-MODIFIED:20200418T025509Z
UID:115245-1588294800-1588553999@www.karate.ch
SUMMARY:ABGESAGT/ANNULÉ: Karate1 Youth League -  (Punkteturnier)
DESCRIPTION:
URL:https://www.karate.ch/event/abgesagt-annule-karate1-youth-league-limassol-zyp-punkteturnier/
LOCATION:Limassol\, Cyprus
ATTACH;FMTTYPE=image/png:https://www.karate.ch/wp-content/uploads/absage_annule.png
END:VEVENT
BEGIN:VEVENT
DTSTART;VALUE=DATE:20200502
DTEND;VALUE=DATE:20200504
DTSTAMP:20260426T040005
CREATED:20200327T052415Z
LAST-MODIFIED:20200418T025605Z
UID:115129-1588381200-1588467599@www.karate.ch
SUMMARY:ABGESAGT/ANNULÉ: Jugend Zentraltraining und Zentraltraining\,
DESCRIPTION:
URL:https://www.karate.ch/event/abgesagt-annule-jugend-zentraltraining-und-zentraltraining-lenzburg/
LOCATION:Lenzburg\, AG\, Schweiz
ATTACH;FMTTYPE=image/png:https://www.karate.ch/wp-content/uploads/absage_annule.png
END:VEVENT
BEGIN:VEVENT
DTSTART;VALUE=DATE:20200502
DTEND;VALUE=DATE:20200504
DTSTAMP:20260426T040005
CREATED:20200327T052431Z
LAST-MODIFIED:20200329T063952Z
UID:115160-1588381200-1588467599@www.karate.ch
SUMMARY:SSKF: Kader + Dan-Vorbereitung + Instruktorenkurs\,
DESCRIPTION:
URL:https://www.karate.ch/event/sskf-kader-dan-vorbereitung-instruktorenkurs-basel-4/
LOCATION:Basel\, Switzerland
END:VEVENT
BEGIN:VEVENT
DTSTART;VALUE=DATE:20200502
DTEND;VALUE=DATE:20200504
DTSTAMP:20260426T040005
CREATED:20200427T115316Z
LAST-MODIFIED:20200427T115316Z
UID:115793-1588381200-1588467599@www.karate.ch
SUMMARY:Digital SKR Zentraltraining
DESCRIPTION:
URL:https://www.karate.ch/event/digital-skr-zentraltraining-2/
END:VEVENT
BEGIN:VEVENT
DTSTART;VALUE=DATE:20200502
DTEND;VALUE=DATE:20200505
DTSTAMP:20260426T040005
CREATED:20200327T052211Z
LAST-MODIFIED:20200418T025706Z
UID:114925-1588381200-1588553999@www.karate.ch
SUMMARY:ABGESAGT/ANNULÉ: 1. Swiss Karate League\, Stadthalle\,  (Punkteturnier)
DESCRIPTION:
URL:https://www.karate.ch/event/abgesagt-annule-1-swiss-karate-league-stadthalle-sursee-punkteturnier/
LOCATION:Sursee\, Switzerland
ATTACH;FMTTYPE=image/png:https://www.karate.ch/wp-content/uploads/absage_annule.png
END:VEVENT
BEGIN:VEVENT
DTSTART;VALUE=DATE:20200503
DTEND;VALUE=DATE:20200505
DTSTAMP:20260426T040005
CREATED:20200327T052406Z
LAST-MODIFIED:20200418T025751Z
UID:115127-1588467600-1588553999@www.karate.ch
SUMMARY:ABGESAGT/ANNULÉ: Zentraltraining\,  (Prüfungen bis 1. Kyu)
DESCRIPTION:
URL:https://www.karate.ch/event/abgesagt-annule-zentraltraining-bern-pruefungen-bis-1-kyu/
LOCATION:Bern
ATTACH;FMTTYPE=image/png:https://www.karate.ch/wp-content/uploads/absage_annule.png
END:VEVENT
BEGIN:VEVENT
DTSTART;VALUE=DATE:20200505
DTEND;VALUE=DATE:20200508
DTSTAMP:20260426T040005
CREATED:20200327T052456Z
LAST-MODIFIED:20200418T030208Z
UID:115205-1588640400-1588813199@www.karate.ch
SUMMARY:ABGESAGT/ANNULÉ: WB1 Modul Technik-Leistungsmodell\, BE 456-19-20 d\,  (Meldeschluss 5.3.20)
DESCRIPTION:
URL:https://www.karate.ch/event/abgesagt-annule-wb1-modul-technik-leistungsmodell-be-456-19-20-d-bern-meldeschluss-5-3-20/
LOCATION:Bern
ATTACH;FMTTYPE=image/png:https://www.karate.ch/wp-content/uploads/absage_annule.png
END:VEVENT
BEGIN:VEVENT
DTSTART;VALUE=DATE:20200506
DTEND;VALUE=DATE:20200508
DTSTAMP:20260426T040005
CREATED:20200327T052236Z
LAST-MODIFIED:20200422T071654Z
UID:114963-1588726800-1588813199@www.karate.ch
SUMMARY:ABGESAGT/ANNULÉ: Nationalkader Training Team Kumite Herren\,
DESCRIPTION:
URL:https://www.karate.ch/event/nationalkader-training-team-kumite-herren-magglingen-24/
LOCATION:Magglingen\, Hauptstrasse 232\, BE\, 2532\, Schweiz
ATTACH;FMTTYPE=image/png:https://www.karate.ch/wp-content/uploads/absage_annule.png
END:VEVENT
BEGIN:VEVENT
DTSTART;VALUE=DATE:20200506
DTEND;VALUE=DATE:20200508
DTSTAMP:20260426T040005
CREATED:20200327T052256Z
LAST-MODIFIED:20200422T071748Z
UID:115000-1588726800-1588813199@www.karate.ch
SUMMARY:ABGESAGT/ANNULÉ: Nationalkader Training Kumite Elite\,
DESCRIPTION:
URL:https://www.karate.ch/event/nationalkader-training-kumite-elite-magglingen-12/
LOCATION:Magglingen\, Hauptstrasse 232\, BE\, 2532\, Schweiz
ATTACH;FMTTYPE=image/png:https://www.karate.ch/wp-content/uploads/absage_annule.png
END:VEVENT
BEGIN:VEVENT
DTSTART;VALUE=DATE:20200506
DTEND;VALUE=DATE:20200508
DTSTAMP:20260426T040005
CREATED:20200327T052319Z
LAST-MODIFIED:20200422T071842Z
UID:115042-1588726800-1588813199@www.karate.ch
SUMMARY:ABGESAGT/ANNULÉ: Nationalkader Training Kumite U16/U18\,
DESCRIPTION:
URL:https://www.karate.ch/event/nationalkader-training-kumite-u16-u18-magglingen-12/
LOCATION:Magglingen\, Hauptstrasse 232\, BE\, 2532\, Schweiz
ATTACH;FMTTYPE=image/png:https://www.karate.ch/wp-content/uploads/absage_annule.png
END:VEVENT
BEGIN:VEVENT
DTSTART;VALUE=DATE:20200509
DTEND;VALUE=DATE:20200511
DTSTAMP:20260426T040005
CREATED:20200327T052332Z
LAST-MODIFIED:20200418T030312Z
UID:115066-1588986000-1589072399@www.karate.ch
SUMMARY:ABGESAGT/ANNULÉ: Kader Training\,
DESCRIPTION:
URL:https://www.karate.ch/event/abgesagt-annule-kader-training-muttenz/
LOCATION:Muttenz\, BS\, Schweiz
ATTACH;FMTTYPE=image/png:https://www.karate.ch/wp-content/uploads/absage_annule.png
END:VEVENT
BEGIN:VEVENT
DTSTART;VALUE=DATE:20200509
DTEND;VALUE=DATE:20200511
DTSTAMP:20260426T040005
CREATED:20200327T052406Z
LAST-MODIFIED:20200418T030356Z
UID:115126-1588986000-1589072399@www.karate.ch
SUMMARY:ABGESAGT/ANNULÉ: Kata Lehrgang\,
DESCRIPTION:
URL:https://www.karate.ch/event/abgesagt-annule-kata-lehrgang-arbon/
LOCATION:Arbon\, TG\, Schweiz
ATTACH;FMTTYPE=image/png:https://www.karate.ch/wp-content/uploads/absage_annule.png
END:VEVENT
BEGIN:VEVENT
DTSTART;VALUE=DATE:20200513
DTEND;VALUE=DATE:20200515
DTSTAMP:20260426T040005
CREATED:20200327T052217Z
LAST-MODIFIED:20200422T071950Z
UID:114929-1589331600-1589417999@www.karate.ch
SUMMARY:ABGESAGT/ANNULÉ: Nationalkader Training Kata Förderpool\,
DESCRIPTION:
URL:https://www.karate.ch/event/nationalkader-training-kata-foerderpool-biel-bienne-4/
LOCATION:Biel/Bienne
ATTACH;FMTTYPE=image/png:https://www.karate.ch/wp-content/uploads/absage_annule.png
END:VEVENT
BEGIN:VEVENT
DTSTART;VALUE=DATE:20200513
DTEND;VALUE=DATE:20200515
DTSTAMP:20260426T040005
CREATED:20200327T052234Z
LAST-MODIFIED:20200422T072039Z
UID:114962-1589331600-1589417999@www.karate.ch
SUMMARY:ABGESAGT/ANNULÉ: Nationalkader Training Team Kumite Herren\,
DESCRIPTION:
URL:https://www.karate.ch/event/nationalkader-training-team-kumite-herren-magglingen-23/
LOCATION:Magglingen\, Hauptstrasse 232\, BE\, 2532\, Schweiz
ATTACH;FMTTYPE=image/png:https://www.karate.ch/wp-content/uploads/absage_annule.png
END:VEVENT
BEGIN:VEVENT
DTSTART;VALUE=DATE:20200513
DTEND;VALUE=DATE:20200515
DTSTAMP:20260426T040005
CREATED:20200327T052307Z
LAST-MODIFIED:20200522T130840Z
UID:115020-1589331600-1589417999@www.karate.ch
SUMMARY:Nationalkader Training Kumite U21 (Zoom Training)
DESCRIPTION:
URL:https://www.karate.ch/event/nationalkader-training-kumite-u21-magglingen-12/
END:VEVENT
BEGIN:VEVENT
DTSTART;VALUE=DATE:20200515
DTEND;VALUE=DATE:20200517
DTSTAMP:20260426T040005
CREATED:20200327T052406Z
LAST-MODIFIED:20200418T030439Z
UID:115125-1589504400-1589590799@www.karate.ch
SUMMARY:ABGESAGT/ANNULÉ: Ippon Shobu Schiedsrichterkurs\,
DESCRIPTION:
URL:https://www.karate.ch/event/abgesagt-annule-ippon-shobu-schiedsrichterkurs-wettingen/
LOCATION:Wettingen\, Switzerland
ATTACH;FMTTYPE=image/png:https://www.karate.ch/wp-content/uploads/absage_annule.png
END:VEVENT
BEGIN:VEVENT
DTSTART;VALUE=DATE:20200515
DTEND;VALUE=DATE:20200519
DTSTAMP:20260426T040005
CREATED:20200327T052451Z
LAST-MODIFIED:20200418T031145Z
UID:115196-1589504400-1589763599@www.karate.ch
SUMMARY:ABGESAGT/ANNULÉ: Grundausbildung Leiterkurs BE 324-20-20 1. Teil d\,  (Meldeschluss 15.3.20)
DESCRIPTION:
URL:https://www.karate.ch/event/abgesagt-annule-grundausbildung-leiterkurs-be-324-20-20-1-teil-d-muerren-meldeschluss-15-3-20/
LOCATION:Mürren\, BE\, Schweiz
ATTACH;FMTTYPE=image/png:https://www.karate.ch/wp-content/uploads/absage_annule.png
END:VEVENT
BEGIN:VEVENT
DTSTART;VALUE=DATE:20200516
DTEND;VALUE=DATE:20200518
DTSTAMP:20260426T040005
CREATED:20200327T052346Z
LAST-MODIFIED:20200516T092638Z
UID:115088-1589590800-1589677199@www.karate.ch
SUMMARY:ABGESAGT/ANNULÉ: 2. Randori Stützpunkttraining\,
DESCRIPTION:
URL:https://www.karate.ch/event/2-randori-stuetzpunkttraining-liestal/
LOCATION:Liestal
ATTACH;FMTTYPE=image/png:https://www.karate.ch/wp-content/uploads/absage_annule.png
END:VEVENT
BEGIN:VEVENT
DTSTART;VALUE=DATE:20200516
DTEND;VALUE=DATE:20200518
DTSTAMP:20260426T040005
CREATED:20200327T052349Z
LAST-MODIFIED:20200329T070013Z
UID:115096-1589590800-1589677199@www.karate.ch
SUMMARY:Nationalkader Training Kata\,
DESCRIPTION:
URL:https://www.karate.ch/event/nationalkader-training-kata-biel-bienne-6/
LOCATION:Biel/Bienne
END:VEVENT
BEGIN:VEVENT
DTSTART;VALUE=DATE:20200516
DTEND;VALUE=DATE:20200518
DTSTAMP:20260426T040005
CREATED:20200327T052431Z
LAST-MODIFIED:20200329T070129Z
UID:115159-1589590800-1589677199@www.karate.ch
SUMMARY:KVR: Championnats Valaisans 2020
DESCRIPTION:
URL:https://www.karate.ch/event/kvr-championnats-valaisans-2020/
END:VEVENT
BEGIN:VEVENT
DTSTART;VALUE=DATE:20200516
DTEND;VALUE=DATE:20200518
DTSTAMP:20260426T040005
CREATED:20200327T052443Z
LAST-MODIFIED:20200329T070556Z
UID:115180-1589590800-1589677199@www.karate.ch
SUMMARY:Kumite Kader Training\,
DESCRIPTION:
URL:https://www.karate.ch/event/kumite-kader-training-schwamendingen-2/
LOCATION:Schwamendingen\, ZH\, Schweiz
END:VEVENT
BEGIN:VEVENT
DTSTART;VALUE=DATE:20200516
DTEND;VALUE=DATE:20200518
DTSTAMP:20260426T040005
CREATED:20200327T052502Z
LAST-MODIFIED:20200418T031311Z
UID:115217-1589590800-1589677199@www.karate.ch
SUMMARY:ABGESAGT/ANNULÉ: 46. Fujimura Cup - Swiss-Karate-Cup Ippon Shobu\,
DESCRIPTION:
URL:https://www.karate.ch/event/abgesagt-annule-46-fujimura-cup-swiss-karate-cup-ippon-shobu-wettingen/
LOCATION:Wettingen\, Switzerland
ATTACH;FMTTYPE=image/png:https://www.karate.ch/wp-content/uploads/absage_annule.png
END:VEVENT
BEGIN:VEVENT
DTSTART;VALUE=DATE:20200516
DTEND;VALUE=DATE:20200518
DTSTAMP:20260426T040005
CREATED:20200427T115338Z
LAST-MODIFIED:20200427T115338Z
UID:115795-1589590800-1589677199@www.karate.ch
SUMMARY:Digital SKR Zentraltraining
DESCRIPTION:
URL:https://www.karate.ch/event/digital-skr-zentraltraining-3/
END:VEVENT
BEGIN:VEVENT
DTSTART;VALUE=DATE:20200517
DTEND;VALUE=DATE:20200519
DTSTAMP:20260426T040005
CREATED:20200327T052337Z
LAST-MODIFIED:20200516T092810Z
UID:115074-1589677200-1589763599@www.karate.ch
SUMMARY:ABGESAGT/ANNULÉ: 2. Junior Karate League\,
DESCRIPTION:
URL:https://www.karate.ch/event/abgesagt-annule-2-junior-karate-league-winterthur/
LOCATION:Winterthur
ATTACH;FMTTYPE=image/png:https://www.karate.ch/wp-content/uploads/absage_annule.png
END:VEVENT
BEGIN:VEVENT
DTSTART;VALUE=DATE:20200517
DTEND;VALUE=DATE:20200519
DTSTAMP:20260426T040005
CREATED:20200327T052431Z
LAST-MODIFIED:20200329T070934Z
UID:115158-1589677200-1589763599@www.karate.ch
SUMMARY:KVR: Lehrgang mit Bernard Bilicky (9. Dan)\,
DESCRIPTION:
URL:https://www.karate.ch/event/kvr-lehrgang-mit-bernard-bilicky-9-dan-sion/
LOCATION:Sion\, VS\, Schweiz
END:VEVENT
BEGIN:VEVENT
DTSTART;VALUE=DATE:20200520
DTEND;VALUE=DATE:20200522
DTSTAMP:20260426T040005
CREATED:20200327T052234Z
LAST-MODIFIED:20200522T131225Z
UID:114961-1589936400-1590022799@www.karate.ch
SUMMARY:ABGESAGT/ANNULÉ: Nationalkader Training Team Kumite Herren
DESCRIPTION:
URL:https://www.karate.ch/event/nationalkader-training-team-kumite-herren-magglingen-22/
ATTACH;FMTTYPE=image/png:https://www.karate.ch/wp-content/uploads/absage_annule.png
END:VEVENT
BEGIN:VEVENT
DTSTART;VALUE=DATE:20200520
DTEND;VALUE=DATE:20200522
DTSTAMP:20260426T040005
CREATED:20200327T052256Z
LAST-MODIFIED:20200522T131431Z
UID:114999-1589936400-1590022799@www.karate.ch
SUMMARY:Nationalkader Training Kumite Elite (Zoom Training)
DESCRIPTION:
URL:https://www.karate.ch/event/nationalkader-training-kumite-elite-magglingen-11/
END:VEVENT
BEGIN:VEVENT
DTSTART;VALUE=DATE:20200520
DTEND;VALUE=DATE:20200522
DTSTAMP:20260426T040005
CREATED:20200327T052319Z
LAST-MODIFIED:20200511T112130Z
UID:115041-1589936400-1590022799@www.karate.ch
SUMMARY:Nationalkader Training Kumite U16/U18 (Zoom Training)
DESCRIPTION:
URL:https://www.karate.ch/event/nationalkader-training-kumite-u16-u18-magglingen-11/
END:VEVENT
BEGIN:VEVENT
DTSTART;VALUE=DATE:20200521
DTEND;VALUE=DATE:20200524
DTSTAMP:20260426T040005
CREATED:20200327T052341Z
LAST-MODIFIED:20200516T092921Z
UID:115081-1590022800-1590195599@www.karate.ch
SUMMARY:ABGESAGT/ANNULÉ: Lehrgang NUR für Dojoleiter/Assistenten über Auffahrt mit Richard Sensei\,
DESCRIPTION:
URL:https://www.karate.ch/event/lehrgang-nur-fuer-dojoleiter-assistenten-ueber-auffahrt-mit-richard-sensei-thun/
LOCATION:Thun\, BE\, Schweiz
ATTACH;FMTTYPE=image/png:https://www.karate.ch/wp-content/uploads/absage_annule.png
END:VEVENT
END:VCALENDAR