BEGIN:VCALENDAR
VERSION:2.0
PRODID:-//Swiss Karate Federation - ECPv6.15.20//NONSGML v1.0//EN
CALSCALE:GREGORIAN
METHOD:PUBLISH
X-WR-CALNAME:Swiss Karate Federation
X-ORIGINAL-URL:https://www.karate.ch
X-WR-CALDESC:Veranstaltungen für Swiss Karate Federation
REFRESH-INTERVAL;VALUE=DURATION:PT1H
X-Robots-Tag:noindex
X-PUBLISHED-TTL:PT1H
BEGIN:VTIMEZONE
TZID:Europe/Zurich
BEGIN:DAYLIGHT
TZOFFSETFROM:+0100
TZOFFSETTO:+0200
TZNAME:CEST
DTSTART:20190331T010000
END:DAYLIGHT
BEGIN:STANDARD
TZOFFSETFROM:+0200
TZOFFSETTO:+0100
TZNAME:CET
DTSTART:20191027T010000
END:STANDARD
BEGIN:DAYLIGHT
TZOFFSETFROM:+0100
TZOFFSETTO:+0200
TZNAME:CEST
DTSTART:20200329T010000
END:DAYLIGHT
BEGIN:STANDARD
TZOFFSETFROM:+0200
TZOFFSETTO:+0100
TZNAME:CET
DTSTART:20201025T010000
END:STANDARD
BEGIN:DAYLIGHT
TZOFFSETFROM:+0100
TZOFFSETTO:+0200
TZNAME:CEST
DTSTART:20210328T010000
END:DAYLIGHT
BEGIN:STANDARD
TZOFFSETFROM:+0200
TZOFFSETTO:+0100
TZNAME:CET
DTSTART:20211031T010000
END:STANDARD
END:VTIMEZONE
BEGIN:VEVENT
DTSTART;VALUE=DATE:20200529
DTEND;VALUE=DATE:20200603
DTSTAMP:20260426T022202
CREATED:20200327T052355Z
LAST-MODIFIED:20200418T031618Z
UID:115107-1590714000-1591059599@www.karate.ch
SUMMARY:ABGESAGT/ANNULÉ: U21 Randori\, (Punkteturnier)
DESCRIPTION:(neu provisorisch: 2.-4.10.2020)
URL:https://www.karate.ch/event/u21-randori-bad-waldmichelbach-ger-punkteturnier/
LOCATION:Bad Waldmichelbach\, Deutschland
ATTACH;FMTTYPE=image/png:https://www.karate.ch/wp-content/uploads/absage_annule.png
END:VEVENT
BEGIN:VEVENT
DTSTART;VALUE=DATE:20200530
DTEND;VALUE=DATE:20200603
DTSTAMP:20260426T022202
CREATED:20200327T052210Z
LAST-MODIFIED:20200418T031703Z
UID:114924-1590800400-1591059599@www.karate.ch
SUMMARY:ABGESAGT/ANNULÉ: Tomokai: Master Camp\,
DESCRIPTION:
URL:https://www.karate.ch/event/tomokai-master-camp-kriens/
LOCATION:Kriens\, Luzernerstrasse 82\, Kriens\, LU\, 6010\, Schweiz
ATTACH;FMTTYPE=image/png:https://www.karate.ch/wp-content/uploads/absage_annule.png
END:VEVENT
BEGIN:VEVENT
DTSTART;VALUE=DATE:20200530
DTEND;VALUE=DATE:20200603
DTSTAMP:20260426T022202
CREATED:20200327T052429Z
LAST-MODIFIED:20200329T083025Z
UID:115157-1590800400-1591059599@www.karate.ch
SUMMARY:Swiss Syoukenkai Goju-Ryu Karate Do: Pfingstlager\,
DESCRIPTION:
URL:https://www.karate.ch/event/swiss-syoukenkai-goju-ryu-karate-do-pfingstlager-hitzkirch/
LOCATION:Hitzkirch\, Schweiz
END:VEVENT
BEGIN:VEVENT
DTSTART;VALUE=DATE:20200603
DTEND;VALUE=DATE:20200605
DTSTAMP:20260426T022202
CREATED:20200327T052234Z
LAST-MODIFIED:20200522T131840Z
UID:114959-1591146000-1591232399@www.karate.ch
SUMMARY:ABGESAGT/ANNULÉ: Nationalkader Training Team Kumite Herren
DESCRIPTION:
URL:https://www.karate.ch/event/nationalkader-training-team-kumite-herren-magglingen-20/
ATTACH;FMTTYPE=image/png:https://www.karate.ch/wp-content/uploads/absage_annule.png
END:VEVENT
BEGIN:VEVENT
DTSTART;VALUE=DATE:20200603
DTEND;VALUE=DATE:20200605
DTSTAMP:20260426T022202
CREATED:20200327T052256Z
LAST-MODIFIED:20200522T131932Z
UID:114998-1591146000-1591232399@www.karate.ch
SUMMARY:Nationalkader Training Kumite Elite (Zoom Training)
DESCRIPTION:
URL:https://www.karate.ch/event/nationalkader-training-kumite-elite-magglingen-10/
END:VEVENT
BEGIN:VEVENT
DTSTART;VALUE=DATE:20200603
DTEND;VALUE=DATE:20200605
DTSTAMP:20260426T022202
CREATED:20200327T052318Z
LAST-MODIFIED:20200511T111807Z
UID:115040-1591146000-1591232399@www.karate.ch
SUMMARY:Nationalkader Training Kumite U16/U18 (Zoom Training)
DESCRIPTION:
URL:https://www.karate.ch/event/nationalkader-training-kumite-u16-u18-magglingen-10/
END:VEVENT
BEGIN:VEVENT
DTSTART;VALUE=DATE:20200605
DTEND;VALUE=DATE:20200609
DTSTAMP:20260426T022202
CREATED:20200327T052451Z
LAST-MODIFIED:20200418T031751Z
UID:115195-1591318800-1591577999@www.karate.ch
SUMMARY:ABGESAGT/ANNULÉ: Grundausbildung Leiterkurs BE 324-20-20 2. Teil d\,
DESCRIPTION:
URL:https://www.karate.ch/event/abgesagt-annule-grundausbildung-leiterkurs-be-324-20-20-2-teil-d-muerren/
LOCATION:Mürren\, BE\, Schweiz
ATTACH;FMTTYPE=image/png:https://www.karate.ch/wp-content/uploads/absage_annule.png
END:VEVENT
BEGIN:VEVENT
DTSTART;VALUE=DATE:20200606
DTEND;VALUE=DATE:20200608
DTSTAMP:20260426T022202
CREATED:20200327T052414Z
LAST-MODIFIED:20200516T093231Z
UID:115128-1591405200-1591491599@www.karate.ch
SUMMARY:ABGESAGT/ANNULÉ: Zentraltraining
DESCRIPTION:
URL:https://www.karate.ch/event/zentraltraining-lenzburg/
LOCATION:Lenzburg\, AG\, Schweiz
ATTACH;FMTTYPE=image/png:https://www.karate.ch/wp-content/uploads/absage_annule.png
END:VEVENT
BEGIN:VEVENT
DTSTART;VALUE=DATE:20200606
DTEND;VALUE=DATE:20200608
DTSTAMP:20260426T022202
CREATED:20200427T115206Z
LAST-MODIFIED:20200427T115206Z
UID:115791-1591405200-1591491599@www.karate.ch
SUMMARY:Digital SKR Zentraltraining
DESCRIPTION:
URL:https://www.karate.ch/event/digital-skr-zentraltraining/
END:VEVENT
BEGIN:VEVENT
DTSTART;VALUE=DATE:20200606
DTEND;VALUE=DATE:20200609
DTSTAMP:20260426T022202
CREATED:20200327T052510Z
LAST-MODIFIED:20200516T093315Z
UID:115228-1591405200-1591577999@www.karate.ch
SUMMARY:ABGESAGT/ANNULÉ: 2. Swiss Karate League\, Turnhallen Schützematt\,  (Punkteturnier)
DESCRIPTION:
URL:https://www.karate.ch/event/2-swiss-karate-league-turnhallen-schuetzematt-burgdorf-punkteturnier/
LOCATION:Burgdorf
ATTACH;FMTTYPE=image/png:https://www.karate.ch/wp-content/uploads/absage_annule.png
END:VEVENT
BEGIN:VEVENT
DTSTART;VALUE=DATE:20200607
DTEND;VALUE=DATE:20200609
DTSTAMP:20260426T022202
CREATED:20200327T052332Z
LAST-MODIFIED:20200516T093404Z
UID:115065-1591491600-1591577999@www.karate.ch
SUMMARY:ABGESAGT/ANNULÉ: Zentraltraining\,  (Prüfungen bis 1. Kyu)
DESCRIPTION:
URL:https://www.karate.ch/event/zentraltraining-bern-pruefungen-bis-1-kyu/
LOCATION:Bern
ATTACH;FMTTYPE=image/png:https://www.karate.ch/wp-content/uploads/absage_annule.png
END:VEVENT
BEGIN:VEVENT
DTSTART;VALUE=DATE:20200610
DTEND;VALUE=DATE:20200612
DTSTAMP:20260426T022202
CREATED:20200327T052211Z
LAST-MODIFIED:20200329T084736Z
UID:114927-1591750800-1591837199@www.karate.ch
SUMMARY:Nationalkader Training Kata Förderpool\,
DESCRIPTION:
URL:https://www.karate.ch/event/nationalkader-training-kata-foerderpool-biel-bienne-2/
LOCATION:Biel/Bienne
END:VEVENT
BEGIN:VEVENT
DTSTART;VALUE=DATE:20200610
DTEND;VALUE=DATE:20200612
DTSTAMP:20260426T022202
CREATED:20200327T052233Z
LAST-MODIFIED:20200522T132348Z
UID:114958-1591750800-1591837199@www.karate.ch
SUMMARY:ABGESAGT/ANNULÉ: Nationalkader Training Team Kumite Herren
DESCRIPTION:
URL:https://www.karate.ch/event/nationalkader-training-team-kumite-herren-magglingen-19/
ATTACH;FMTTYPE=image/png:https://www.karate.ch/wp-content/uploads/absage_annule.png
END:VEVENT
BEGIN:VEVENT
DTSTART;VALUE=DATE:20200610
DTEND;VALUE=DATE:20200612
DTSTAMP:20260426T022202
CREATED:20200327T052306Z
LAST-MODIFIED:20200522T132549Z
UID:115018-1591750800-1591837199@www.karate.ch
SUMMARY:Nationalkader Training Kumite U21 (Zoom Training)
DESCRIPTION:
URL:https://www.karate.ch/event/nationalkader-training-kumite-u21-magglingen-10/
END:VEVENT
BEGIN:VEVENT
DTSTART;VALUE=DATE:20200610
DTEND;VALUE=DATE:20200615
DTSTAMP:20260426T022202
CREATED:20200327T052248Z
LAST-MODIFIED:20200522T132437Z
UID:114984-1591750800-1592096399@www.karate.ch
SUMMARY:ABGESAGT/ANNULÉ: Nationalkader Training Olympiapool Kumite
DESCRIPTION:
URL:https://www.karate.ch/event/nationalkader-training-olympiapool-kumite/
ATTACH;FMTTYPE=image/png:https://www.karate.ch/wp-content/uploads/absage_annule.png
END:VEVENT
BEGIN:VEVENT
DTSTART;VALUE=DATE:20200613
DTEND;VALUE=DATE:20200615
DTSTAMP:20260426T022202
CREATED:20200327T052340Z
LAST-MODIFIED:20200516T093823Z
UID:115079-1592010000-1592096399@www.karate.ch
SUMMARY:ABGESAGT/ANNULÉ: Danprüfungen\,
DESCRIPTION:
URL:https://www.karate.ch/event/danpruefungen-thun-2/
LOCATION:Thun\, BE\, Schweiz
ATTACH;FMTTYPE=image/png:https://www.karate.ch/wp-content/uploads/absage_annule.png
END:VEVENT
BEGIN:VEVENT
DTSTART;VALUE=DATE:20200613
DTEND;VALUE=DATE:20200615
DTSTAMP:20260426T022202
CREATED:20200327T052349Z
LAST-MODIFIED:20200329T085313Z
UID:115095-1592010000-1592096399@www.karate.ch
SUMMARY:Nationalkader Training Kata\,
DESCRIPTION:
URL:https://www.karate.ch/event/nationalkader-training-kata-biel-bienne-5/
LOCATION:Biel/Bienne
END:VEVENT
BEGIN:VEVENT
DTSTART;VALUE=DATE:20200613
DTEND;VALUE=DATE:20200615
DTSTAMP:20260426T022202
CREATED:20200327T052405Z
LAST-MODIFIED:20200516T093915Z
UID:115124-1592010000-1592096399@www.karate.ch
SUMMARY:ABGESAGT/ANNULÉ: Trainermodul (Prüfungswesen)
DESCRIPTION:
URL:https://www.karate.ch/event/trainermodul-pruefungswesen/
ATTACH;FMTTYPE=image/png:https://www.karate.ch/wp-content/uploads/absage_annule.png
END:VEVENT
BEGIN:VEVENT
DTSTART;VALUE=DATE:20200613
DTEND;VALUE=DATE:20200615
DTSTAMP:20260426T022202
CREATED:20200406T115818Z
LAST-MODIFIED:20200418T032145Z
UID:115618-1592010000-1592096399@www.karate.ch
SUMMARY:ABGESAGT/ANNULÉ: Austrian Junior Open
DESCRIPTION:(neu am 07.11.2020)
URL:https://www.karate.ch/event/abgesagt-annule-austrian-junior-open/
LOCATION:Salzburg\, Austria
ATTACH;FMTTYPE=image/png:https://www.karate.ch/wp-content/uploads/absage_annule.png
END:VEVENT
BEGIN:VEVENT
DTSTART;VALUE=DATE:20200614
DTEND;VALUE=DATE:20200616
DTSTAMP:20260426T022202
CREATED:20200327T052405Z
LAST-MODIFIED:20200516T094016Z
UID:115123-1592096400-1592182799@www.karate.ch
SUMMARY:ABGESAGT/ANNULÉ: Ippon Shobu Schiedsrichterkurs\,
DESCRIPTION:
URL:https://www.karate.ch/event/ippon-shobu-schiedsrichterkurs-bern/
LOCATION:Bern
ATTACH;FMTTYPE=image/png:https://www.karate.ch/wp-content/uploads/absage_annule.png
END:VEVENT
BEGIN:VEVENT
DTSTART;VALUE=DATE:20200614
DTEND;VALUE=DATE:20200616
DTSTAMP:20260426T022202
CREATED:20200327T052507Z
LAST-MODIFIED:20200516T094107Z
UID:115224-1592096400-1592182799@www.karate.ch
SUMMARY:ABGESAGT/ANNULÉ: Schweizermeisterschaft Ippon Shobu (neu 2. Jahreshälfte)
DESCRIPTION:
URL:https://www.karate.ch/event/schweizermeisterschaft-ippon-shobu-bern/
LOCATION:Bern
ATTACH;FMTTYPE=image/png:https://www.karate.ch/wp-content/uploads/absage_annule.png
END:VEVENT
BEGIN:VEVENT
DTSTART;VALUE=DATE:20200617
DTEND;VALUE=DATE:20200619
DTSTAMP:20260426T022202
CREATED:20200327T052231Z
LAST-MODIFIED:20200522T132719Z
UID:114957-1592355600-1592441999@www.karate.ch
SUMMARY:ABGESAGT/ANNULÉ: Nationalkader Training Team Kumite Herren
DESCRIPTION:
URL:https://www.karate.ch/event/nationalkader-training-team-kumite-herren-magglingen-18/
ATTACH;FMTTYPE=image/png:https://www.karate.ch/wp-content/uploads/absage_annule.png
END:VEVENT
BEGIN:VEVENT
DTSTART;VALUE=DATE:20200617
DTEND;VALUE=DATE:20200619
DTSTAMP:20260426T022202
CREATED:20200327T052254Z
LAST-MODIFIED:20200522T132820Z
UID:114997-1592355600-1592441999@www.karate.ch
SUMMARY:Nationalkader Training Kumite Elite (Zoom Training)
DESCRIPTION:
URL:https://www.karate.ch/event/nationalkader-training-kumite-elite-magglingen-9/
END:VEVENT
BEGIN:VEVENT
DTSTART;VALUE=DATE:20200617
DTEND;VALUE=DATE:20200619
DTSTAMP:20260426T022202
CREATED:20200327T052318Z
LAST-MODIFIED:20200522T133016Z
UID:115039-1592355600-1592441999@www.karate.ch
SUMMARY:Nationalkader Training Kumite U16/U18 (Zoom Training)
DESCRIPTION:
URL:https://www.karate.ch/event/nationalkader-training-kumite-u16-u18-magglingen-9/
END:VEVENT
BEGIN:VEVENT
DTSTART;VALUE=DATE:20200619
DTEND;VALUE=DATE:20200623
DTSTAMP:20260426T022202
CREATED:20200327T052522Z
LAST-MODIFIED:20200418T032237Z
UID:115252-1592528400-1592787599@www.karate.ch
SUMMARY:ABGESAGT/ANNULÉ: Karate1 Series A -  (Punkteturnier)
DESCRIPTION:
URL:https://www.karate.ch/event/karate1-series-a-istanbul-tur-punkteturnier/
LOCATION:Istanbul\, Türkei
ATTACH;FMTTYPE=image/png:https://www.karate.ch/wp-content/uploads/absage_annule.png
END:VEVENT
BEGIN:VEVENT
DTSTART;VALUE=DATE:20200620
DTEND;VALUE=DATE:20200622
DTSTAMP:20260426T022202
CREATED:20200327T052403Z
LAST-MODIFIED:20200329T090336Z
UID:115122-1592614800-1592701199@www.karate.ch
SUMMARY:Sitzung Zentralvorstand\,
DESCRIPTION:
URL:https://www.karate.ch/event/sitzung-zentralvorstand-egerkingen/
LOCATION:Egerkingen\, Switzerland
END:VEVENT
BEGIN:VEVENT
DTSTART;VALUE=DATE:20200620
DTEND;VALUE=DATE:20200622
DTSTAMP:20260426T022202
CREATED:20200327T052513Z
LAST-MODIFIED:20200418T032327Z
UID:115236-1592614800-1592701199@www.karate.ch
SUMMARY:ABGESAGT/ANNULÉ: SKR: JKA Europacup\,
DESCRIPTION:
URL:https://www.karate.ch/event/abgesagt-annule-skr-jka-europacup-sursee/
LOCATION:Sursee\, Switzerland
ATTACH;FMTTYPE=image/png:https://www.karate.ch/wp-content/uploads/absage_annule.png
END:VEVENT
BEGIN:VEVENT
DTSTART;VALUE=DATE:20200624
DTEND;VALUE=DATE:20200626
DTSTAMP:20260426T022202
CREATED:20200327T052211Z
LAST-MODIFIED:20200329T090538Z
UID:114926-1592960400-1593046799@www.karate.ch
SUMMARY:Nationalkader Training Kata Förderpool\,
DESCRIPTION:
URL:https://www.karate.ch/event/nationalkader-training-kata-foerderpool-biel-bienne/
LOCATION:Biel/Bienne
END:VEVENT
BEGIN:VEVENT
DTSTART;VALUE=DATE:20200624
DTEND;VALUE=DATE:20200626
DTSTAMP:20260426T022202
CREATED:20200327T052231Z
LAST-MODIFIED:20200522T133215Z
UID:114956-1592960400-1593046799@www.karate.ch
SUMMARY:ABGESAGT/ANNULÉ: Nationalkader Training Team Kumite Herren
DESCRIPTION:
URL:https://www.karate.ch/event/nationalkader-training-team-kumite-herren-magglingen-17/
ATTACH;FMTTYPE=image/png:https://www.karate.ch/wp-content/uploads/absage_annule.png
END:VEVENT
BEGIN:VEVENT
DTSTART;VALUE=DATE:20200624
DTEND;VALUE=DATE:20200626
DTSTAMP:20260426T022202
CREATED:20200327T052304Z
LAST-MODIFIED:20200522T133335Z
UID:115017-1592960400-1593046799@www.karate.ch
SUMMARY:Nationalkader Training Kumite U21 (Zoom Training)
DESCRIPTION:
URL:https://www.karate.ch/event/nationalkader-training-kumite-u21-magglingen-9/
END:VEVENT
END:VCALENDAR