BEGIN:VCALENDAR
VERSION:2.0
PRODID:-//Swiss Karate Federation - ECPv6.15.20//NONSGML v1.0//EN
CALSCALE:GREGORIAN
METHOD:PUBLISH
X-WR-CALNAME:Swiss Karate Federation
X-ORIGINAL-URL:https://www.karate.ch
X-WR-CALDESC:Veranstaltungen für Swiss Karate Federation
REFRESH-INTERVAL;VALUE=DURATION:PT1H
X-Robots-Tag:noindex
X-PUBLISHED-TTL:PT1H
BEGIN:VTIMEZONE
TZID:Europe/Zurich
BEGIN:DAYLIGHT
TZOFFSETFROM:+0100
TZOFFSETTO:+0200
TZNAME:CEST
DTSTART:20190331T010000
END:DAYLIGHT
BEGIN:STANDARD
TZOFFSETFROM:+0200
TZOFFSETTO:+0100
TZNAME:CET
DTSTART:20191027T010000
END:STANDARD
BEGIN:DAYLIGHT
TZOFFSETFROM:+0100
TZOFFSETTO:+0200
TZNAME:CEST
DTSTART:20200329T010000
END:DAYLIGHT
BEGIN:STANDARD
TZOFFSETFROM:+0200
TZOFFSETTO:+0100
TZNAME:CET
DTSTART:20201025T010000
END:STANDARD
BEGIN:DAYLIGHT
TZOFFSETFROM:+0100
TZOFFSETTO:+0200
TZNAME:CEST
DTSTART:20210328T010000
END:DAYLIGHT
BEGIN:STANDARD
TZOFFSETFROM:+0200
TZOFFSETTO:+0100
TZNAME:CET
DTSTART:20211031T010000
END:STANDARD
END:VTIMEZONE
BEGIN:VEVENT
DTSTART;VALUE=DATE:20200629
DTEND;VALUE=DATE:20200704
DTSTAMP:20260426T010357
CREATED:20200327T052519Z
LAST-MODIFIED:20200516T094506Z
UID:115243-1593392400-1593737999@www.karate.ch
SUMMARY:ABGESAGT/ANNULÉ: WKF Youth Camp: Trainingslager für alle Nationalkader U16/U18/U21\,
DESCRIPTION:
URL:https://www.karate.ch/event/wkf-youth-camp-trainingslager-fuer-alle-nationalkader-u16-u18-u21-porec-cro/
LOCATION:Porec\, Croatia (Local Name: Hrvatska)
ATTACH;FMTTYPE=image/png:https://www.karate.ch/wp-content/uploads/absage_annule.png
END:VEVENT
BEGIN:VEVENT
DTSTART;VALUE=DATE:20200701
DTEND;VALUE=DATE:20200703
DTSTAMP:20260426T010357
CREATED:20200327T052231Z
LAST-MODIFIED:20200522T133512Z
UID:114955-1593565200-1593651599@www.karate.ch
SUMMARY:ABGESAGT/ANNULÉ: Nationalkader Training Team Kumite Herren
DESCRIPTION:
URL:https://www.karate.ch/event/nationalkader-training-team-kumite-herren-magglingen-16/
ATTACH;FMTTYPE=image/png:https://www.karate.ch/wp-content/uploads/absage_annule.png
END:VEVENT
BEGIN:VEVENT
DTSTART;VALUE=DATE:20200701
DTEND;VALUE=DATE:20200703
DTSTAMP:20260426T010357
CREATED:20200327T052254Z
LAST-MODIFIED:20200522T133619Z
UID:114996-1593565200-1593651599@www.karate.ch
SUMMARY:Nationalkader Training Kumite Elite (Zoom Training)
DESCRIPTION:
URL:https://www.karate.ch/event/nationalkader-training-kumite-elite-magglingen-8/
END:VEVENT
BEGIN:VEVENT
DTSTART;VALUE=DATE:20200701
DTEND;VALUE=DATE:20200703
DTSTAMP:20260426T010357
CREATED:20200327T052318Z
LAST-MODIFIED:20200522T133656Z
UID:115038-1593565200-1593651599@www.karate.ch
SUMMARY:Nationalkader Training Kumite U16/U18 (Zoom Training)
DESCRIPTION:
URL:https://www.karate.ch/event/nationalkader-training-kumite-u16-u18-magglingen-8/
END:VEVENT
BEGIN:VEVENT
DTSTART;VALUE=DATE:20200702
DTEND;VALUE=DATE:20200704
DTSTAMP:20260426T010357
CREATED:20200327T052355Z
LAST-MODIFIED:20200418T032521Z
UID:115106-1593651600-1593737999@www.karate.ch
SUMMARY:ABGESAGT/ANNULÉ: WKF U21 Cup\,  (Punkteturnier)
DESCRIPTION:
URL:https://www.karate.ch/event/wkf-u21-cup-porec-cro-punkteturnier/
LOCATION:Porec\, Croatia (Local Name: Hrvatska)
ATTACH;FMTTYPE=image/png:https://www.karate.ch/wp-content/uploads/absage_annule.png
END:VEVENT
BEGIN:VEVENT
DTSTART;VALUE=DATE:20200703
DTEND;VALUE=DATE:20200707
DTSTAMP:20260426T010357
CREATED:20200327T052519Z
LAST-MODIFIED:20200418T032603Z
UID:115244-1593738000-1593997199@www.karate.ch
SUMMARY:ABGESAGT/ANNULÉ: Karate1 Youth League -  (Punkteturnier)
DESCRIPTION:
URL:https://www.karate.ch/event/karate1-youth-league-porec-cro-punkteturnier/
LOCATION:Porec\, Croatia (Local Name: Hrvatska)
ATTACH;FMTTYPE=image/png:https://www.karate.ch/wp-content/uploads/absage_annule.png
END:VEVENT
BEGIN:VEVENT
DTSTART;VALUE=DATE:20200704
DTEND;VALUE=DATE:20200706
DTSTAMP:20260426T010357
CREATED:20200327T052403Z
LAST-MODIFIED:20200330T021516Z
UID:115121-1593824400-1593910799@www.karate.ch
SUMMARY:Dojoleiter- und Schiedsrichterkurs\, Juku-nen Prüfungen\, Zentraltraining\,
DESCRIPTION:
URL:https://www.karate.ch/event/dojoleiter-und-schiedsrichterkurs-juku-nen-pruefungen-zentraltraining-lenzburg/
LOCATION:Lenzburg\, AG\, Schweiz
END:VEVENT
BEGIN:VEVENT
DTSTART;VALUE=DATE:20200704
DTEND;VALUE=DATE:20200706
DTSTAMP:20260426T010357
CREATED:20200327T052433Z
LAST-MODIFIED:20200330T021631Z
UID:115163-1593824400-1593910799@www.karate.ch
SUMMARY:Swiss Syoukenkai Goju-Ryu Karate Do: Technischer Lehrgang & Danvorbereitungstraining\,
DESCRIPTION:
URL:https://www.karate.ch/event/swiss-syoukenkai-goju-ryu-karate-do-technischer-lehrgang-danvorbereitungstraining-schwamendingen-2/
LOCATION:Schwamendingen\, ZH\, Schweiz
END:VEVENT
BEGIN:VEVENT
DTSTART;VALUE=DATE:20200706
DTEND;VALUE=DATE:20200712
DTSTAMP:20260426T010357
CREATED:20200327T052423Z
LAST-MODIFIED:20200330T021820Z
UID:115144-1593997200-1594429199@www.karate.ch
SUMMARY:SSKF: Sommerlager\,
DESCRIPTION:
URL:https://www.karate.ch/event/sskf-sommerlager-locarno/
LOCATION:Locarno\, TI\, Schweiz
END:VEVENT
BEGIN:VEVENT
DTSTART;VALUE=DATE:20200710
DTEND;VALUE=DATE:20200712
DTSTAMP:20260426T010357
CREATED:20200327T052423Z
LAST-MODIFIED:20200330T021913Z
UID:115143-1594342800-1594429199@www.karate.ch
SUMMARY:SSKF: Dan-Prüfungen und Kyu-Prüfungen\,
DESCRIPTION:
URL:https://www.karate.ch/event/sskf-dan-pruefungen-und-kyu-pruefungen-locarno/
LOCATION:Locarno\, TI\, Schweiz
END:VEVENT
BEGIN:VEVENT
DTSTART;VALUE=DATE:20200715
DTEND;VALUE=DATE:20200719
DTSTAMP:20260426T010357
CREATED:20200327T052248Z
LAST-MODIFIED:20200522T133828Z
UID:114983-1594774800-1595033999@www.karate.ch
SUMMARY:ABGESAGT/ANNULÉ: Nationalkader Training Olympiapool Kumite
DESCRIPTION:
URL:https://www.karate.ch/event/nationalkader-training-olympiapool-kumite-magglingen-3/
ATTACH;FMTTYPE=image/png:https://www.karate.ch/wp-content/uploads/absage_annule.png
END:VEVENT
BEGIN:VEVENT
DTSTART;TZID=Europe/Zurich:20200715T150000
DTEND;TZID=Europe/Zurich:20200715T170000
DTSTAMP:20260426T010357
CREATED:20200715T121003Z
LAST-MODIFIED:20200715T122656Z
UID:117202-1594825200-1594832400@www.karate.ch
SUMMARY:SKF Kata Kader Förderpool
DESCRIPTION:
URL:https://www.karate.ch/event/skf-kata-kader-foerderpool/
LOCATION:Zen Shin DS 102\, Dufourstr. 102a\, 2502 Biel/Bienne
END:VEVENT
BEGIN:VEVENT
DTSTART;VALUE=DATE:20200722
DTEND;VALUE=DATE:20200726
DTSTAMP:20260426T010357
CREATED:20200327T052246Z
LAST-MODIFIED:20200522T134027Z
UID:114982-1595379600-1595638799@www.karate.ch
SUMMARY:ABGESAGT/ANNULÉ: Nationalkader Training Olympiapool Kumite
DESCRIPTION:
URL:https://www.karate.ch/event/nationalkader-training-olympiapool-kumite-magglingen-2/
ATTACH;FMTTYPE=image/png:https://www.karate.ch/wp-content/uploads/absage_annule.png
END:VEVENT
BEGIN:VEVENT
DTSTART;VALUE=DATE:20200729
DTEND;VALUE=DATE:20200802
DTSTAMP:20260426T010357
CREATED:20200327T052245Z
LAST-MODIFIED:20200522T133955Z
UID:114981-1595984400-1596243599@www.karate.ch
SUMMARY:ABGESAGT/ANNULÉ: Nationalkader Training Olympiapool Kumite
DESCRIPTION:
URL:https://www.karate.ch/event/nationalkader-training-olympiapool-kumite-magglingen/
ATTACH;FMTTYPE=image/png:https://www.karate.ch/wp-content/uploads/absage_annule.png
END:VEVENT
END:VCALENDAR