BEGIN:VCALENDAR
VERSION:2.0
PRODID:-//Swiss Karate Federation - ECPv6.15.20//NONSGML v1.0//EN
CALSCALE:GREGORIAN
METHOD:PUBLISH
X-ORIGINAL-URL:https://www.karate.ch
X-WR-CALDESC:Veranstaltungen für Swiss Karate Federation
REFRESH-INTERVAL;VALUE=DURATION:PT1H
X-Robots-Tag:noindex
X-PUBLISHED-TTL:PT1H
BEGIN:VTIMEZONE
TZID:Europe/Zurich
BEGIN:DAYLIGHT
TZOFFSETFROM:+0100
TZOFFSETTO:+0200
TZNAME:CEST
DTSTART:20190331T010000
END:DAYLIGHT
BEGIN:STANDARD
TZOFFSETFROM:+0200
TZOFFSETTO:+0100
TZNAME:CET
DTSTART:20191027T010000
END:STANDARD
BEGIN:DAYLIGHT
TZOFFSETFROM:+0100
TZOFFSETTO:+0200
TZNAME:CEST
DTSTART:20200329T010000
END:DAYLIGHT
BEGIN:STANDARD
TZOFFSETFROM:+0200
TZOFFSETTO:+0100
TZNAME:CET
DTSTART:20201025T010000
END:STANDARD
BEGIN:DAYLIGHT
TZOFFSETFROM:+0100
TZOFFSETTO:+0200
TZNAME:CEST
DTSTART:20210328T010000
END:DAYLIGHT
BEGIN:STANDARD
TZOFFSETFROM:+0200
TZOFFSETTO:+0100
TZNAME:CET
DTSTART:20211031T010000
END:STANDARD
END:VTIMEZONE
BEGIN:VEVENT
DTSTART;VALUE=DATE:20200902
DTEND;VALUE=DATE:20200904
DTSTAMP:20260425T220501
CREATED:20200327T052228Z
LAST-MODIFIED:20200330T024340Z
UID:114952-1599008400-1599094799@www.karate.ch
SUMMARY:Nationalkader Training Team Kumite Herren\,
DESCRIPTION:
URL:https://www.karate.ch/event/nationalkader-training-team-kumite-herren-magglingen-14/
LOCATION:Magglingen\, Hauptstrasse 232\, BE\, 2532\, Schweiz
END:VEVENT
BEGIN:VEVENT
DTSTART;VALUE=DATE:20200902
DTEND;VALUE=DATE:20200904
DTSTAMP:20260425T220501
CREATED:20200327T052304Z
LAST-MODIFIED:20200330T024430Z
UID:115015-1599008400-1599094799@www.karate.ch
SUMMARY:Nationalkader Training Kumite U21\,
DESCRIPTION:
URL:https://www.karate.ch/event/nationalkader-training-kumite-u21-magglingen-7/
LOCATION:Magglingen\, Hauptstrasse 232\, BE\, 2532\, Schweiz
END:VEVENT
BEGIN:VEVENT
DTSTART;VALUE=DATE:20200905
DTEND;VALUE=DATE:20200907
DTSTAMP:20260425T220501
CREATED:20200327T052459Z
LAST-MODIFIED:20200330T024733Z
UID:115211-1599267600-1599353999@www.karate.ch
SUMMARY:WB1 Modul Fortbildung Leiter SKF SKC 3/20 d\,  (Meldeschluss 25.7.20)
DESCRIPTION:
URL:https://www.karate.ch/event/wb1-modul-fortbildung-leiter-skf-skc-3-20-d-thun-meldeschluss-25-7-20/
LOCATION:Thun\, BE\, Schweiz
END:VEVENT
BEGIN:VEVENT
DTSTART;VALUE=DATE:20200905
DTEND;VALUE=DATE:20200907
DTSTAMP:20260425T220501
CREATED:20200327T052459Z
LAST-MODIFIED:20200330T024821Z
UID:115212-1599267600-1599353999@www.karate.ch
SUMMARY:WB1 Modul Fortbildung Leiter SKF SKC 2/20 d\,  (Meldeschluss 1.3.20)
DESCRIPTION:
URL:https://www.karate.ch/event/wb1-modul-fortbildung-leiter-skf-skc-2-20-d-thun-meldeschluss-1-3-20/
LOCATION:Thun\, BE\, Schweiz
END:VEVENT
BEGIN:VEVENT
DTSTART;VALUE=DATE:20200905
DTEND;VALUE=DATE:20200908
DTSTAMP:20260425T220501
CREATED:20200327T052403Z
LAST-MODIFIED:20200427T120437Z
UID:115120-1599267600-1599440399@www.karate.ch
SUMMARY:Jugend Zentraltraining und Zentraltraining\,
DESCRIPTION:
URL:https://www.karate.ch/event/jugend-zentraltraining-und-zentraltraining-lenzburg/
LOCATION:Lenzburg\, AG\, Schweiz
END:VEVENT
BEGIN:VEVENT
DTSTART;VALUE=DATE:20200905
DTEND;VALUE=DATE:20200908
DTSTAMP:20260425T220501
CREATED:20200327T052508Z
LAST-MODIFIED:20200522T134653Z
UID:115225-1599267600-1599440399@www.karate.ch
SUMMARY:ABGESAGT/ANNULÉ: 3. Swiss Karate League\, salle de la Riveraine\,  (Punkteturnier)
DESCRIPTION:
URL:https://www.karate.ch/event/3-swiss-karate-league-salle-de-la-riveraine-neuchatel-punkteturnier/
LOCATION:Neuchâtel\, Switzerland
ATTACH;FMTTYPE=image/png:https://www.karate.ch/wp-content/uploads/absage_annule.png
END:VEVENT
BEGIN:VEVENT
DTSTART;VALUE=DATE:20200906
DTEND;VALUE=DATE:20200908
DTSTAMP:20260425T220501
CREATED:20200327T052459Z
LAST-MODIFIED:20200330T025207Z
UID:115209-1599354000-1599440399@www.karate.ch
SUMMARY:WB1 Kindersport SKF 2/20 mit Hauptsportart Karate\, (Meldeschluss 25.7.20)
DESCRIPTION:
URL:https://www.karate.ch/event/wb1-kindersport-skf-2-20-mit-hauptsportart-karate-thun-meldeschluss-25-7-20/
LOCATION:Thun\, BE\, Schweiz
END:VEVENT
BEGIN:VEVENT
DTSTART;VALUE=DATE:20200909
DTEND;VALUE=DATE:20200911
DTSTAMP:20260425T220501
CREATED:20200327T052228Z
LAST-MODIFIED:20200330T025303Z
UID:114951-1599613200-1599699599@www.karate.ch
SUMMARY:Nationalkader Training Team Kumite Herren\,
DESCRIPTION:
URL:https://www.karate.ch/event/nationalkader-training-team-kumite-herren-magglingen-13/
LOCATION:Magglingen\, Hauptstrasse 232\, BE\, 2532\, Schweiz
END:VEVENT
BEGIN:VEVENT
DTSTART;VALUE=DATE:20200909
DTEND;VALUE=DATE:20200911
DTSTAMP:20260425T220501
CREATED:20200327T052253Z
LAST-MODIFIED:20200330T025354Z
UID:114994-1599613200-1599699599@www.karate.ch
SUMMARY:Nationalkader Training Kumite Elite\,
DESCRIPTION:
URL:https://www.karate.ch/event/nationalkader-training-kumite-elite-magglingen-7/
LOCATION:Magglingen\, Hauptstrasse 232\, BE\, 2532\, Schweiz
END:VEVENT
BEGIN:VEVENT
DTSTART;VALUE=DATE:20200909
DTEND;VALUE=DATE:20200911
DTSTAMP:20260425T220501
CREATED:20200327T052316Z
LAST-MODIFIED:20200330T025446Z
UID:115036-1599613200-1599699599@www.karate.ch
SUMMARY:Nationalkader Training Kumite U16/U18\,
DESCRIPTION:
URL:https://www.karate.ch/event/nationalkader-training-kumite-u16-u18-magglingen-7/
LOCATION:Magglingen\, Hauptstrasse 232\, BE\, 2532\, Schweiz
END:VEVENT
BEGIN:VEVENT
DTSTART;TZID=Europe/Zurich:20200909T150000
DTEND;TZID=Europe/Zurich:20200909T170000
DTSTAMP:20260425T220501
CREATED:20200715T121345Z
LAST-MODIFIED:20200715T122852Z
UID:117209-1599663600-1599670800@www.karate.ch
SUMMARY:SKF Kata Kader Förderpool
DESCRIPTION:
URL:https://www.karate.ch/event/skf-kata-kader-foerderpool-3/
LOCATION:Zen Shin DS 102\, Dufourstr. 102a\, 2502 Biel/Bienne
END:VEVENT
BEGIN:VEVENT
DTSTART;VALUE=DATE:20200911
DTEND;VALUE=DATE:20200915
DTSTAMP:20260425T220501
CREATED:20200327T052522Z
LAST-MODIFIED:20200522T134754Z
UID:115251-1599786000-1600045199@www.karate.ch
SUMMARY:ABGESAGT/ANNULÉ: Karate1 Series A -  (Punkteturnier)
DESCRIPTION:
URL:https://www.karate.ch/event/karate1-series-a-durban-zaf-punkteturnier/
LOCATION:Durban\, Südafrika
ATTACH;FMTTYPE=image/png:https://www.karate.ch/wp-content/uploads/absage_annule.png
END:VEVENT
BEGIN:VEVENT
DTSTART;VALUE=DATE:20200912
DTEND;VALUE=DATE:20200914
DTSTAMP:20260425T220501
CREATED:20200327T052426Z
LAST-MODIFIED:20200330T025810Z
UID:115150-1599872400-1599958799@www.karate.ch
SUMMARY:SSKF: Kader + Instruktorenkurs\,
DESCRIPTION:
URL:https://www.karate.ch/event/sskf-kader-instruktorenkurs-basel/
LOCATION:Basel\, Switzerland
END:VEVENT
BEGIN:VEVENT
DTSTART;VALUE=DATE:20200912
DTEND;VALUE=DATE:20200914
DTSTAMP:20260425T220501
CREATED:20200327T052431Z
LAST-MODIFIED:20200330T025910Z
UID:115162-1599872400-1599958799@www.karate.ch
SUMMARY:Swiss Syoukenkai Goju-Ryu Karate Do: Technischer Lehrgang & Danvorbereitungstraining\,
DESCRIPTION:
URL:https://www.karate.ch/event/swiss-syoukenkai-goju-ryu-karate-do-technischer-lehrgang-danvorbereitungstraining-schwamendingen/
LOCATION:Schwamendingen\, ZH\, Schweiz
END:VEVENT
BEGIN:VEVENT
DTSTART;VALUE=DATE:20200912
DTEND;VALUE=DATE:20200914
DTSTAMP:20260425T220501
CREATED:20200327T052442Z
LAST-MODIFIED:20200330T030015Z
UID:115179-1599872400-1599958799@www.karate.ch
SUMMARY:Kumite Kader Training\,
DESCRIPTION:
URL:https://www.karate.ch/event/kumite-kader-training-kreuzlingen-4/
LOCATION:Kreuzlingen\, TG\, Schweiz
END:VEVENT
BEGIN:VEVENT
DTSTART;VALUE=DATE:20200912
DTEND;VALUE=DATE:20200915
DTSTAMP:20260425T220501
CREATED:20200327T052508Z
LAST-MODIFIED:20200701T102216Z
UID:115226-1599872400-1600045199@www.karate.ch
SUMMARY:Small States European Championships\, Vaduz (LIE)
DESCRIPTION:
URL:https://www.karate.ch/event/small-states-european-championships-vaduz-lie/
LOCATION:Vaduz
ATTACH;FMTTYPE=image/png:https://www.karate.ch/wp-content/uploads/absage_annule.png
END:VEVENT
BEGIN:VEVENT
DTSTART;VALUE=DATE:20200916
DTEND;VALUE=DATE:20200918
DTSTAMP:20260425T220501
CREATED:20200327T052228Z
LAST-MODIFIED:20200330T030122Z
UID:114950-1600218000-1600304399@www.karate.ch
SUMMARY:Nationalkader Training Team Kumite Herren\,
DESCRIPTION:
URL:https://www.karate.ch/event/nationalkader-training-team-kumite-herren-magglingen-12/
LOCATION:Magglingen\, Hauptstrasse 232\, BE\, 2532\, Schweiz
END:VEVENT
BEGIN:VEVENT
DTSTART;VALUE=DATE:20200916
DTEND;VALUE=DATE:20200918
DTSTAMP:20260425T220501
CREATED:20200327T052304Z
LAST-MODIFIED:20200330T030206Z
UID:115014-1600218000-1600304399@www.karate.ch
SUMMARY:Nationalkader Training Kumite U21\,
DESCRIPTION:
URL:https://www.karate.ch/event/nationalkader-training-kumite-u21-magglingen-6/
LOCATION:Magglingen\, Hauptstrasse 232\, BE\, 2532\, Schweiz
END:VEVENT
BEGIN:VEVENT
DTSTART;VALUE=DATE:20200918
DTEND;VALUE=DATE:20200921
DTSTAMP:20260425T220501
CREATED:20200327T052508Z
LAST-MODIFIED:20200701T092657Z
UID:115227-1600390800-1600563599@www.karate.ch
SUMMARY:Lion Cup\,  (Punkteturnier)
DESCRIPTION:
URL:https://www.karate.ch/event/lion-cup-luxembourg-lux-punkteturnier/
LOCATION:Luxembourg\, Luxembourg
ATTACH;FMTTYPE=image/png:https://www.karate.ch/wp-content/uploads/absage_annule.png
END:VEVENT
BEGIN:VEVENT
DTSTART;VALUE=DATE:20200919
DTEND;VALUE=DATE:20200921
DTSTAMP:20260425T220501
CREATED:20200701T091419Z
LAST-MODIFIED:20200814T072653Z
UID:117121-1600477200-1600563599@www.karate.ch
SUMMARY:Eurocup (Punkteturnier) KEINE Teilnahme Nationalkader SKF!!
DESCRIPTION:
URL:https://www.karate.ch/event/eurocup-punkteturnier/
LOCATION:Maria Alm (AUT)\, Österreich
END:VEVENT
BEGIN:VEVENT
DTSTART;VALUE=DATE:20200923
DTEND;VALUE=DATE:20200925
DTSTAMP:20260425T220501
CREATED:20200327T052228Z
LAST-MODIFIED:20200330T030255Z
UID:114949-1600822800-1600909199@www.karate.ch
SUMMARY:Nationalkader Training Team Kumite Herren\,
DESCRIPTION:
URL:https://www.karate.ch/event/nationalkader-training-team-kumite-herren-magglingen-11/
LOCATION:Magglingen\, Hauptstrasse 232\, BE\, 2532\, Schweiz
END:VEVENT
BEGIN:VEVENT
DTSTART;VALUE=DATE:20200923
DTEND;VALUE=DATE:20200925
DTSTAMP:20260425T220501
CREATED:20200327T052253Z
LAST-MODIFIED:20200330T030722Z
UID:114993-1600822800-1600909199@www.karate.ch
SUMMARY:Nationalkader Training Kumite Elite\,
DESCRIPTION:
URL:https://www.karate.ch/event/nationalkader-training-kumite-elite-magglingen-6/
LOCATION:Magglingen\, Hauptstrasse 232\, BE\, 2532\, Schweiz
END:VEVENT
BEGIN:VEVENT
DTSTART;VALUE=DATE:20200923
DTEND;VALUE=DATE:20200925
DTSTAMP:20260425T220501
CREATED:20200327T052315Z
LAST-MODIFIED:20200330T030833Z
UID:115035-1600822800-1600909199@www.karate.ch
SUMMARY:Nationalkader Training Kumite U16/U18\,
DESCRIPTION:
URL:https://www.karate.ch/event/nationalkader-training-kumite-u16-u18-magglingen-6/
LOCATION:Magglingen\, Hauptstrasse 232\, BE\, 2532\, Schweiz
END:VEVENT
BEGIN:VEVENT
DTSTART;VALUE=DATE:20200925
DTEND;VALUE=DATE:20200929
DTSTAMP:20260425T220501
CREATED:20200327T052516Z
LAST-MODIFIED:20200701T092459Z
UID:115242-1600995600-1601254799@www.karate.ch
SUMMARY:Karate1 Youth League -  (Punkteturnier)
DESCRIPTION:
URL:https://www.karate.ch/event/karate1-youth-league-monterrey-mex-punkteturnier/
LOCATION:Monterrey\, Mexiko
ATTACH;FMTTYPE=image/png:https://www.karate.ch/wp-content/uploads/absage_annule.png
END:VEVENT
BEGIN:VEVENT
DTSTART;TZID=Europe/Zurich:20200926T000000
DTEND;TZID=Europe/Zurich:20200926T000000
DTSTAMP:20260425T220501
CREATED:20200327T052403Z
LAST-MODIFIED:20200330T031210Z
UID:115119-1601078400-1601078400@www.karate.ch
SUMMARY:Ippon Shobu Schiedsrichterkurs\,
DESCRIPTION:
URL:https://www.karate.ch/event/ippon-shobu-schiedsrichterkurs-reiden-3/
LOCATION:Reiden\, LU\, Schweiz
END:VEVENT
BEGIN:VEVENT
DTSTART;TZID=Europe/Zurich:20200926T000000
DTEND;TZID=Europe/Zurich:20200926T000000
DTSTAMP:20260425T220501
CREATED:20200327T052421Z
LAST-MODIFIED:20200914T150543Z
UID:115142-1601078400-1601078400@www.karate.ch
SUMMARY:Provisorisch: NCK - Nationale Coachausbildung
DESCRIPTION:
URL:https://www.karate.ch/event/provisorisch-nck-nationale-coachausbildung/
ATTACH;FMTTYPE=image/png:https://www.karate.ch/wp-content/uploads/absage_annule.png
END:VEVENT
BEGIN:VEVENT
DTSTART;VALUE=DATE:20200926
DTEND;VALUE=DATE:20200928
DTSTAMP:20260425T220501
CREATED:20200327T052329Z
LAST-MODIFIED:20200330T031112Z
UID:115059-1601082000-1601168399@www.karate.ch
SUMMARY:Kader Training\,
DESCRIPTION:
URL:https://www.karate.ch/event/kader-training-reiden/
LOCATION:Reiden\, LU\, Schweiz
END:VEVENT
BEGIN:VEVENT
DTSTART;VALUE=DATE:20200926
DTEND;VALUE=DATE:20200928
DTSTAMP:20260425T220501
CREATED:20200327T052426Z
LAST-MODIFIED:20200330T031317Z
UID:115149-1601082000-1601168399@www.karate.ch
SUMMARY:KVR: Lehrgang mit Dominique Valera (9. Dan)\,
DESCRIPTION:
URL:https://www.karate.ch/event/kvr-lehrgang-mit-dominique-valera-9-dan-sion/
LOCATION:Sion\, VS\, Schweiz
END:VEVENT
BEGIN:VEVENT
DTSTART;VALUE=DATE:20200926
DTEND;VALUE=DATE:20200928
DTSTAMP:20260425T220501
CREATED:20200327T052456Z
LAST-MODIFIED:20200330T031513Z
UID:115204-1601082000-1601168399@www.karate.ch
SUMMARY:WB1 Modul Fortbildung Leiter\, GR 505/20 d\, (Meldeschluss 26.7.20)
DESCRIPTION:
URL:https://www.karate.ch/event/wb1-modul-fortbildung-leiter-gr-505-20-d-cazis-meldeschluss-26-7-20/
LOCATION:Cazis\, GR\, Schweiz
END:VEVENT
BEGIN:VEVENT
DTSTART;VALUE=DATE:20200926
DTEND;VALUE=DATE:20200929
DTSTAMP:20260425T220501
CREATED:20200327T052445Z
LAST-MODIFIED:20200814T205936Z
UID:115185-1601082000-1601254799@www.karate.ch
SUMMARY:SSKF: Basel Open Masters\,
DESCRIPTION:
URL:https://www.karate.ch/event/sskf-basel-open-masters-basel/
LOCATION:Basel\, Switzerland
ATTACH;FMTTYPE=image/png:https://www.karate.ch/wp-content/uploads/absage_annule.png
END:VEVENT
END:VCALENDAR