BEGIN:VCALENDAR
VERSION:2.0
PRODID:-//Swiss Karate Federation - ECPv6.15.20//NONSGML v1.0//EN
CALSCALE:GREGORIAN
METHOD:PUBLISH
X-WR-CALNAME:Swiss Karate Federation
X-ORIGINAL-URL:https://www.karate.ch
X-WR-CALDESC:Veranstaltungen für Swiss Karate Federation
REFRESH-INTERVAL;VALUE=DURATION:PT1H
X-Robots-Tag:noindex
X-PUBLISHED-TTL:PT1H
BEGIN:VTIMEZONE
TZID:Europe/Zurich
BEGIN:DAYLIGHT
TZOFFSETFROM:+0100
TZOFFSETTO:+0200
TZNAME:CEST
DTSTART:20190331T010000
END:DAYLIGHT
BEGIN:STANDARD
TZOFFSETFROM:+0200
TZOFFSETTO:+0100
TZNAME:CET
DTSTART:20191027T010000
END:STANDARD
BEGIN:DAYLIGHT
TZOFFSETFROM:+0100
TZOFFSETTO:+0200
TZNAME:CEST
DTSTART:20200329T010000
END:DAYLIGHT
BEGIN:STANDARD
TZOFFSETFROM:+0200
TZOFFSETTO:+0100
TZNAME:CET
DTSTART:20201025T010000
END:STANDARD
BEGIN:DAYLIGHT
TZOFFSETFROM:+0100
TZOFFSETTO:+0200
TZNAME:CEST
DTSTART:20210328T010000
END:DAYLIGHT
BEGIN:STANDARD
TZOFFSETFROM:+0200
TZOFFSETTO:+0100
TZNAME:CET
DTSTART:20211031T010000
END:STANDARD
END:VTIMEZONE
BEGIN:VEVENT
DTSTART;TZID=Europe/Zurich:20201002T000000
DTEND;TZID=Europe/Zurich:20201002T000000
DTSTAMP:20260425T203428
CREATED:20200327T052403Z
LAST-MODIFIED:20200427T120540Z
UID:115118-1601596800-1601596800@www.karate.ch
SUMMARY:Vorstand-Sitzung
DESCRIPTION:
URL:https://www.karate.ch/event/vorstand-sitzung/
END:VEVENT
BEGIN:VEVENT
DTSTART;VALUE=DATE:20201002
DTEND;VALUE=DATE:20201006
DTSTAMP:20260425T203428
CREATED:20200327T052519Z
LAST-MODIFIED:20200726T073755Z
UID:115246-1601600400-1601859599@www.karate.ch
SUMMARY:Karate1 Premier League -  (Punkteturnier)
DESCRIPTION:
URL:https://www.karate.ch/event/karate1-premier-league-moscow-rus-punkteturnier/
LOCATION:Moskau\, Russland / Russische Föderation
ATTACH;FMTTYPE=image/png:https://www.karate.ch/wp-content/uploads/absage_annule.png
END:VEVENT
BEGIN:VEVENT
DTSTART;VALUE=DATE:20201002
DTEND;VALUE=DATE:20201006
DTSTAMP:20260425T203428
CREATED:20200701T102112Z
LAST-MODIFIED:20200814T205839Z
UID:117127-1601600400-1601859599@www.karate.ch
SUMMARY:Prov. U21 Randori\, Bad Waldmichelbach (GER)
DESCRIPTION:
URL:https://www.karate.ch/event/prov-u21-randori-bad-waldmichelbach-ger/
LOCATION:Bad Waldmichelbach\, Deutschland
ATTACH;FMTTYPE=image/png:https://www.karate.ch/wp-content/uploads/absage_annule.png
END:VEVENT
BEGIN:VEVENT
DTSTART;VALUE=DATE:20201003
DTEND;VALUE=DATE:20201005
DTSTAMP:20260425T203428
CREATED:20200327T052344Z
LAST-MODIFIED:20200330T032334Z
UID:115086-1601686800-1601773199@www.karate.ch
SUMMARY:4. Randori Stützpunkttraining\,
DESCRIPTION:
URL:https://www.karate.ch/event/4-randori-stuetzpunkttraining-sursee/
LOCATION:Sursee\, Switzerland
END:VEVENT
BEGIN:VEVENT
DTSTART;VALUE=DATE:20201003
DTEND;VALUE=DATE:20201005
DTSTAMP:20260425T203428
CREATED:20200327T052401Z
LAST-MODIFIED:20200427T120704Z
UID:115117-1601686800-1601773199@www.karate.ch
SUMMARY:SKR Herbst Gasshuku
DESCRIPTION:
URL:https://www.karate.ch/event/zentraltraining-inkl-vertiefungsmodul-skr-trainer-lenzburg/
LOCATION:Lenzburg\, AG\, Schweiz
END:VEVENT
BEGIN:VEVENT
DTSTART;VALUE=DATE:20201007
DTEND;VALUE=DATE:20201009
DTSTAMP:20260425T203428
CREATED:20200327T052226Z
LAST-MODIFIED:20200330T032529Z
UID:114947-1602032400-1602118799@www.karate.ch
SUMMARY:Nationalkader Training Team Kumite Herren\,
DESCRIPTION:
URL:https://www.karate.ch/event/nationalkader-training-team-kumite-herren-magglingen-9/
LOCATION:Magglingen\, Hauptstrasse 232\, BE\, 2532\, Schweiz
END:VEVENT
BEGIN:VEVENT
DTSTART;VALUE=DATE:20201007
DTEND;VALUE=DATE:20201009
DTSTAMP:20260425T203428
CREATED:20200327T052251Z
LAST-MODIFIED:20200330T032617Z
UID:114992-1602032400-1602118799@www.karate.ch
SUMMARY:Nationalkader Training Kumite Elite\,
DESCRIPTION:
URL:https://www.karate.ch/event/nationalkader-training-kumite-elite-magglingen-5/
LOCATION:Magglingen\, Hauptstrasse 232\, BE\, 2532\, Schweiz
END:VEVENT
BEGIN:VEVENT
DTSTART;VALUE=DATE:20201007
DTEND;VALUE=DATE:20201009
DTSTAMP:20260425T203428
CREATED:20200327T052315Z
LAST-MODIFIED:20200330T032702Z
UID:115034-1602032400-1602118799@www.karate.ch
SUMMARY:Nationalkader Training Kumite U16/U18\,
DESCRIPTION:
URL:https://www.karate.ch/event/nationalkader-training-kumite-u16-u18-magglingen-5/
LOCATION:Magglingen\, Hauptstrasse 232\, BE\, 2532\, Schweiz
END:VEVENT
BEGIN:VEVENT
DTSTART;TZID=Europe/Zurich:20201010T000000
DTEND;TZID=Europe/Zurich:20201010T000000
DTSTAMP:20260425T203428
CREATED:20200327T052400Z
LAST-MODIFIED:20200522T134855Z
UID:115116-1602288000-1602288000@www.karate.ch
SUMMARY:ABGESAGT/ANNULÉ: Trainermodul (Turnierwesen)
DESCRIPTION:
URL:https://www.karate.ch/event/trainermodul-turnierwesen/
ATTACH;FMTTYPE=image/png:https://www.karate.ch/wp-content/uploads/absage_annule.png
END:VEVENT
BEGIN:VEVENT
DTSTART;VALUE=DATE:20201010
DTEND;VALUE=DATE:20201012
DTSTAMP:20260425T203428
CREATED:20200327T052329Z
LAST-MODIFIED:20200330T032814Z
UID:115058-1602291600-1602377999@www.karate.ch
SUMMARY:Kader Training\, (Selektionierte JKA und ESKA)
DESCRIPTION:
URL:https://www.karate.ch/event/kader-training-muttenz-selektionierte-jka-und-eska/
LOCATION:Muttenz\, BS\, Schweiz
END:VEVENT
BEGIN:VEVENT
DTSTART;VALUE=DATE:20201010
DTEND;VALUE=DATE:20201012
DTSTAMP:20260425T203428
CREATED:20200327T052347Z
LAST-MODIFIED:20200330T032910Z
UID:115092-1602291600-1602377999@www.karate.ch
SUMMARY:Nationalkader Training Kata\,
DESCRIPTION:
URL:https://www.karate.ch/event/nationalkader-training-kata-biel-bienne-2/
LOCATION:Biel/Bienne
END:VEVENT
BEGIN:VEVENT
DTSTART;VALUE=DATE:20201010
DTEND;VALUE=DATE:20201013
DTSTAMP:20260425T203428
CREATED:20200327T052502Z
LAST-MODIFIED:20200815T071230Z
UID:115215-1602291600-1602464399@www.karate.ch
SUMMARY:Euro Grand Prix\,  (Punkteturnier)
DESCRIPTION:
URL:https://www.karate.ch/event/euro-grand-prix-pilsen-cze-punkteturnier/
LOCATION:Pilsen
ATTACH;FMTTYPE=image/png:https://www.karate.ch/wp-content/uploads/absage_annule.png
END:VEVENT
BEGIN:VEVENT
DTSTART;VALUE=DATE:20201014
DTEND;VALUE=DATE:20201016
DTSTAMP:20260425T203428
CREATED:20200327T052226Z
LAST-MODIFIED:20200330T033040Z
UID:114946-1602637200-1602723599@www.karate.ch
SUMMARY:Nationalkader Training Team Kumite Herren\,
DESCRIPTION:
URL:https://www.karate.ch/event/nationalkader-training-team-kumite-herren-magglingen-8/
LOCATION:Magglingen\, Hauptstrasse 232\, BE\, 2532\, Schweiz
END:VEVENT
BEGIN:VEVENT
DTSTART;VALUE=DATE:20201014
DTEND;VALUE=DATE:20201016
DTSTAMP:20260425T203428
CREATED:20200327T052302Z
LAST-MODIFIED:20200330T033329Z
UID:115012-1602637200-1602723599@www.karate.ch
SUMMARY:Nationalkader Training Kumite U21\,
DESCRIPTION:
URL:https://www.karate.ch/event/nationalkader-training-kumite-u21-magglingen-4/
LOCATION:Magglingen\, Hauptstrasse 232\, BE\, 2532\, Schweiz
END:VEVENT
BEGIN:VEVENT
DTSTART;TZID=Europe/Zurich:20201014T150000
DTEND;TZID=Europe/Zurich:20201014T170000
DTSTAMP:20260425T203428
CREATED:20200715T121528Z
LAST-MODIFIED:20200715T121528Z
UID:117214-1602687600-1602694800@www.karate.ch
SUMMARY:SKF Kata Kader Förderpool
DESCRIPTION:
URL:https://www.karate.ch/event/skf-kata-kader-foerderpool-4/
LOCATION:Zen Shin DS 102\, Dufourstr. 102a\, 2502 Biel/Bienne
END:VEVENT
BEGIN:VEVENT
DTSTART;VALUE=DATE:20201016
DTEND;VALUE=DATE:20201020
DTSTAMP:20260425T203428
CREATED:20200327T052451Z
LAST-MODIFIED:20200330T033551Z
UID:115194-1602810000-1603069199@www.karate.ch
SUMMARY:Grundausbildung Leiterkurs SG 331-01.20 1. Teil d\, (Meldeschluss 16.8.20)
DESCRIPTION:
URL:https://www.karate.ch/event/grundausbildung-leiterkurs-sg-331-01-20-1-teil-d-widnau-meldeschluss-16-8-20/
LOCATION:Widnau\, SG\, Schweiz
END:VEVENT
BEGIN:VEVENT
DTSTART;VALUE=DATE:20201017
DTEND;VALUE=DATE:20201019
DTSTAMP:20260425T203428
CREATED:20200327T052448Z
LAST-MODIFIED:20200330T033653Z
UID:115189-1602896400-1602982799@www.karate.ch
SUMMARY:Talent Sichtungstag 2\, Sportanlage Bitzius\,
DESCRIPTION:
URL:https://www.karate.ch/event/talent-sichtungstag-2-sportanlage-bitzius-bern/
LOCATION:Bern
END:VEVENT
BEGIN:VEVENT
DTSTART;VALUE=DATE:20201018
DTEND;VALUE=DATE:20201103
DTSTAMP:20260425T203428
CREATED:20200327T052327Z
LAST-MODIFIED:20200422T072248Z
UID:115057-1602982800-1604278799@www.karate.ch
SUMMARY:ABGESAGT/ANNULÉ: Japanreise inkl JKA Weltcup\,
DESCRIPTION:
URL:https://www.karate.ch/event/japanreise-inkl-jka-weltcup-tokio-jpn/
LOCATION:Tokyo\, Japan
ATTACH;FMTTYPE=image/png:https://www.karate.ch/wp-content/uploads/absage_annule.png
END:VEVENT
BEGIN:VEVENT
DTSTART;VALUE=DATE:20201021
DTEND;VALUE=DATE:20201023
DTSTAMP:20260425T203428
CREATED:20200327T052225Z
LAST-MODIFIED:20200330T033957Z
UID:114945-1603242000-1603328399@www.karate.ch
SUMMARY:Nationalkader Training Team Kumite Herren\,
DESCRIPTION:
URL:https://www.karate.ch/event/nationalkader-training-team-kumite-herren-magglingen-7/
LOCATION:Magglingen\, Hauptstrasse 232\, BE\, 2532\, Schweiz
END:VEVENT
BEGIN:VEVENT
DTSTART;VALUE=DATE:20201021
DTEND;VALUE=DATE:20201023
DTSTAMP:20260425T203428
CREATED:20200327T052251Z
LAST-MODIFIED:20200330T034047Z
UID:114991-1603242000-1603328399@www.karate.ch
SUMMARY:Nationalkader Training Kumite Elite\,
DESCRIPTION:
URL:https://www.karate.ch/event/nationalkader-training-kumite-elite-magglingen-4/
LOCATION:Magglingen\, Hauptstrasse 232\, BE\, 2532\, Schweiz
END:VEVENT
BEGIN:VEVENT
DTSTART;VALUE=DATE:20201021
DTEND;VALUE=DATE:20201023
DTSTAMP:20260425T203428
CREATED:20200327T052315Z
LAST-MODIFIED:20200330T034201Z
UID:115033-1603242000-1603328399@www.karate.ch
SUMMARY:Nationalkader Training Kumite U16/U18\,
DESCRIPTION:
URL:https://www.karate.ch/event/nationalkader-training-kumite-u16-u18-magglingen-4/
LOCATION:Magglingen\, Hauptstrasse 232\, BE\, 2532\, Schweiz
END:VEVENT
BEGIN:VEVENT
DTSTART;VALUE=DATE:20201023
DTEND;VALUE=DATE:20201025
DTSTAMP:20260425T203428
CREATED:20200327T052423Z
LAST-MODIFIED:20200330T034342Z
UID:115146-1603414800-1603501199@www.karate.ch
SUMMARY:Modul Fortbildung esa MF 2/2020\, (Meldeschluss 20.9.20)
DESCRIPTION:
URL:https://www.karate.ch/event/modul-fortbildung-esa-mf-2-2020-fehraltorf-meldeschluss-20-9-20/
LOCATION:Fehraltdorf\, ZH\, Schweiz
END:VEVENT
BEGIN:VEVENT
DTSTART;VALUE=DATE:20201023
DTEND;VALUE=DATE:20201027
DTSTAMP:20260425T203428
CREATED:20200327T052353Z
LAST-MODIFIED:20200422T072759Z
UID:115102-1603414800-1603673999@www.karate.ch
SUMMARY:ABGESAGT/ANNULÉ: JKA-Weltcup\, Tokyo (JPN)
DESCRIPTION:
URL:https://www.karate.ch/event/jka-weltcup-tokyo-jpn/
ATTACH;FMTTYPE=image/png:https://www.karate.ch/wp-content/uploads/absage_annule.png
END:VEVENT
BEGIN:VEVENT
DTSTART;VALUE=DATE:20201024
DTEND;VALUE=DATE:20201027
DTSTAMP:20260425T203428
CREATED:20200327T052502Z
LAST-MODIFIED:20200522T135008Z
UID:115214-1603501200-1603673999@www.karate.ch
SUMMARY:ABGESAGT/ANNULÉ: Schweizermeisterschaften Shobu\, AArfit-Halle\, (Punkteturnier)
DESCRIPTION:
URL:https://www.karate.ch/event/schweizermeisterschaften-shobu-aarfit-halle-aarberg-punkteturnier/
LOCATION:Aarberg\, BE\, Schweiz
ATTACH;FMTTYPE=image/png:https://www.karate.ch/wp-content/uploads/absage_annule.png
END:VEVENT
BEGIN:VEVENT
DTSTART;VALUE=DATE:20201025
DTEND;VALUE=DATE:20201027
DTSTAMP:20260425T203428
CREATED:20200327T052423Z
LAST-MODIFIED:20200522T135050Z
UID:115147-1603587600-1603673999@www.karate.ch
SUMMARY:ABGESAGT/ANNULÉ: 50 Jahre SKF Ehrungen Sport\, AArfit-Halle\,
DESCRIPTION:
URL:https://www.karate.ch/event/50-jahre-skf-ehrungen-sport-aarfit-halle-aarberg/
LOCATION:Aarberg\, BE\, Schweiz
ATTACH;FMTTYPE=image/png:https://www.karate.ch/wp-content/uploads/absage_annule.png
END:VEVENT
BEGIN:VEVENT
DTSTART;VALUE=DATE:20201028
DTEND;VALUE=DATE:20201030
DTSTAMP:20260425T203428
CREATED:20200327T052225Z
LAST-MODIFIED:20200330T034656Z
UID:114944-1603846800-1603933199@www.karate.ch
SUMMARY:Nationalkader Training Team Kumite Herren\,
DESCRIPTION:
URL:https://www.karate.ch/event/nationalkader-training-team-kumite-herren-magglingen-6/
LOCATION:Magglingen\, Hauptstrasse 232\, BE\, 2532\, Schweiz
END:VEVENT
BEGIN:VEVENT
DTSTART;VALUE=DATE:20201028
DTEND;VALUE=DATE:20201030
DTSTAMP:20260425T203428
CREATED:20200327T052302Z
LAST-MODIFIED:20200330T034742Z
UID:115011-1603846800-1603933199@www.karate.ch
SUMMARY:Nationalkader Training Kumite U21\,
DESCRIPTION:
URL:https://www.karate.ch/event/nationalkader-training-kumite-u21-magglingen-3/
LOCATION:Magglingen\, Hauptstrasse 232\, BE\, 2532\, Schweiz
END:VEVENT
BEGIN:VEVENT
DTSTART;TZID=Europe/Zurich:20201028T150000
DTEND;TZID=Europe/Zurich:20201028T170000
DTSTAMP:20260425T203428
CREATED:20200715T121607Z
LAST-MODIFIED:20200715T121842Z
UID:117216-1603897200-1603904400@www.karate.ch
SUMMARY:SKF Kata Kader Förderpool
DESCRIPTION:
URL:https://www.karate.ch/event/skf-kata-kader-foerderpool-5/
END:VEVENT
BEGIN:VEVENT
DTSTART;VALUE=DATE:20201030
DTEND;VALUE=DATE:20201103
DTSTAMP:20260425T203428
CREATED:20200327T052450Z
LAST-MODIFIED:20200330T034846Z
UID:115193-1604019600-1604278799@www.karate.ch
SUMMARY:Grundausbildung Leiterkurs SG 331-01.20 2. Teil d\,
DESCRIPTION:
URL:https://www.karate.ch/event/grundausbildung-leiterkurs-sg-331-01-20-2-teil-d-widnau/
LOCATION:Widnau\, SG\, Schweiz
END:VEVENT
BEGIN:VEVENT
DTSTART;VALUE=DATE:20201031
DTEND;VALUE=DATE:20201102
DTSTAMP:20260425T203428
CREATED:20200327T052327Z
LAST-MODIFIED:20200330T034936Z
UID:115056-1604106000-1604192399@www.karate.ch
SUMMARY:Kader Training\,
DESCRIPTION:
URL:https://www.karate.ch/event/kader-training-muttenz/
LOCATION:Muttenz\, BS\, Schweiz
END:VEVENT
END:VCALENDAR