BEGIN:VCALENDAR
VERSION:2.0
PRODID:-//Swiss Karate Federation - ECPv6.15.20//NONSGML v1.0//EN
CALSCALE:GREGORIAN
METHOD:PUBLISH
X-WR-CALNAME:Swiss Karate Federation
X-ORIGINAL-URL:https://www.karate.ch
X-WR-CALDESC:Veranstaltungen für Swiss Karate Federation
REFRESH-INTERVAL;VALUE=DURATION:PT1H
X-Robots-Tag:noindex
X-PUBLISHED-TTL:PT1H
BEGIN:VTIMEZONE
TZID:Europe/Zurich
BEGIN:DAYLIGHT
TZOFFSETFROM:+0100
TZOFFSETTO:+0200
TZNAME:CEST
DTSTART:20190331T010000
END:DAYLIGHT
BEGIN:STANDARD
TZOFFSETFROM:+0200
TZOFFSETTO:+0100
TZNAME:CET
DTSTART:20191027T010000
END:STANDARD
BEGIN:DAYLIGHT
TZOFFSETFROM:+0100
TZOFFSETTO:+0200
TZNAME:CEST
DTSTART:20200329T010000
END:DAYLIGHT
BEGIN:STANDARD
TZOFFSETFROM:+0200
TZOFFSETTO:+0100
TZNAME:CET
DTSTART:20201025T010000
END:STANDARD
BEGIN:DAYLIGHT
TZOFFSETFROM:+0100
TZOFFSETTO:+0200
TZNAME:CEST
DTSTART:20210328T010000
END:DAYLIGHT
BEGIN:STANDARD
TZOFFSETFROM:+0200
TZOFFSETTO:+0100
TZNAME:CET
DTSTART:20211031T010000
END:STANDARD
END:VTIMEZONE
BEGIN:VEVENT
DTSTART;VALUE=DATE:20201018
DTEND;VALUE=DATE:20201103
DTSTAMP:20260425T190121
CREATED:20200327T052327Z
LAST-MODIFIED:20200422T072248Z
UID:115057-1602982800-1604278799@www.karate.ch
SUMMARY:ABGESAGT/ANNULÉ: Japanreise inkl JKA Weltcup\,
DESCRIPTION:
URL:https://www.karate.ch/event/japanreise-inkl-jka-weltcup-tokio-jpn/
LOCATION:Tokyo\, Japan
ATTACH;FMTTYPE=image/png:https://www.karate.ch/wp-content/uploads/absage_annule.png
END:VEVENT
BEGIN:VEVENT
DTSTART;VALUE=DATE:20201030
DTEND;VALUE=DATE:20201103
DTSTAMP:20260425T190121
CREATED:20200327T052450Z
LAST-MODIFIED:20200330T034846Z
UID:115193-1604019600-1604278799@www.karate.ch
SUMMARY:Grundausbildung Leiterkurs SG 331-01.20 2. Teil d\,
DESCRIPTION:
URL:https://www.karate.ch/event/grundausbildung-leiterkurs-sg-331-01-20-2-teil-d-widnau/
LOCATION:Widnau\, SG\, Schweiz
END:VEVENT
BEGIN:VEVENT
DTSTART;VALUE=DATE:20201102
DTEND;VALUE=DATE:20201109
DTSTAMP:20260425T190121
CREATED:20200327T052448Z
LAST-MODIFIED:20200330T040302Z
UID:115192-1604278800-1604797199@www.karate.ch
SUMMARY:Grundausbildung Leiterkurs TI 182020 i\, (Meldeschluss 2.9.20)
DESCRIPTION:
URL:https://www.karate.ch/event/grundausbildung-leiterkurs-ti-182020-i-bellinzona-meldeschluss-2-9-20/
LOCATION:Bellinzona\, Schweiz
END:VEVENT
BEGIN:VEVENT
DTSTART;VALUE=DATE:20201104
DTEND;VALUE=DATE:20201106
DTSTAMP:20260425T190121
CREATED:20200327T052225Z
LAST-MODIFIED:20200330T040352Z
UID:114943-1604451600-1604537999@www.karate.ch
SUMMARY:Nationalkader Training Team Kumite Herren\,
DESCRIPTION:
URL:https://www.karate.ch/event/nationalkader-training-team-kumite-herren-magglingen-5/
LOCATION:Magglingen\, Hauptstrasse 232\, BE\, 2532\, Schweiz
END:VEVENT
BEGIN:VEVENT
DTSTART;VALUE=DATE:20201104
DTEND;VALUE=DATE:20201106
DTSTAMP:20260425T190121
CREATED:20200327T052251Z
LAST-MODIFIED:20200330T040935Z
UID:114990-1604451600-1604537999@www.karate.ch
SUMMARY:Nationalkader Training Kumite Elite\,
DESCRIPTION:
URL:https://www.karate.ch/event/nationalkader-training-kumite-elite-magglingen-3/
LOCATION:Magglingen\, Hauptstrasse 232\, BE\, 2532\, Schweiz
END:VEVENT
BEGIN:VEVENT
DTSTART;VALUE=DATE:20201104
DTEND;VALUE=DATE:20201106
DTSTAMP:20260425T190121
CREATED:20200327T052313Z
LAST-MODIFIED:20200330T041023Z
UID:115032-1604451600-1604537999@www.karate.ch
SUMMARY:Nationalkader Training Kumite U16/U18\,
DESCRIPTION:
URL:https://www.karate.ch/event/nationalkader-training-kumite-u16-u18-magglingen-3/
LOCATION:Magglingen\, Hauptstrasse 232\, BE\, 2532\, Schweiz
END:VEVENT
BEGIN:VEVENT
DTSTART;VALUE=DATE:20201105
DTEND;VALUE=DATE:20201110
DTSTAMP:20260425T190121
CREATED:20200327T052400Z
LAST-MODIFIED:20200708T132232Z
UID:115115-1604538000-1604883599@www.karate.ch
SUMMARY:World University Championships\, Brasilien
DESCRIPTION:
URL:https://www.karate.ch/event/world-university-championships-brasilien/
ATTACH;FMTTYPE=image/png:https://www.karate.ch/wp-content/uploads/absage_annule.png
END:VEVENT
BEGIN:VEVENT
DTSTART;VALUE=DATE:20201107
DTEND;VALUE=DATE:20201109
DTSTAMP:20260425T190121
CREATED:20200327T052326Z
LAST-MODIFIED:20200330T041413Z
UID:115055-1604710800-1604797199@www.karate.ch
SUMMARY:Kids Training und Zentraltraining (inkl Vertiefungsmodul SKR-Trainer)\,
DESCRIPTION:
URL:https://www.karate.ch/event/kids-training-und-zentraltraining-inkl-vertiefungsmodul-skr-trainer-lenzburg/
LOCATION:Lenzburg\, AG\, Schweiz
END:VEVENT
BEGIN:VEVENT
DTSTART;VALUE=DATE:20201107
DTEND;VALUE=DATE:20201109
DTSTAMP:20260425T190121
CREATED:20200327T052338Z
LAST-MODIFIED:20200330T041542Z
UID:115077-1604710800-1604797199@www.karate.ch
SUMMARY:Gratis Verbandstraining\,
DESCRIPTION:
URL:https://www.karate.ch/event/gratis-verbandstraining-thun/
LOCATION:Thun\, BE\, Schweiz
END:VEVENT
BEGIN:VEVENT
DTSTART;VALUE=DATE:20201107
DTEND;VALUE=DATE:20201109
DTSTAMP:20260425T190121
CREATED:20200327T052400Z
LAST-MODIFIED:20200330T041728Z
UID:115114-1604710800-1604797199@www.karate.ch
SUMMARY:Sitzung Zentralvorstand und Delegiertenversammlung\,
DESCRIPTION:
URL:https://www.karate.ch/event/sitzung-zentralvorstand-und-delegiertenversammlung-bern/
LOCATION:Bern
END:VEVENT
BEGIN:VEVENT
DTSTART;VALUE=DATE:20201107
DTEND;VALUE=DATE:20201109
DTSTAMP:20260425T190121
CREATED:20200327T052502Z
LAST-MODIFIED:20201012T154621Z
UID:115216-1604710800-1604797199@www.karate.ch
SUMMARY:Austrian Junior Open\, Wals/Salzburg (keine Teilnahme Nationalkader)
DESCRIPTION:
URL:https://www.karate.ch/event/austrian-junior-open-wals-salzburg-aut-punkteturnier/
LOCATION:Salzburg\, Austria
END:VEVENT
BEGIN:VEVENT
DTSTART;VALUE=DATE:20201108
DTEND;VALUE=DATE:20201110
DTSTAMP:20260425T190121
CREATED:20200327T052326Z
LAST-MODIFIED:20200330T041639Z
UID:115054-1604797200-1604883599@www.karate.ch
SUMMARY:Zentraltraining\,
DESCRIPTION:
URL:https://www.karate.ch/event/zentraltraining-bern/
LOCATION:Bern
END:VEVENT
BEGIN:VEVENT
DTSTART;VALUE=DATE:20201108
DTEND;VALUE=DATE:20201110
DTSTAMP:20260425T190121
CREATED:20200327T052337Z
LAST-MODIFIED:20201007T122125Z
UID:115073-1604797200-1604883599@www.karate.ch
SUMMARY:3. Junior Karate League\,
DESCRIPTION:
URL:https://www.karate.ch/event/3-junior-karate-league-frenkendorf/
LOCATION:Frenkendorf
ATTACH;FMTTYPE=image/png:https://www.karate.ch/wp-content/uploads/absage_annule.png
END:VEVENT
BEGIN:VEVENT
DTSTART;VALUE=DATE:20201108
DTEND;VALUE=DATE:20201110
DTSTAMP:20260425T190121
CREATED:20200327T052400Z
LAST-MODIFIED:20200330T042008Z
UID:115113-1604797200-1604883599@www.karate.ch
SUMMARY:Herbstturnier\,
DESCRIPTION:
URL:https://www.karate.ch/event/herbstturnier-basel/
LOCATION:Basel\, Switzerland
END:VEVENT
BEGIN:VEVENT
DTSTART;VALUE=DATE:20201111
DTEND;VALUE=DATE:20201113
DTSTAMP:20260425T190121
CREATED:20200327T052223Z
LAST-MODIFIED:20201111T154834Z
UID:114942-1605056400-1605142799@www.karate.ch
SUMMARY:Nationalkader Training Team Kumite Herren\,
DESCRIPTION:
URL:https://www.karate.ch/event/nationalkader-training-team-kumite-herren-magglingen-4/
LOCATION:Magglingen\, Hauptstrasse 232\, BE\, 2532\, Schweiz
ATTACH;FMTTYPE=image/png:https://www.karate.ch/wp-content/uploads/absage_annule.png
END:VEVENT
BEGIN:VEVENT
DTSTART;VALUE=DATE:20201111
DTEND;VALUE=DATE:20201113
DTSTAMP:20260425T190121
CREATED:20200327T052301Z
LAST-MODIFIED:20201111T150648Z
UID:115010-1605056400-1605142799@www.karate.ch
SUMMARY:Nationalkader Training Kumite U21\,
DESCRIPTION:
URL:https://www.karate.ch/event/nationalkader-training-kumite-u21-magglingen-2/
LOCATION:Magglingen\, Hauptstrasse 232\, BE\, 2532\, Schweiz
ATTACH;FMTTYPE=image/png:https://www.karate.ch/wp-content/uploads/absage_annule.png
END:VEVENT
BEGIN:VEVENT
DTSTART;TZID=Europe/Zurich:20201111T150000
DTEND;TZID=Europe/Zurich:20201111T170000
DTSTAMP:20260425T190121
CREATED:20200715T121921Z
LAST-MODIFIED:20200715T121921Z
UID:117218-1605106800-1605114000@www.karate.ch
SUMMARY:SKF Kata Kader Förderpool
DESCRIPTION:
URL:https://www.karate.ch/event/skf-kata-kader-foerderpool-6/
LOCATION:Zen Shin DS 102\, Dufourstr. 102a\, 2502 Biel/Bienne
END:VEVENT
BEGIN:VEVENT
DTSTART;VALUE=DATE:20201114
DTEND;VALUE=DATE:20201116
DTSTAMP:20260425T190121
CREATED:20200327T052347Z
LAST-MODIFIED:20200330T042318Z
UID:115091-1605315600-1605401999@www.karate.ch
SUMMARY:Nationalkader Training Kata\,
DESCRIPTION:
URL:https://www.karate.ch/event/nationalkader-training-kata-biel-bienne/
LOCATION:Biel/Bienne
END:VEVENT
BEGIN:VEVENT
DTSTART;VALUE=DATE:20201117
DTEND;VALUE=DATE:20201124
DTSTAMP:20260425T190121
CREATED:20200327T052510Z
LAST-MODIFIED:20200701T101332Z
UID:115231-1605574800-1606093199@www.karate.ch
SUMMARY:25th WKF Senior World Championships\,  (Punkteturnier)
DESCRIPTION:
URL:https://www.karate.ch/event/25th-wkf-senior-world-championships-dubai-uae-punkteturnier/
LOCATION:Dubai\, Vereinigte Arabische Emirate
ATTACH;FMTTYPE=image/png:https://www.karate.ch/wp-content/uploads/absage_annule.png
END:VEVENT
BEGIN:VEVENT
DTSTART;VALUE=DATE:20201118
DTEND;VALUE=DATE:20201120
DTSTAMP:20260425T190121
CREATED:20200327T052223Z
LAST-MODIFIED:20201111T154453Z
UID:114941-1605661200-1605747599@www.karate.ch
SUMMARY:Nationalkader Training Team Kumite Herren\,
DESCRIPTION:
URL:https://www.karate.ch/event/nationalkader-training-team-kumite-herren-magglingen-3/
LOCATION:Magglingen\, Hauptstrasse 232\, BE\, 2532\, Schweiz
ATTACH;FMTTYPE=image/png:https://www.karate.ch/wp-content/uploads/absage_annule.png
END:VEVENT
BEGIN:VEVENT
DTSTART;VALUE=DATE:20201118
DTEND;VALUE=DATE:20201120
DTSTAMP:20260425T190121
CREATED:20200327T052251Z
LAST-MODIFIED:20201111T154621Z
UID:114989-1605661200-1605747599@www.karate.ch
SUMMARY:Nationalkader Training Kumite Elite\,
DESCRIPTION:
URL:https://www.karate.ch/event/nationalkader-training-kumite-elite-magglingen-2/
LOCATION:Magglingen\, Hauptstrasse 232\, BE\, 2532\, Schweiz
ATTACH;FMTTYPE=image/png:https://www.karate.ch/wp-content/uploads/absage_annule.png
END:VEVENT
BEGIN:VEVENT
DTSTART;VALUE=DATE:20201118
DTEND;VALUE=DATE:20201120
DTSTAMP:20260425T190121
CREATED:20200327T052313Z
LAST-MODIFIED:20201111T155051Z
UID:115031-1605661200-1605747599@www.karate.ch
SUMMARY:Nationalkader Training Kumite U16/U18\,
DESCRIPTION:
URL:https://www.karate.ch/event/nationalkader-training-kumite-u16-u18-magglingen-2/
LOCATION:Magglingen\, Hauptstrasse 232\, BE\, 2532\, Schweiz
ATTACH;FMTTYPE=image/png:https://www.karate.ch/wp-content/uploads/absage_annule.png
END:VEVENT
BEGIN:VEVENT
DTSTART;VALUE=DATE:20201119
DTEND;VALUE=DATE:20201122
DTSTAMP:20260425T190121
CREATED:20200327T052453Z
LAST-MODIFIED:20200330T042743Z
UID:115199-1605747600-1605920399@www.karate.ch
SUMMARY:Spezialisierung Experte: Modul Fortbildung Experte JS-CH 1234 df\, (Meldeschluss 15.9.20)
DESCRIPTION:
URL:https://www.karate.ch/event/spezialisierung-experte-modul-fortbildung-experte-js-ch-1234-df-magglingen-meldeschluss-15-9-20/
LOCATION:Magglingen\, Hauptstrasse 232\, BE\, 2532\, Schweiz
END:VEVENT
BEGIN:VEVENT
DTSTART;VALUE=DATE:20201121
DTEND;VALUE=DATE:20201123
DTSTAMP:20260425T190121
CREATED:20200327T052326Z
LAST-MODIFIED:20200330T042848Z
UID:115053-1605920400-1606006799@www.karate.ch
SUMMARY:Kader Training\, (Selektionierte ESKA)
DESCRIPTION:
URL:https://www.karate.ch/event/kader-training-muttenz-selektionierte-eska/
LOCATION:Muttenz\, BS\, Schweiz
END:VEVENT
BEGIN:VEVENT
DTSTART;VALUE=DATE:20201121
DTEND;VALUE=DATE:20201123
DTSTAMP:20260425T190121
CREATED:20200327T052434Z
LAST-MODIFIED:20200330T042944Z
UID:115165-1605920400-1606006799@www.karate.ch
SUMMARY:Swiss Syoukenkai Goju-Ryu Karate Do: Technischer Lehrgang & Danvorbereitungstraining\,
DESCRIPTION:
URL:https://www.karate.ch/event/swiss-syoukenkai-goju-ryu-karate-do-technischer-lehrgang-danvorbereitungstraining-schwamendingen-3/
LOCATION:Schwamendingen\, ZH\, Schweiz
END:VEVENT
BEGIN:VEVENT
DTSTART;VALUE=DATE:20201121
DTEND;VALUE=DATE:20201123
DTSTAMP:20260425T190121
CREATED:20200327T052436Z
LAST-MODIFIED:20200330T043032Z
UID:115169-1605920400-1606006799@www.karate.ch
SUMMARY:SSKF: Kader + Instruktorenkurs\,
DESCRIPTION:
URL:https://www.karate.ch/event/sskf-kader-instruktorenkurs-basel-5/
LOCATION:Basel\, Switzerland
END:VEVENT
BEGIN:VEVENT
DTSTART;VALUE=DATE:20201121
DTEND;VALUE=DATE:20201123
DTSTAMP:20260425T190121
CREATED:20200327T052440Z
LAST-MODIFIED:20200330T043128Z
UID:115176-1605920400-1606006799@www.karate.ch
SUMMARY:Kumite Kader Training\,
DESCRIPTION:
URL:https://www.karate.ch/event/kumite-kader-training-schwamendingen/
LOCATION:Schwamendingen\, ZH\, Schweiz
END:VEVENT
BEGIN:VEVENT
DTSTART;VALUE=DATE:20201125
DTEND;VALUE=DATE:20201127
DTSTAMP:20260425T190121
CREATED:20200327T052223Z
LAST-MODIFIED:20201111T155322Z
UID:114940-1606266000-1606352399@www.karate.ch
SUMMARY:Nationalkader Training Team Kumite Herren\,
DESCRIPTION:
URL:https://www.karate.ch/event/nationalkader-training-team-kumite-herren-magglingen-2/
LOCATION:Magglingen\, Hauptstrasse 232\, BE\, 2532\, Schweiz
ATTACH;FMTTYPE=image/png:https://www.karate.ch/wp-content/uploads/absage_annule.png
END:VEVENT
BEGIN:VEVENT
DTSTART;VALUE=DATE:20201125
DTEND;VALUE=DATE:20201127
DTSTAMP:20260425T190121
CREATED:20200327T052301Z
LAST-MODIFIED:20201111T154344Z
UID:115009-1606266000-1606352399@www.karate.ch
SUMMARY:Nationalkader Training Kumite U21\,
DESCRIPTION:
URL:https://www.karate.ch/event/nationalkader-training-kumite-u21-magglingen/
LOCATION:Magglingen\, Hauptstrasse 232\, BE\, 2532\, Schweiz
ATTACH;FMTTYPE=image/png:https://www.karate.ch/wp-content/uploads/absage_annule.png
END:VEVENT
BEGIN:VEVENT
DTSTART;VALUE=DATE:20201125
DTEND;VALUE=DATE:20201129
DTSTAMP:20260425T190121
CREATED:20200327T052453Z
LAST-MODIFIED:20200330T043412Z
UID:115200-1606266000-1606525199@www.karate.ch
SUMMARY:Spezialisierung Experte: Expertenkurs 1. Teil JS-CH 176856 dfi\, (Meldeschluss 25.9.20)
DESCRIPTION:
URL:https://www.karate.ch/event/spezialisierung-experte-expertenkurs-1-teil-js-ch-176856-dfi-magglingen-meldeschluss-25-9-20/
LOCATION:Magglingen\, Hauptstrasse 232\, BE\, 2532\, Schweiz
END:VEVENT
END:VCALENDAR