BEGIN:VCALENDAR
VERSION:2.0
PRODID:-//Swiss Karate Federation - ECPv6.15.20//NONSGML v1.0//EN
CALSCALE:GREGORIAN
METHOD:PUBLISH
X-ORIGINAL-URL:https://www.karate.ch
X-WR-CALDESC:Veranstaltungen für Swiss Karate Federation
REFRESH-INTERVAL;VALUE=DURATION:PT1H
X-Robots-Tag:noindex
X-PUBLISHED-TTL:PT1H
BEGIN:VTIMEZONE
TZID:Europe/Zurich
BEGIN:DAYLIGHT
TZOFFSETFROM:+0100
TZOFFSETTO:+0200
TZNAME:CEST
DTSTART:20200329T010000
END:DAYLIGHT
BEGIN:STANDARD
TZOFFSETFROM:+0200
TZOFFSETTO:+0100
TZNAME:CET
DTSTART:20201025T010000
END:STANDARD
BEGIN:DAYLIGHT
TZOFFSETFROM:+0100
TZOFFSETTO:+0200
TZNAME:CEST
DTSTART:20210328T010000
END:DAYLIGHT
BEGIN:STANDARD
TZOFFSETFROM:+0200
TZOFFSETTO:+0100
TZNAME:CET
DTSTART:20211031T010000
END:STANDARD
BEGIN:DAYLIGHT
TZOFFSETFROM:+0100
TZOFFSETTO:+0200
TZNAME:CEST
DTSTART:20220327T010000
END:DAYLIGHT
BEGIN:STANDARD
TZOFFSETFROM:+0200
TZOFFSETTO:+0100
TZNAME:CET
DTSTART:20221030T010000
END:STANDARD
END:VTIMEZONE
BEGIN:VEVENT
DTSTART;TZID=Europe/Zurich:20210113T150000
DTEND;TZID=Europe/Zurich:20210113T170000
DTSTAMP:20260425T160954
CREATED:20201221T082607Z
LAST-MODIFIED:20201221T090717Z
UID:117786-1610550000-1610557200@www.karate.ch
SUMMARY:Kata Förderpool
DESCRIPTION:
URL:https://www.karate.ch/event/kata-foerderpool/
LOCATION:Zen Shin DS 102\, Dufourstr. 102a\, 2502 Biel/Bienne
END:VEVENT
BEGIN:VEVENT
DTSTART;VALUE=DATE:20210116
DTEND;VALUE=DATE:20210118
DTSTAMP:20260425T160954
CREATED:20201114T072401Z
LAST-MODIFIED:20201114T072956Z
UID:117639-1610758800-1610845199@www.karate.ch
SUMMARY:J+S Modul Fortbildung Leiter 1/21
DESCRIPTION:
URL:https://www.karate.ch/event/js-modul-fortbildung-leiter/
LOCATION:Dojo Asia Sport Center\, Zürich
END:VEVENT
BEGIN:VEVENT
DTSTART;VALUE=DATE:20210122
DTEND;VALUE=DATE:20210126
DTSTAMP:20260425T160954
CREATED:20210115T074416Z
LAST-MODIFIED:20210115T074431Z
UID:117980-1611277200-1611536399@www.karate.ch
SUMMARY:SKF Kader Fiesch
DESCRIPTION:
URL:https://www.karate.ch/event/skf-kader-fiesch/
END:VEVENT
BEGIN:VEVENT
DTSTART;VALUE=DATE:20210123
DTEND;VALUE=DATE:20210125
DTSTAMP:20260425T160954
CREATED:20201114T070625Z
LAST-MODIFIED:20201221T081655Z
UID:117620-1611363600-1611449999@www.karate.ch
SUMMARY:Austria Champions Cup\, Hard\, Austria
DESCRIPTION:
URL:https://www.karate.ch/event/austria-champions-cup-hard-austria/
ATTACH;FMTTYPE=image/png:https://www.karate.ch/wp-content/uploads/absage_annule.png
END:VEVENT
BEGIN:VEVENT
DTSTART;TZID=Europe/Zurich:20210123T090000
DTEND;TZID=Europe/Zurich:20210123T113000
DTSTAMP:20260425T160954
CREATED:20201221T083909Z
LAST-MODIFIED:20201221T083909Z
UID:117810-1611392400-1611401400@www.karate.ch
SUMMARY:Kata Natikader U14/16
DESCRIPTION:
URL:https://www.karate.ch/event/kata-natikader-u14-16/
LOCATION:Zen Shin DS 102\, Dufourstr. 102a\, 2502 Biel/Bienne
END:VEVENT
BEGIN:VEVENT
DTSTART;TZID=Europe/Zurich:20210123T114500
DTEND;TZID=Europe/Zurich:20210123T141500
DTSTAMP:20260425T160954
CREATED:20201221T085419Z
LAST-MODIFIED:20201221T085419Z
UID:117836-1611402300-1611411300@www.karate.ch
SUMMARY:Kata Natikader U18/21/Elite
DESCRIPTION:
URL:https://www.karate.ch/event/kata-natikader-u18-21-elite/
LOCATION:Zen Shin DS 102\, Dufourstr. 102a\, 2502 Biel/Bienne
END:VEVENT
BEGIN:VEVENT
DTSTART;TZID=Europe/Zurich:20210127T150000
DTEND;TZID=Europe/Zurich:20210127T170000
DTSTAMP:20260425T160954
CREATED:20201221T082658Z
LAST-MODIFIED:20201221T082658Z
UID:117788-1611759600-1611766800@www.karate.ch
SUMMARY:Kata Förderpool
DESCRIPTION:
URL:https://www.karate.ch/event/kata-foerderpool-2/
LOCATION:Zen Shin DS 102\, Dufourstr. 102a\, 2502 Biel/Bienne
END:VEVENT
BEGIN:VEVENT
DTSTART;VALUE=DATE:20210130
DTEND;VALUE=DATE:20210201
DTSTAMP:20260425T160954
CREATED:20201114T072522Z
LAST-MODIFIED:20201114T072559Z
UID:117641-1611968400-1612054799@www.karate.ch
SUMMARY:J+S Modul Fortbildung Leiter 2/21
DESCRIPTION:
URL:https://www.karate.ch/event/js-modul-fortbildung-leiter-2-21/
LOCATION:Dojo Kenseikan Karate Do\, Thun
END:VEVENT
END:VCALENDAR