BEGIN:VCALENDAR
VERSION:2.0
PRODID:-//Swiss Karate Federation - ECPv6.15.20//NONSGML v1.0//EN
CALSCALE:GREGORIAN
METHOD:PUBLISH
X-WR-CALNAME:Swiss Karate Federation
X-ORIGINAL-URL:https://www.karate.ch
X-WR-CALDESC:Veranstaltungen für Swiss Karate Federation
REFRESH-INTERVAL;VALUE=DURATION:PT1H
X-Robots-Tag:noindex
X-PUBLISHED-TTL:PT1H
BEGIN:VTIMEZONE
TZID:Europe/Zurich
BEGIN:DAYLIGHT
TZOFFSETFROM:+0100
TZOFFSETTO:+0200
TZNAME:CEST
DTSTART:20200329T010000
END:DAYLIGHT
BEGIN:STANDARD
TZOFFSETFROM:+0200
TZOFFSETTO:+0100
TZNAME:CET
DTSTART:20201025T010000
END:STANDARD
BEGIN:DAYLIGHT
TZOFFSETFROM:+0100
TZOFFSETTO:+0200
TZNAME:CEST
DTSTART:20210328T010000
END:DAYLIGHT
BEGIN:STANDARD
TZOFFSETFROM:+0200
TZOFFSETTO:+0100
TZNAME:CET
DTSTART:20211031T010000
END:STANDARD
BEGIN:DAYLIGHT
TZOFFSETFROM:+0100
TZOFFSETTO:+0200
TZNAME:CEST
DTSTART:20220327T010000
END:DAYLIGHT
BEGIN:STANDARD
TZOFFSETFROM:+0200
TZOFFSETTO:+0100
TZNAME:CET
DTSTART:20221030T010000
END:STANDARD
END:VTIMEZONE
BEGIN:VEVENT
DTSTART;TZID=Europe/Zurich:20210206T090000
DTEND;TZID=Europe/Zurich:20210206T113000
DTSTAMP:20260425T145015
CREATED:20201221T083952Z
LAST-MODIFIED:20201221T083952Z
UID:117812-1612602000-1612611000@www.karate.ch
SUMMARY:Kata Natikader U14/16
DESCRIPTION:
URL:https://www.karate.ch/event/kata-natikader-u14-16-2/
LOCATION:Zen Shin DS 102\, Dufourstr. 102a\, 2502 Biel/Bienne
END:VEVENT
BEGIN:VEVENT
DTSTART;TZID=Europe/Zurich:20210206T114500
DTEND;TZID=Europe/Zurich:20210206T141500
DTSTAMP:20260425T145015
CREATED:20201221T085522Z
LAST-MODIFIED:20201221T085522Z
UID:117838-1612611900-1612620900@www.karate.ch
SUMMARY:Kata Natikader U18/21/Elite
DESCRIPTION:
URL:https://www.karate.ch/event/kata-natikader-u18-21-elite-2/
LOCATION:Zen Shin DS 102\, Dufourstr. 102a\, 2502 Biel/Bienne
END:VEVENT
BEGIN:VEVENT
DTSTART;TZID=Europe/Zurich:20210210T150000
DTEND;TZID=Europe/Zurich:20210210T170000
DTSTAMP:20260425T145015
CREATED:20201221T082753Z
LAST-MODIFIED:20201221T082753Z
UID:117790-1612969200-1612976400@www.karate.ch
SUMMARY:Kata Förderpool
DESCRIPTION:
URL:https://www.karate.ch/event/kata-foerderpool-3/
LOCATION:Zen Shin DS 102\, Dufourstr. 102a\, 2502 Biel/Bienne
END:VEVENT
BEGIN:VEVENT
DTSTART;VALUE=DATE:20210212
DTEND;VALUE=DATE:20210216
DTSTAMP:20260425T145015
CREATED:20210115T074526Z
LAST-MODIFIED:20210115T074526Z
UID:117982-1613091600-1613350799@www.karate.ch
SUMMARY:SKF Kader Zuchwil
DESCRIPTION:
URL:https://www.karate.ch/event/skf-kader-zuchwil/
LOCATION:Zuchwil
END:VEVENT
BEGIN:VEVENT
DTSTART;TZID=Europe/Zurich:20210224T150000
DTEND;TZID=Europe/Zurich:20210224T170000
DTSTAMP:20260425T145015
CREATED:20201221T082839Z
LAST-MODIFIED:20201221T082839Z
UID:117792-1614178800-1614186000@www.karate.ch
SUMMARY:Kata Förderpool
DESCRIPTION:
URL:https://www.karate.ch/event/kata-foerderpool-4/
LOCATION:Zen Shin DS 102\, Dufourstr. 102a\, 2502 Biel/Bienne
END:VEVENT
BEGIN:VEVENT
DTSTART;TZID=Europe/Zurich:20210227T080000
DTEND;TZID=Europe/Zurich:20210227T170000
DTSTAMP:20260425T145015
CREATED:20201211T130535Z
LAST-MODIFIED:20201224T051926Z
UID:117710-1614412800-1614445200@www.karate.ch
SUMMARY:J+S Modul Fortbildung Leiter
DESCRIPTION:
URL:https://www.karate.ch/event/js-modul-fortbildung-leiter-2/
ATTACH;FMTTYPE=image/png:https://www.karate.ch/wp-content/uploads/absage.png
END:VEVENT
END:VCALENDAR