BEGIN:VCALENDAR
VERSION:2.0
PRODID:-//Swiss Karate Federation - ECPv6.15.20//NONSGML v1.0//EN
CALSCALE:GREGORIAN
METHOD:PUBLISH
X-ORIGINAL-URL:https://www.karate.ch
X-WR-CALDESC:Veranstaltungen für Swiss Karate Federation
REFRESH-INTERVAL;VALUE=DURATION:PT1H
X-Robots-Tag:noindex
X-PUBLISHED-TTL:PT1H
BEGIN:VTIMEZONE
TZID:Europe/Zurich
BEGIN:DAYLIGHT
TZOFFSETFROM:+0100
TZOFFSETTO:+0200
TZNAME:CEST
DTSTART:20200329T010000
END:DAYLIGHT
BEGIN:STANDARD
TZOFFSETFROM:+0200
TZOFFSETTO:+0100
TZNAME:CET
DTSTART:20201025T010000
END:STANDARD
BEGIN:DAYLIGHT
TZOFFSETFROM:+0100
TZOFFSETTO:+0200
TZNAME:CEST
DTSTART:20210328T010000
END:DAYLIGHT
BEGIN:STANDARD
TZOFFSETFROM:+0200
TZOFFSETTO:+0100
TZNAME:CET
DTSTART:20211031T010000
END:STANDARD
BEGIN:DAYLIGHT
TZOFFSETFROM:+0100
TZOFFSETTO:+0200
TZNAME:CEST
DTSTART:20220327T010000
END:DAYLIGHT
BEGIN:STANDARD
TZOFFSETFROM:+0200
TZOFFSETTO:+0100
TZNAME:CET
DTSTART:20221030T010000
END:STANDARD
END:VTIMEZONE
BEGIN:VEVENT
DTSTART;VALUE=DATE:20210723
DTEND;VALUE=DATE:20210810
DTSTAMP:20260425T052752
CREATED:20200406T121829Z
LAST-MODIFIED:20200406T121829Z
UID:115627-1627002000-1628470799@www.karate.ch
SUMMARY:Olympic Games Tokyo 2021
DESCRIPTION:
URL:https://www.karate.ch/event/olympic-games-tokyo-2021/
LOCATION:Tokyo\, Japan
END:VEVENT
BEGIN:VEVENT
DTSTART;VALUE=DATE:20210805
DTEND;VALUE=DATE:20210809
DTSTAMP:20260425T052752
CREATED:20201114T064600Z
LAST-MODIFIED:20201114T064600Z
UID:117596-1628125200-1628384399@www.karate.ch
SUMMARY:Tokyo 2020- Olympic Games (Karate Competition)\, Japan
DESCRIPTION:
URL:https://www.karate.ch/event/tokyo-2020-olympic-games-karate-competition-japan/
LOCATION:Tokyo
END:VEVENT
BEGIN:VEVENT
DTSTART;VALUE=DATE:20210820
DTEND;VALUE=DATE:20210824
DTSTAMP:20260425T052752
CREATED:20210131T102924Z
LAST-MODIFIED:20210131T102924Z
UID:118077-1629421200-1629680399@www.karate.ch
SUMMARY:EM Junioren Tampere\, Finnland
DESCRIPTION:
URL:https://www.karate.ch/event/em-junioren-tampere-finnland/
LOCATION:Tampere
END:VEVENT
BEGIN:VEVENT
DTSTART;VALUE=DATE:20210828
DTEND;VALUE=DATE:20210830
DTSTAMP:20260425T052752
CREATED:20201114T072700Z
LAST-MODIFIED:20201114T072700Z
UID:117644-1630112400-1630198799@www.karate.ch
SUMMARY:J+S Modul Fortbildung Leiter 3/21
DESCRIPTION:
URL:https://www.karate.ch/event/js-modul-fortbildung-leiter-3-21/
LOCATION:Dojo Kenseikan Karate Do\, Thun
END:VEVENT
BEGIN:VEVENT
DTSTART;TZID=Europe/Zurich:20210828T090000
DTEND;TZID=Europe/Zurich:20210828T113000
DTSTAMP:20260425T052752
CREATED:20201221T084345Z
LAST-MODIFIED:20201221T084345Z
UID:117822-1630141200-1630150200@www.karate.ch
SUMMARY:Kata Natikader U14/16
DESCRIPTION:
URL:https://www.karate.ch/event/kata-natikader-u14-16-7/
LOCATION:Zen Shin DS 102\, Dufourstr. 102a\, 2502 Biel/Bienne
END:VEVENT
BEGIN:VEVENT
DTSTART;TZID=Europe/Zurich:20210828T114500
DTEND;TZID=Europe/Zurich:20210828T141500
DTSTAMP:20260425T052752
CREATED:20201221T090302Z
LAST-MODIFIED:20201221T090302Z
UID:117851-1630151100-1630160100@www.karate.ch
SUMMARY:Kata Natikader U18/21/Elite
DESCRIPTION:
URL:https://www.karate.ch/event/kata-natikader-u18-21-elite-7/
LOCATION:Zen Shin DS 102\, Dufourstr. 102a\, 2502 Biel/Bienne
END:VEVENT
END:VCALENDAR