BEGIN:VCALENDAR
VERSION:2.0
PRODID:-//Swiss Karate Federation - ECPv6.15.20//NONSGML v1.0//EN
CALSCALE:GREGORIAN
METHOD:PUBLISH
X-ORIGINAL-URL:https://www.karate.ch
X-WR-CALDESC:Veranstaltungen für Swiss Karate Federation
REFRESH-INTERVAL;VALUE=DURATION:PT1H
X-Robots-Tag:noindex
X-PUBLISHED-TTL:PT1H
BEGIN:VTIMEZONE
TZID:Europe/Zurich
BEGIN:DAYLIGHT
TZOFFSETFROM:+0100
TZOFFSETTO:+0200
TZNAME:CEST
DTSTART:20200329T010000
END:DAYLIGHT
BEGIN:STANDARD
TZOFFSETFROM:+0200
TZOFFSETTO:+0100
TZNAME:CET
DTSTART:20201025T010000
END:STANDARD
BEGIN:DAYLIGHT
TZOFFSETFROM:+0100
TZOFFSETTO:+0200
TZNAME:CEST
DTSTART:20210328T010000
END:DAYLIGHT
BEGIN:STANDARD
TZOFFSETFROM:+0200
TZOFFSETTO:+0100
TZNAME:CET
DTSTART:20211031T010000
END:STANDARD
BEGIN:DAYLIGHT
TZOFFSETFROM:+0100
TZOFFSETTO:+0200
TZNAME:CEST
DTSTART:20220327T010000
END:DAYLIGHT
BEGIN:STANDARD
TZOFFSETFROM:+0200
TZOFFSETTO:+0100
TZNAME:CET
DTSTART:20221030T010000
END:STANDARD
END:VTIMEZONE
BEGIN:VEVENT
DTSTART;VALUE=DATE:20211105
DTEND;VALUE=DATE:20211109
DTSTAMP:20260425T002948
CREATED:20210115T075101Z
LAST-MODIFIED:20210115T075101Z
UID:117994-1636074000-1636333199@www.karate.ch
SUMMARY:SKF Kader Fiesch
DESCRIPTION:
URL:https://www.karate.ch/event/skf-kader-fiesch-4/
LOCATION:Fiesch
END:VEVENT
BEGIN:VEVENT
DTSTART;VALUE=DATE:20211106
DTEND;VALUE=DATE:20211108
DTSTAMP:20260425T002948
CREATED:20201114T072805Z
LAST-MODIFIED:20201114T072830Z
UID:117646-1636160400-1636246799@www.karate.ch
SUMMARY:J+S Modul Fortbildung Leiter 4/21
DESCRIPTION:
URL:https://www.karate.ch/event/js-modul-fortbildung-leiter-4-21/
LOCATION:Dojo Kenseikan Karate Do\, Thun
END:VEVENT
BEGIN:VEVENT
DTSTART;TZID=Europe/Zurich:20211106T100000
DTEND;TZID=Europe/Zurich:20211106T170000
DTSTAMP:20260425T002948
CREATED:20210131T103425Z
LAST-MODIFIED:20210131T103425Z
UID:118088-1636192800-1636218000@www.karate.ch
SUMMARY:Zentralvorstandssitzung u. Delegiertenversammlung
DESCRIPTION:
URL:https://www.karate.ch/event/zentralvorstandssitzung-u-delegiertenversammlung/
END:VEVENT
BEGIN:VEVENT
DTSTART;VALUE=DATE:20211107
DTEND;VALUE=DATE:20211109
DTSTAMP:20260425T002948
CREATED:20210420T164002Z
LAST-MODIFIED:20210922T143502Z
UID:118767-1636246800-1636333199@www.karate.ch
SUMMARY:JKL Frenkendorf (abgesagt)
DESCRIPTION:
URL:https://www.karate.ch/event/jkl-frenkendorf/
LOCATION:Frenkendorf
END:VEVENT
BEGIN:VEVENT
DTSTART;TZID=Europe/Zurich:20211113T090000
DTEND;TZID=Europe/Zurich:20211113T113000
DTSTAMP:20260425T002948
CREATED:20201221T084651Z
LAST-MODIFIED:20201221T084651Z
UID:117830-1636794000-1636803000@www.karate.ch
SUMMARY:Kata Natikader U14/16
DESCRIPTION:
URL:https://www.karate.ch/event/kata-natikader-u14-16-11/
LOCATION:Zen Shin DS 102\, Dufourstr. 102a\, 2502 Biel/Bienne
END:VEVENT
BEGIN:VEVENT
DTSTART;TZID=Europe/Zurich:20211113T090000
DTEND;TZID=Europe/Zurich:20211113T113000
DTSTAMP:20260425T002948
CREATED:20201221T084742Z
LAST-MODIFIED:20201221T084742Z
UID:117832-1636794000-1636803000@www.karate.ch
SUMMARY:Kata Natikader U14/16
DESCRIPTION:
URL:https://www.karate.ch/event/kata-natikader-u14-16-12/
LOCATION:Zen Shin DS 102\, Dufourstr. 102a\, 2502 Biel/Bienne
END:VEVENT
BEGIN:VEVENT
DTSTART;TZID=Europe/Zurich:20211113T114500
DTEND;TZID=Europe/Zurich:20211113T141500
DTSTAMP:20260425T002948
CREATED:20201221T090528Z
LAST-MODIFIED:20201221T090528Z
UID:117857-1636803900-1636812900@www.karate.ch
SUMMARY:Kata Natikader U18/21/Elite
DESCRIPTION:
URL:https://www.karate.ch/event/kata-natikader-u18-21-elite-10/
LOCATION:Zen Shin DS 102\, Dufourstr. 102a\, 2502 Biel/Bienne
END:VEVENT
BEGIN:VEVENT
DTSTART;VALUE=DATE:20211116
DTEND;VALUE=DATE:20211123
DTSTAMP:20260425T002948
CREATED:20201114T065540Z
LAST-MODIFIED:20201114T070026Z
UID:117614-1637024400-1637542799@www.karate.ch
SUMMARY:WKF World Senior Championship Dubai\, UAE
DESCRIPTION:
URL:https://www.karate.ch/event/wkf-world-senior-championship-dubai-uae/
LOCATION:Dubai
END:VEVENT
BEGIN:VEVENT
DTSTART;VALUE=DATE:20211126
DTEND;VALUE=DATE:20211130
DTSTAMP:20260425T002948
CREATED:20210909T065035Z
LAST-MODIFIED:20210919T055938Z
UID:119761-1637888400-1638147599@www.karate.ch
SUMMARY:ESKA European Championsship\, Winterthur (abgesagt)
DESCRIPTION:
URL:https://www.karate.ch/event/eska-european-championsship-meisterschaft-winterthur/
LOCATION:Winterthur
END:VEVENT
BEGIN:VEVENT
DTSTART;VALUE=DATE:20211127
DTEND;VALUE=DATE:20211130
DTSTAMP:20260425T002948
CREATED:20210909T064911Z
LAST-MODIFIED:20210909T064911Z
UID:119759-1637974800-1638147599@www.karate.ch
SUMMARY:Schweizermeisterschaft 2021\, Sursee
DESCRIPTION:
URL:https://www.karate.ch/event/schweizermeisterschaft-2021-sursee/
LOCATION:Sursee\, Switzerland
END:VEVENT
END:VCALENDAR