BEGIN:VCALENDAR
VERSION:2.0
PRODID:-//Swiss Karate Federation - ECPv6.15.20//NONSGML v1.0//EN
CALSCALE:GREGORIAN
METHOD:PUBLISH
X-WR-CALNAME:Swiss Karate Federation
X-ORIGINAL-URL:https://www.karate.ch
X-WR-CALDESC:Veranstaltungen für Swiss Karate Federation
REFRESH-INTERVAL;VALUE=DURATION:PT1H
X-Robots-Tag:noindex
X-PUBLISHED-TTL:PT1H
BEGIN:VTIMEZONE
TZID:Europe/Zurich
BEGIN:DAYLIGHT
TZOFFSETFROM:+0100
TZOFFSETTO:+0200
TZNAME:CEST
DTSTART:20200329T010000
END:DAYLIGHT
BEGIN:STANDARD
TZOFFSETFROM:+0200
TZOFFSETTO:+0100
TZNAME:CET
DTSTART:20201025T010000
END:STANDARD
BEGIN:DAYLIGHT
TZOFFSETFROM:+0100
TZOFFSETTO:+0200
TZNAME:CEST
DTSTART:20210328T010000
END:DAYLIGHT
BEGIN:STANDARD
TZOFFSETFROM:+0200
TZOFFSETTO:+0100
TZNAME:CET
DTSTART:20211031T010000
END:STANDARD
BEGIN:DAYLIGHT
TZOFFSETFROM:+0100
TZOFFSETTO:+0200
TZNAME:CEST
DTSTART:20220327T010000
END:DAYLIGHT
BEGIN:STANDARD
TZOFFSETFROM:+0200
TZOFFSETTO:+0100
TZNAME:CET
DTSTART:20221030T010000
END:STANDARD
END:VTIMEZONE
BEGIN:VEVENT
DTSTART;TZID=Europe/Zurich:20211203T080000
DTEND;TZID=Europe/Zurich:20211205T170000
DTSTAMP:20260424T224712
CREATED:20210115T075230Z
LAST-MODIFIED:20210115T075230Z
UID:117996-1638518400-1638723600@www.karate.ch
SUMMARY:SKF Kader Zuchwil
DESCRIPTION:
URL:https://www.karate.ch/event/skf-kader-zuchwil-4/
LOCATION:Zuchwil
END:VEVENT
BEGIN:VEVENT
DTSTART;TZID=Europe/Zurich:20211203T180000
DTEND;TZID=Europe/Zurich:20211203T220000
DTSTAMP:20260424T224712
CREATED:20210131T103535Z
LAST-MODIFIED:20210131T103556Z
UID:118091-1638554400-1638568800@www.karate.ch
SUMMARY:Zentralvorstandssitzung
DESCRIPTION:
URL:https://www.karate.ch/event/zentralvorstandssitzung-3/
END:VEVENT
BEGIN:VEVENT
DTSTART;TZID=Europe/Zurich:20211204T090000
DTEND;TZID=Europe/Zurich:20211204T113000
DTSTAMP:20260424T224712
CREATED:20201221T084825Z
LAST-MODIFIED:20201221T084825Z
UID:117834-1638608400-1638617400@www.karate.ch
SUMMARY:Kata Natikader U14/16
DESCRIPTION:
URL:https://www.karate.ch/event/kata-natikader-u14-16-13/
LOCATION:Zen Shin DS 102\, Dufourstr. 102a\, 2502 Biel/Bienne
END:VEVENT
BEGIN:VEVENT
DTSTART;TZID=Europe/Zurich:20211204T114500
DTEND;TZID=Europe/Zurich:20211204T141500
DTSTAMP:20260424T224712
CREATED:20201221T090614Z
LAST-MODIFIED:20201221T090614Z
UID:117859-1638618300-1638627300@www.karate.ch
SUMMARY:Kata Natikader U18/21/Elite
DESCRIPTION:
URL:https://www.karate.ch/event/kata-natikader-u18-21-elite-11/
LOCATION:Zen Shin DS 102\, Dufourstr. 102a\, 2502 Biel/Bienne
END:VEVENT
BEGIN:VEVENT
DTSTART;VALUE=DATE:20211209
DTEND;VALUE=DATE:20211214
DTSTAMP:20260424T224712
CREATED:20201114T065648Z
LAST-MODIFIED:20201114T065648Z
UID:117617-1639011600-1639357199@www.karate.ch
SUMMARY:K1 Youth League Venice\, Italy
DESCRIPTION:
URL:https://www.karate.ch/event/k1-youth-league-venice-italy/
LOCATION:Venice\, Italy
END:VEVENT
END:VCALENDAR