BEGIN:VCALENDAR
VERSION:2.0
PRODID:-//Swiss Karate Federation - ECPv6.15.20//NONSGML v1.0//EN
CALSCALE:GREGORIAN
METHOD:PUBLISH
X-WR-CALNAME:Swiss Karate Federation
X-ORIGINAL-URL:https://www.karate.ch
X-WR-CALDESC:Veranstaltungen für Swiss Karate Federation
REFRESH-INTERVAL;VALUE=DURATION:PT1H
X-Robots-Tag:noindex
X-PUBLISHED-TTL:PT1H
BEGIN:VTIMEZONE
TZID:Europe/Zurich
BEGIN:DAYLIGHT
TZOFFSETFROM:+0100
TZOFFSETTO:+0200
TZNAME:CEST
DTSTART:20210328T010000
END:DAYLIGHT
BEGIN:STANDARD
TZOFFSETFROM:+0200
TZOFFSETTO:+0100
TZNAME:CET
DTSTART:20211031T010000
END:STANDARD
BEGIN:DAYLIGHT
TZOFFSETFROM:+0100
TZOFFSETTO:+0200
TZNAME:CEST
DTSTART:20220327T010000
END:DAYLIGHT
BEGIN:STANDARD
TZOFFSETFROM:+0200
TZOFFSETTO:+0100
TZNAME:CET
DTSTART:20221030T010000
END:STANDARD
BEGIN:DAYLIGHT
TZOFFSETFROM:+0100
TZOFFSETTO:+0200
TZNAME:CEST
DTSTART:20230326T010000
END:DAYLIGHT
BEGIN:STANDARD
TZOFFSETFROM:+0200
TZOFFSETTO:+0100
TZNAME:CET
DTSTART:20231029T010000
END:STANDARD
END:VTIMEZONE
BEGIN:VEVENT
DTSTART;TZID=Europe/Zurich:20220112T000000
DTEND;TZID=Europe/Zurich:20220112T000000
DTSTAMP:20260424T210543
CREATED:20211220T071327Z
LAST-MODIFIED:20211220T071327Z
UID:120201-1641945600-1641945600@www.karate.ch
SUMMARY:Kick-Off Meeting Nationalkader
DESCRIPTION:
URL:https://www.karate.ch/event/kick-off-meeting-nationalkader/
END:VEVENT
BEGIN:VEVENT
DTSTART;TZID=Europe/Zurich:20220115T090000
DTEND;TZID=Europe/Zurich:20220115T113000
DTSTAMP:20260424T210543
CREATED:20220106T085249Z
LAST-MODIFIED:20220106T085801Z
UID:120933-1642237200-1642246200@www.karate.ch
SUMMARY:Kata Kader U18/U21/Elite
DESCRIPTION:
URL:https://www.karate.ch/event/kata-kader-u18-u21-elite/
LOCATION:Zen Shin DS 102\, Dufourstr. 102a\, 2502 Biel/Bienne
END:VEVENT
BEGIN:VEVENT
DTSTART;TZID=Europe/Zurich:20220115T120000
DTEND;TZID=Europe/Zurich:20220115T143000
DTSTAMP:20260424T210543
CREATED:20220106T090055Z
LAST-MODIFIED:20220106T090055Z
UID:120953-1642248000-1642257000@www.karate.ch
SUMMARY:Kata Kader U14/U16
DESCRIPTION:
URL:https://www.karate.ch/event/kata-kader-u14-u16/
LOCATION:Zen Shin DS 102\, Dufourstr. 102a\, 2502 Biel/Bienne
END:VEVENT
BEGIN:VEVENT
DTSTART;VALUE=DATE:20220127
DTEND;VALUE=DATE:20220201
DTSTAMP:20260424T210543
CREATED:20211220T071500Z
LAST-MODIFIED:20211220T071500Z
UID:120203-1643245200-1643590799@www.karate.ch
SUMMARY:K1 Serie A\, Pamplona\, Spanien
DESCRIPTION:
URL:https://www.karate.ch/event/k1-serie-a-pamplona-spanien/
LOCATION:Pamplona
END:VEVENT
END:VCALENDAR