BEGIN:VCALENDAR
VERSION:2.0
PRODID:-//Swiss Karate Federation - ECPv6.15.20//NONSGML v1.0//EN
CALSCALE:GREGORIAN
METHOD:PUBLISH
X-ORIGINAL-URL:https://www.karate.ch
X-WR-CALDESC:Veranstaltungen für Swiss Karate Federation
REFRESH-INTERVAL;VALUE=DURATION:PT1H
X-Robots-Tag:noindex
X-PUBLISHED-TTL:PT1H
BEGIN:VTIMEZONE
TZID:Europe/Zurich
BEGIN:DAYLIGHT
TZOFFSETFROM:+0100
TZOFFSETTO:+0200
TZNAME:CEST
DTSTART:20210328T010000
END:DAYLIGHT
BEGIN:STANDARD
TZOFFSETFROM:+0200
TZOFFSETTO:+0100
TZNAME:CET
DTSTART:20211031T010000
END:STANDARD
BEGIN:DAYLIGHT
TZOFFSETFROM:+0100
TZOFFSETTO:+0200
TZNAME:CEST
DTSTART:20220327T010000
END:DAYLIGHT
BEGIN:STANDARD
TZOFFSETFROM:+0200
TZOFFSETTO:+0100
TZNAME:CET
DTSTART:20221030T010000
END:STANDARD
BEGIN:DAYLIGHT
TZOFFSETFROM:+0100
TZOFFSETTO:+0200
TZNAME:CEST
DTSTART:20230326T010000
END:DAYLIGHT
BEGIN:STANDARD
TZOFFSETFROM:+0200
TZOFFSETTO:+0100
TZNAME:CET
DTSTART:20231029T010000
END:STANDARD
END:VTIMEZONE
BEGIN:VEVENT
DTSTART;VALUE=DATE:20220401
DTEND;VALUE=DATE:20220405
DTSTAMP:20260424T160635
CREATED:20211220T072633Z
LAST-MODIFIED:20220207T132704Z
UID:120220-1648774800-1649033999@www.karate.ch
SUMMARY:K1 Serie A\, Salzburg\, Austria (abgesagt)
DESCRIPTION:
URL:https://www.karate.ch/event/k1-serie-a-salzburg-austria/
LOCATION:Salzburg\, Austria
END:VEVENT
BEGIN:VEVENT
DTSTART;VALUE=DATE:20220409
DTEND;VALUE=DATE:20220412
DTSTAMP:20260424T160635
CREATED:20211220T072746Z
LAST-MODIFIED:20211220T072746Z
UID:120222-1649466000-1649638799@www.karate.ch
SUMMARY:JKA European Championship\, Sursee
DESCRIPTION:
URL:https://www.karate.ch/event/jka-european-championship-sursee/
LOCATION:Sursee\, Switzerland
END:VEVENT
BEGIN:VEVENT
DTSTART;TZID=Europe/Zurich:20220409T090000
DTEND;TZID=Europe/Zurich:20220409T113000
DTSTAMP:20260424T160635
CREATED:20220106T085448Z
LAST-MODIFIED:20220106T085448Z
UID:120939-1649494800-1649503800@www.karate.ch
SUMMARY:Kata Kader U18/U21/Elite
DESCRIPTION:
URL:https://www.karate.ch/event/kata-kader-u18-u21-elite-4/
LOCATION:Zen Shin DS 102\, Dufourstr. 102a\, 2502 Biel/Bienne
END:VEVENT
BEGIN:VEVENT
DTSTART;TZID=Europe/Zurich:20220409T120000
DTEND;TZID=Europe/Zurich:20220409T143000
DTSTAMP:20260424T160635
CREATED:20220106T090242Z
LAST-MODIFIED:20220106T090242Z
UID:120959-1649505600-1649514600@www.karate.ch
SUMMARY:Kata Kader U14/U16
DESCRIPTION:
URL:https://www.karate.ch/event/kata-kader-u14-u16-4/
LOCATION:Zen Shin DS 102\, Dufourstr. 102a\, 2502 Biel/Bienne
END:VEVENT
BEGIN:VEVENT
DTSTART;VALUE=DATE:20220422
DTEND;VALUE=DATE:20220426
DTSTAMP:20260424T160635
CREATED:20211220T072844Z
LAST-MODIFIED:20220315T094013Z
UID:120224-1650589200-1650848399@www.karate.ch
SUMMARY:K1 Premier League\, Matosinhos\, Portugal
DESCRIPTION:
URL:https://www.karate.ch/event/k1-premier-league-lissabon-portugal/
LOCATION:Lisbon\, Portugal
END:VEVENT
BEGIN:VEVENT
DTSTART;VALUE=DATE:20220423
DTEND;VALUE=DATE:20220425
DTSTAMP:20260424T160635
CREATED:20211220T072958Z
LAST-MODIFIED:20211220T072958Z
UID:120226-1650675600-1650761999@www.karate.ch
SUMMARY:Rheinland Pfalz Open\, Koblenz\, Deutschland
DESCRIPTION:
URL:https://www.karate.ch/event/rheinland-pfalz-open-koblenz-deutschland/
LOCATION:Koblenz
END:VEVENT
BEGIN:VEVENT
DTSTART;TZID=Europe/Zurich:20220423T080000
DTEND;TZID=Europe/Zurich:20220423T170000
DTSTAMP:20260424T160635
CREATED:20220315T103807Z
LAST-MODIFIED:20220315T103807Z
UID:121624-1650700800-1650733200@www.karate.ch
SUMMARY:SKF Schiedsrichterkurs inkl. Ippon Shobu Prüfung
DESCRIPTION:
URL:https://www.karate.ch/event/skf-schiedsrichterkurs-inkl-ippon-shobu-pruefung/
END:VEVENT
BEGIN:VEVENT
DTSTART;VALUE=DATE:20220429
DTEND;VALUE=DATE:20220503
DTSTAMP:20260424T160635
CREATED:20211220T073101Z
LAST-MODIFIED:20211220T073101Z
UID:120228-1651194000-1651453199@www.karate.ch
SUMMARY:K1 Youth League\, Limassol\, Zypern
DESCRIPTION:
URL:https://www.karate.ch/event/k1-youth-league-limassol-zypern-2/
LOCATION:Limassol\, Cyprus
END:VEVENT
END:VCALENDAR