BEGIN:VCALENDAR
VERSION:2.0
PRODID:-//Swiss Karate Federation - ECPv6.15.20//NONSGML v1.0//EN
CALSCALE:GREGORIAN
METHOD:PUBLISH
X-ORIGINAL-URL:https://www.karate.ch
X-WR-CALDESC:Veranstaltungen für Swiss Karate Federation
REFRESH-INTERVAL;VALUE=DURATION:PT1H
X-Robots-Tag:noindex
X-PUBLISHED-TTL:PT1H
BEGIN:VTIMEZONE
TZID:Europe/Zurich
BEGIN:DAYLIGHT
TZOFFSETFROM:+0100
TZOFFSETTO:+0200
TZNAME:CEST
DTSTART:20210328T010000
END:DAYLIGHT
BEGIN:STANDARD
TZOFFSETFROM:+0200
TZOFFSETTO:+0100
TZNAME:CET
DTSTART:20211031T010000
END:STANDARD
BEGIN:DAYLIGHT
TZOFFSETFROM:+0100
TZOFFSETTO:+0200
TZNAME:CEST
DTSTART:20220327T010000
END:DAYLIGHT
BEGIN:STANDARD
TZOFFSETFROM:+0200
TZOFFSETTO:+0100
TZNAME:CET
DTSTART:20221030T010000
END:STANDARD
BEGIN:DAYLIGHT
TZOFFSETFROM:+0100
TZOFFSETTO:+0200
TZNAME:CEST
DTSTART:20230326T010000
END:DAYLIGHT
BEGIN:STANDARD
TZOFFSETFROM:+0200
TZOFFSETTO:+0100
TZNAME:CET
DTSTART:20231029T010000
END:STANDARD
END:VTIMEZONE
BEGIN:VEVENT
DTSTART;VALUE=DATE:20220429
DTEND;VALUE=DATE:20220503
DTSTAMP:20260424T142357
CREATED:20211220T073101Z
LAST-MODIFIED:20211220T073101Z
UID:120228-1651194000-1651453199@www.karate.ch
SUMMARY:K1 Youth League\, Limassol\, Zypern
DESCRIPTION:
URL:https://www.karate.ch/event/k1-youth-league-limassol-zypern-2/
LOCATION:Limassol\, Cyprus
END:VEVENT
BEGIN:VEVENT
DTSTART;VALUE=DATE:20220507
DTEND;VALUE=DATE:20220510
DTSTAMP:20260424T142357
CREATED:20211220T073220Z
LAST-MODIFIED:20211220T073220Z
UID:120230-1651885200-1652057999@www.karate.ch
SUMMARY:Nationalkader Zuchwil
DESCRIPTION:
URL:https://www.karate.ch/event/nationalkader-zuchwil-4/
LOCATION:Zuchwil
END:VEVENT
BEGIN:VEVENT
DTSTART;TZID=Europe/Zurich:20220507T090000
DTEND;TZID=Europe/Zurich:20220507T113000
DTSTAMP:20260424T142357
CREATED:20220106T085524Z
LAST-MODIFIED:20220106T085524Z
UID:120941-1651914000-1651923000@www.karate.ch
SUMMARY:Kata Kader U18/U21/Elite
DESCRIPTION:
URL:https://www.karate.ch/event/kata-kader-u18-u21-elite-5/
LOCATION:Zen Shin DS 102\, Dufourstr. 102a\, 2502 Biel/Bienne
END:VEVENT
BEGIN:VEVENT
DTSTART;TZID=Europe/Zurich:20220507T120000
DTEND;TZID=Europe/Zurich:20220507T143000
DTSTAMP:20260424T142357
CREATED:20220106T090318Z
LAST-MODIFIED:20220106T090318Z
UID:120961-1651924800-1651933800@www.karate.ch
SUMMARY:Kata Kader U14/U16
DESCRIPTION:
URL:https://www.karate.ch/event/kata-kader-u14-u16-5/
LOCATION:Zen Shin DS 102\, Dufourstr. 102a\, 2502 Biel/Bienne
END:VEVENT
BEGIN:VEVENT
DTSTART;VALUE=DATE:20220508
DTEND;VALUE=DATE:20220510
DTSTAMP:20260424T142357
CREATED:20211220T081153Z
LAST-MODIFIED:20220315T105215Z
UID:120299-1651971600-1652057999@www.karate.ch
SUMMARY:Swiss Junior Open\, Basel
DESCRIPTION:
URL:https://www.karate.ch/event/swiss-junior-open-basel/
LOCATION:Basel\, Switzerland
END:VEVENT
BEGIN:VEVENT
DTSTART;VALUE=DATE:20220513
DTEND;VALUE=DATE:20220517
DTSTAMP:20260424T142357
CREATED:20211220T072327Z
LAST-MODIFIED:20220119T094518Z
UID:120214-1652403600-1652662799@www.karate.ch
SUMMARY:K1 Premier League\, Rabat\, Marokko
DESCRIPTION:
URL:https://www.karate.ch/event/k1-premier-league-rabat-marokko-2/
LOCATION:Rabat\, Morocco
END:VEVENT
BEGIN:VEVENT
DTSTART;VALUE=DATE:20220514
DTEND;VALUE=DATE:20220516
DTSTAMP:20260424T142357
CREATED:20211220T073511Z
LAST-MODIFIED:20220315T104600Z
UID:120235-1652490000-1652576399@www.karate.ch
SUMMARY:Fujimura Cup\, Wettingen
DESCRIPTION:
URL:https://www.karate.ch/event/fujimura-cup-wettingen/
LOCATION:Wettingen\, Switzerland
END:VEVENT
BEGIN:VEVENT
DTSTART;VALUE=DATE:20220521
DTEND;VALUE=DATE:20220524
DTSTAMP:20260424T142357
CREATED:20211220T073557Z
LAST-MODIFIED:20211220T073557Z
UID:120237-1653094800-1653267599@www.karate.ch
SUMMARY:SKL Wettingen
DESCRIPTION:
URL:https://www.karate.ch/event/skl-wettingen/
LOCATION:Wettingen\, Switzerland
END:VEVENT
BEGIN:VEVENT
DTSTART;VALUE=DATE:20220525
DTEND;VALUE=DATE:20220531
DTSTAMP:20260424T142357
CREATED:20211220T073400Z
LAST-MODIFIED:20220117T085431Z
UID:120232-1653440400-1653872399@www.karate.ch
SUMMARY:EKF Senior Championship\, Gaziantep\, Türkei
DESCRIPTION:
URL:https://www.karate.ch/event/ekf-senior-championship-gaziantep-tuerkei/
LOCATION:Gaziantep
END:VEVENT
BEGIN:VEVENT
DTSTART;VALUE=DATE:20220528
DTEND;VALUE=DATE:20220530
DTSTAMP:20260424T142357
CREATED:20211220T073646Z
LAST-MODIFIED:20211220T073646Z
UID:120239-1653699600-1653785999@www.karate.ch
SUMMARY:Eurocup\, Zell am See\, Austria
DESCRIPTION:
URL:https://www.karate.ch/event/eurocup-zell-am-see-austria-2/
LOCATION:Zell am See
END:VEVENT
BEGIN:VEVENT
DTSTART;VALUE=DATE:20220529
DTEND;VALUE=DATE:20220531
DTSTAMP:20260424T142357
CREATED:20211220T073847Z
LAST-MODIFIED:20220214T155414Z
UID:120244-1653786000-1653872399@www.karate.ch
SUMMARY:Ippon Shobu SM\, Bern
DESCRIPTION:
URL:https://www.karate.ch/event/ippon-shobu-sm-bern/
LOCATION:Bern\, Switzerland
END:VEVENT
END:VCALENDAR