BEGIN:VCALENDAR
VERSION:2.0
PRODID:-//Swiss Karate Federation - ECPv6.15.20//NONSGML v1.0//EN
CALSCALE:GREGORIAN
METHOD:PUBLISH
X-ORIGINAL-URL:https://www.karate.ch
X-WR-CALDESC:Veranstaltungen für Swiss Karate Federation
REFRESH-INTERVAL;VALUE=DURATION:PT1H
X-Robots-Tag:noindex
X-PUBLISHED-TTL:PT1H
BEGIN:VTIMEZONE
TZID:Europe/Zurich
BEGIN:DAYLIGHT
TZOFFSETFROM:+0100
TZOFFSETTO:+0200
TZNAME:CEST
DTSTART:20210328T010000
END:DAYLIGHT
BEGIN:STANDARD
TZOFFSETFROM:+0200
TZOFFSETTO:+0100
TZNAME:CET
DTSTART:20211031T010000
END:STANDARD
BEGIN:DAYLIGHT
TZOFFSETFROM:+0100
TZOFFSETTO:+0200
TZNAME:CEST
DTSTART:20220327T010000
END:DAYLIGHT
BEGIN:STANDARD
TZOFFSETFROM:+0200
TZOFFSETTO:+0100
TZNAME:CET
DTSTART:20221030T010000
END:STANDARD
BEGIN:DAYLIGHT
TZOFFSETFROM:+0100
TZOFFSETTO:+0200
TZNAME:CEST
DTSTART:20230326T010000
END:DAYLIGHT
BEGIN:STANDARD
TZOFFSETFROM:+0200
TZOFFSETTO:+0100
TZNAME:CET
DTSTART:20231029T010000
END:STANDARD
END:VTIMEZONE
BEGIN:VEVENT
DTSTART;TZID=Europe/Zurich:20220820T090000
DTEND;TZID=Europe/Zurich:20220820T090000
DTSTAMP:20260422T051753
CREATED:20220106T085636Z
LAST-MODIFIED:20220106T085636Z
UID:120945-1660986000-1660986000@www.karate.ch
SUMMARY:Kata Kader U18/U21/Elite
DESCRIPTION:
URL:https://www.karate.ch/event/kata-kader-u18-u21-elite-7/
LOCATION:Zen Shin DS 102\, Dufourstr. 102a\, 2502 Biel/Bienne
END:VEVENT
BEGIN:VEVENT
DTSTART;TZID=Europe/Zurich:20220820T120000
DTEND;TZID=Europe/Zurich:20220820T143000
DTSTAMP:20260422T051753
CREATED:20220106T090450Z
LAST-MODIFIED:20220106T090450Z
UID:120965-1660996800-1661005800@www.karate.ch
SUMMARY:Kata Kader U14/U16
DESCRIPTION:
URL:https://www.karate.ch/event/kata-kader-u14-u16-7/
LOCATION:Zen Shin DS 102\, Dufourstr. 102a\, 2502 Biel/Bienne
END:VEVENT
BEGIN:VEVENT
DTSTART;VALUE=DATE:20220827
DTEND;VALUE=DATE:20220829
DTSTAMP:20260422T051753
CREATED:20211220T074428Z
LAST-MODIFIED:20211220T074428Z
UID:120255-1661562000-1661648399@www.karate.ch
SUMMARY:Coach Modul
DESCRIPTION:
URL:https://www.karate.ch/event/coach-modul-2/
END:VEVENT
END:VCALENDAR