BEGIN:VCALENDAR
VERSION:2.0
PRODID:-//Swiss Karate Federation - ECPv6.15.20//NONSGML v1.0//EN
CALSCALE:GREGORIAN
METHOD:PUBLISH
X-ORIGINAL-URL:https://www.karate.ch
X-WR-CALDESC:Veranstaltungen für Swiss Karate Federation
REFRESH-INTERVAL;VALUE=DURATION:PT1H
X-Robots-Tag:noindex
X-PUBLISHED-TTL:PT1H
BEGIN:VTIMEZONE
TZID:Europe/Zurich
BEGIN:DAYLIGHT
TZOFFSETFROM:+0100
TZOFFSETTO:+0200
TZNAME:CEST
DTSTART:20210328T010000
END:DAYLIGHT
BEGIN:STANDARD
TZOFFSETFROM:+0200
TZOFFSETTO:+0100
TZNAME:CET
DTSTART:20211031T010000
END:STANDARD
BEGIN:DAYLIGHT
TZOFFSETFROM:+0100
TZOFFSETTO:+0200
TZNAME:CEST
DTSTART:20220327T010000
END:DAYLIGHT
BEGIN:STANDARD
TZOFFSETFROM:+0200
TZOFFSETTO:+0100
TZNAME:CET
DTSTART:20221030T010000
END:STANDARD
BEGIN:DAYLIGHT
TZOFFSETFROM:+0100
TZOFFSETTO:+0200
TZNAME:CEST
DTSTART:20230326T010000
END:DAYLIGHT
BEGIN:STANDARD
TZOFFSETFROM:+0200
TZOFFSETTO:+0100
TZNAME:CET
DTSTART:20231029T010000
END:STANDARD
END:VTIMEZONE
BEGIN:VEVENT
DTSTART;VALUE=DATE:20220902
DTEND;VALUE=DATE:20220906
DTSTAMP:20260422T035218
CREATED:20211220T074535Z
LAST-MODIFIED:20211220T074535Z
UID:120257-1662080400-1662339599@www.karate.ch
SUMMARY:K1 Premier League\, Baku\, Aserbaidschan
DESCRIPTION:
URL:https://www.karate.ch/event/k1-premier-league-baku-aserbaidschan/
LOCATION:Baku
END:VEVENT
BEGIN:VEVENT
DTSTART;VALUE=DATE:20220909
DTEND;VALUE=DATE:20220913
DTSTAMP:20260422T035218
CREATED:20211220T074647Z
LAST-MODIFIED:20211220T074647Z
UID:120259-1662685200-1662944399@www.karate.ch
SUMMARY:WSKA Championship\, Liverpool\, England
DESCRIPTION:
URL:https://www.karate.ch/event/wska-championship-liverpool-england/
LOCATION:Liverpool
END:VEVENT
BEGIN:VEVENT
DTSTART;TZID=Europe/Zurich:20220910T080000
DTEND;TZID=Europe/Zurich:20220911T170000
DTSTAMP:20260422T035218
CREATED:20220214T155736Z
LAST-MODIFIED:20220214T155736Z
UID:121407-1662796800-1662915600@www.karate.ch
SUMMARY:Swiss League Neuchâtel
DESCRIPTION:
URL:https://www.karate.ch/event/swiss-league-neuchatel/
LOCATION:Neuchâtel\, Switzerland
END:VEVENT
BEGIN:VEVENT
DTSTART;VALUE=DATE:20220917
DTEND;VALUE=DATE:20220919
DTSTAMP:20260422T035218
CREATED:20220106T094604Z
LAST-MODIFIED:20220214T155851Z
UID:120975-1663376400-1663462799@www.karate.ch
SUMMARY:Kata Kader U14-Elite
DESCRIPTION:
URL:https://www.karate.ch/event/provisorisch-kata-kader-u14-elite-2/
LOCATION:Zen Shin DS 102\, Dufourstr. 102a\, 2502 Biel/Bienne
END:VEVENT
BEGIN:VEVENT
DTSTART;VALUE=DATE:20220917
DTEND;VALUE=DATE:20220920
DTSTAMP:20260422T035218
CREATED:20211220T081254Z
LAST-MODIFIED:20211220T081254Z
UID:120301-1663376400-1663549199@www.karate.ch
SUMMARY:Basel Open Master\, Basel
DESCRIPTION:
URL:https://www.karate.ch/event/basel-open-master-basel/
LOCATION:Basel\, Switzerland
END:VEVENT
BEGIN:VEVENT
DTSTART;VALUE=DATE:20220917
DTEND;VALUE=DATE:20220920
DTSTAMP:20260422T035218
CREATED:20220802T123114Z
LAST-MODIFIED:20220802T123114Z
UID:122167-1663376400-1663549199@www.karate.ch
SUMMARY:Budapest Open\, Budapest\, Ungarn
DESCRIPTION:
URL:https://www.karate.ch/event/budapest-open-budapest-ungarn/
LOCATION:Budapest\, Hungary
END:VEVENT
BEGIN:VEVENT
DTSTART;VALUE=DATE:20220923
DTEND;VALUE=DATE:20220927
DTSTAMP:20260422T035218
CREATED:20211220T074922Z
LAST-MODIFIED:20211220T074922Z
UID:120265-1663894800-1664153999@www.karate.ch
SUMMARY:EKF Kleinstaaten EM\, Vaduz
DESCRIPTION:
URL:https://www.karate.ch/event/ekf-kleinstaaten-em-vaduz/
LOCATION:Vaduz
END:VEVENT
BEGIN:VEVENT
DTSTART;VALUE=DATE:20220923
DTEND;VALUE=DATE:20220927
DTSTAMP:20260422T035218
CREATED:20220501T190120Z
LAST-MODIFIED:20220501T190120Z
UID:121773-1663894800-1664153999@www.karate.ch
SUMMARY:Series A\, Kocaeli\, Türkei
DESCRIPTION:
URL:https://www.karate.ch/event/series-a-kocaeli-tuerkei/
LOCATION:Kocaeli
END:VEVENT
BEGIN:VEVENT
DTSTART;VALUE=DATE:20220924
DTEND;VALUE=DATE:20220926
DTSTAMP:20260422T035218
CREATED:20211220T075016Z
LAST-MODIFIED:20220214T155959Z
UID:120267-1663981200-1664067599@www.karate.ch
SUMMARY:Lion Cup\, Luxemburg
DESCRIPTION:
URL:https://www.karate.ch/event/lion-cup-luxemburg/
LOCATION:Luxembourg\, Luxembourg
END:VEVENT
END:VCALENDAR