BEGIN:VCALENDAR
VERSION:2.0
PRODID:-//Swiss Karate Federation - ECPv6.15.20//NONSGML v1.0//EN
CALSCALE:GREGORIAN
METHOD:PUBLISH
X-WR-CALNAME:Swiss Karate Federation
X-ORIGINAL-URL:https://www.karate.ch
X-WR-CALDESC:Veranstaltungen für Swiss Karate Federation
REFRESH-INTERVAL;VALUE=DURATION:PT1H
X-Robots-Tag:noindex
X-PUBLISHED-TTL:PT1H
BEGIN:VTIMEZONE
TZID:Europe/Zurich
BEGIN:DAYLIGHT
TZOFFSETFROM:+0100
TZOFFSETTO:+0200
TZNAME:CEST
DTSTART:20210328T010000
END:DAYLIGHT
BEGIN:STANDARD
TZOFFSETFROM:+0200
TZOFFSETTO:+0100
TZNAME:CET
DTSTART:20211031T010000
END:STANDARD
BEGIN:DAYLIGHT
TZOFFSETFROM:+0100
TZOFFSETTO:+0200
TZNAME:CEST
DTSTART:20220327T010000
END:DAYLIGHT
BEGIN:STANDARD
TZOFFSETFROM:+0200
TZOFFSETTO:+0100
TZNAME:CET
DTSTART:20221030T010000
END:STANDARD
BEGIN:DAYLIGHT
TZOFFSETFROM:+0100
TZOFFSETTO:+0200
TZNAME:CEST
DTSTART:20230326T010000
END:DAYLIGHT
BEGIN:STANDARD
TZOFFSETFROM:+0200
TZOFFSETTO:+0100
TZNAME:CET
DTSTART:20231029T010000
END:STANDARD
END:VTIMEZONE
BEGIN:VEVENT
DTSTART;VALUE=DATE:20221105
DTEND;VALUE=DATE:20221107
DTSTAMP:20260422T004628
CREATED:20220315T095313Z
LAST-MODIFIED:20220315T095313Z
UID:121621-1667610000-1667696399@www.karate.ch
SUMMARY:Zentralvorstand & Delegiertenversammlung\, Olten
DESCRIPTION:
URL:https://www.karate.ch/event/zentralvorstand-delegiertenversammlung-olten/
END:VEVENT
BEGIN:VEVENT
DTSTART;VALUE=DATE:20221106
DTEND;VALUE=DATE:20221108
DTSTAMP:20260422T004628
CREATED:20220501T181344Z
LAST-MODIFIED:20220501T181757Z
UID:121766-1667696400-1667782799@www.karate.ch
SUMMARY:JKL Cham\, Zug
DESCRIPTION:
URL:https://www.karate.ch/event/jkl-cham-zug/
LOCATION:Cham
END:VEVENT
BEGIN:VEVENT
DTSTART;VALUE=DATE:20221106
DTEND;VALUE=DATE:20221108
DTSTAMP:20260422T004628
CREATED:20220823T075605Z
LAST-MODIFIED:20220823T075605Z
UID:122209-1667696400-1667782799@www.karate.ch
SUMMARY:Leistungstest Elite\, Wettingen
DESCRIPTION:
URL:https://www.karate.ch/event/leistungstest-elite-wettingen/
END:VEVENT
BEGIN:VEVENT
DTSTART;TZID=Europe/Zurich:20221112T090000
DTEND;TZID=Europe/Zurich:20221112T113000
DTSTAMP:20260422T004628
CREATED:20220106T085912Z
LAST-MODIFIED:20220106T085912Z
UID:120949-1668243600-1668252600@www.karate.ch
SUMMARY:Kata Kader U18/U21/Elite
DESCRIPTION:
URL:https://www.karate.ch/event/kata-kader-u18-u21-elite-9/
LOCATION:Zen Shin DS 102\, Dufourstr. 102a\, 2502 Biel/Bienne
END:VEVENT
BEGIN:VEVENT
DTSTART;TZID=Europe/Zurich:20221112T120000
DTEND;TZID=Europe/Zurich:20221112T143000
DTSTAMP:20260422T004628
CREATED:20220106T090604Z
LAST-MODIFIED:20220106T090604Z
UID:120969-1668254400-1668263400@www.karate.ch
SUMMARY:Kata Kader U14/U16
DESCRIPTION:
URL:https://www.karate.ch/event/kata-kader-u14-u16-9/
LOCATION:Zen Shin DS 102\, Dufourstr. 102a\, 2502 Biel/Bienne
END:VEVENT
BEGIN:VEVENT
DTSTART;VALUE=DATE:20221113
DTEND;VALUE=DATE:20221115
DTSTAMP:20260422T004628
CREATED:20220823T075644Z
LAST-MODIFIED:20220823T075644Z
UID:122211-1668301200-1668387599@www.karate.ch
SUMMARY:Leistungstest Elite\, Wettingen
DESCRIPTION:
URL:https://www.karate.ch/event/leistungstest-elite-wettingen-2/
LOCATION:Wettingen\, Switzerland
END:VEVENT
BEGIN:VEVENT
DTSTART;VALUE=DATE:20221118
DTEND;VALUE=DATE:20221122
DTSTAMP:20260422T004628
CREATED:20220315T094705Z
LAST-MODIFIED:20221011T073214Z
UID:121617-1668733200-1668992399@www.karate.ch
SUMMARY:K1 Series A\, Jakarta\, Indonesien
DESCRIPTION:
URL:https://www.karate.ch/event/k1-series-a-hangzhou-china/
LOCATION:Jakarta
END:VEVENT
BEGIN:VEVENT
DTSTART;VALUE=DATE:20221119
DTEND;VALUE=DATE:20221122
DTSTAMP:20260422T004628
CREATED:20211220T075953Z
LAST-MODIFIED:20211220T075953Z
UID:120285-1668819600-1668992399@www.karate.ch
SUMMARY:Nationalkader Zuchwil
DESCRIPTION:
URL:https://www.karate.ch/event/nationalkader-zuchwil-6/
LOCATION:Zuchwil
END:VEVENT
BEGIN:VEVENT
DTSTART;VALUE=DATE:20221126
DTEND;VALUE=DATE:20221129
DTSTAMP:20260422T004628
CREATED:20211220T075541Z
LAST-MODIFIED:20211220T075541Z
UID:120279-1669424400-1669597199@www.karate.ch
SUMMARY:SM Shobu\, Sursee
DESCRIPTION:
URL:https://www.karate.ch/event/sm-shobu-sursee/
LOCATION:Sursee\, Switzerland
END:VEVENT
END:VCALENDAR