BEGIN:VCALENDAR
VERSION:2.0
PRODID:-//Swiss Karate Federation - ECPv6.15.20//NONSGML v1.0//EN
CALSCALE:GREGORIAN
METHOD:PUBLISH
X-WR-CALNAME:Swiss Karate Federation
X-ORIGINAL-URL:https://www.karate.ch
X-WR-CALDESC:Veranstaltungen für Swiss Karate Federation
REFRESH-INTERVAL;VALUE=DURATION:PT1H
X-Robots-Tag:noindex
X-PUBLISHED-TTL:PT1H
BEGIN:VTIMEZONE
TZID:Europe/Zurich
BEGIN:DAYLIGHT
TZOFFSETFROM:+0100
TZOFFSETTO:+0200
TZNAME:CEST
DTSTART:20220327T010000
END:DAYLIGHT
BEGIN:STANDARD
TZOFFSETFROM:+0200
TZOFFSETTO:+0100
TZNAME:CET
DTSTART:20221030T010000
END:STANDARD
BEGIN:DAYLIGHT
TZOFFSETFROM:+0100
TZOFFSETTO:+0200
TZNAME:CEST
DTSTART:20230326T010000
END:DAYLIGHT
BEGIN:STANDARD
TZOFFSETFROM:+0200
TZOFFSETTO:+0100
TZNAME:CET
DTSTART:20231029T010000
END:STANDARD
BEGIN:DAYLIGHT
TZOFFSETFROM:+0100
TZOFFSETTO:+0200
TZNAME:CEST
DTSTART:20240331T010000
END:DAYLIGHT
BEGIN:STANDARD
TZOFFSETFROM:+0200
TZOFFSETTO:+0100
TZNAME:CET
DTSTART:20241027T010000
END:STANDARD
END:VTIMEZONE
BEGIN:VEVENT
DTSTART;TZID=Europe/Zurich:20230310T000000
DTEND;TZID=Europe/Zurich:20230310T000000
DTSTAMP:20260421T183536
CREATED:20230122T133935Z
LAST-MODIFIED:20230122T133935Z
UID:124667-1678406400-1678406400@www.karate.ch
SUMMARY:ZV Sitzung\, Olten
DESCRIPTION:
URL:https://www.karate.ch/event/zv-sitzung-olten/
END:VEVENT
BEGIN:VEVENT
DTSTART;VALUE=DATE:20230310
DTEND;VALUE=DATE:20230314
DTSTAMP:20260421T183536
CREATED:20221007T143227Z
LAST-MODIFIED:20221007T143227Z
UID:122399-1678410000-1678669199@www.karate.ch
SUMMARY:Series A City TBD\, Türkei
DESCRIPTION:
URL:https://www.karate.ch/event/series-a-city-tbd-tuerkei/
LOCATION:TBD
END:VEVENT
BEGIN:VEVENT
DTSTART;VALUE=DATE:20230311
DTEND;VALUE=DATE:20230313
DTSTAMP:20260421T183536
CREATED:20221007T143334Z
LAST-MODIFIED:20221007T143334Z
UID:122402-1678496400-1678582799@www.karate.ch
SUMMARY:Junior Karate League Windisch\, Schweiz
DESCRIPTION:
URL:https://www.karate.ch/event/junior-karate-league-windisch-schweiz/
LOCATION:Windisch
END:VEVENT
BEGIN:VEVENT
DTSTART;VALUE=DATE:20230324
DTEND;VALUE=DATE:20230328
DTSTAMP:20260421T183536
CREATED:20221007T143454Z
LAST-MODIFIED:20221007T143454Z
UID:122404-1679619600-1679878799@www.karate.ch
SUMMARY:EKF Senior Championships Guadalajara\, Spanien
DESCRIPTION:
URL:https://www.karate.ch/event/ekf-senior-championships-guadalajara-spanien/
LOCATION:Guadalajara\, Mexico
END:VEVENT
BEGIN:VEVENT
DTSTART;VALUE=DATE:20230325
DTEND;VALUE=DATE:20230328
DTSTAMP:20260421T183536
CREATED:20221007T143550Z
LAST-MODIFIED:20221007T143550Z
UID:122407-1679706000-1679878799@www.karate.ch
SUMMARY:SKL Wettingen\, Schweiz
DESCRIPTION:
URL:https://www.karate.ch/event/skl-wettingen-schweiz/
LOCATION:Wettingen\, Switzerland
END:VEVENT
END:VCALENDAR