BEGIN:VCALENDAR
VERSION:2.0
PRODID:-//Swiss Karate Federation - ECPv6.15.20//NONSGML v1.0//EN
CALSCALE:GREGORIAN
METHOD:PUBLISH
X-ORIGINAL-URL:https://www.karate.ch
X-WR-CALDESC:Veranstaltungen für Swiss Karate Federation
REFRESH-INTERVAL;VALUE=DURATION:PT1H
X-Robots-Tag:noindex
X-PUBLISHED-TTL:PT1H
BEGIN:VTIMEZONE
TZID:Europe/Zurich
BEGIN:DAYLIGHT
TZOFFSETFROM:+0100
TZOFFSETTO:+0200
TZNAME:CEST
DTSTART:20220327T010000
END:DAYLIGHT
BEGIN:STANDARD
TZOFFSETFROM:+0200
TZOFFSETTO:+0100
TZNAME:CET
DTSTART:20221030T010000
END:STANDARD
BEGIN:DAYLIGHT
TZOFFSETFROM:+0100
TZOFFSETTO:+0200
TZNAME:CEST
DTSTART:20230326T010000
END:DAYLIGHT
BEGIN:STANDARD
TZOFFSETFROM:+0200
TZOFFSETTO:+0100
TZNAME:CET
DTSTART:20231029T010000
END:STANDARD
BEGIN:DAYLIGHT
TZOFFSETFROM:+0100
TZOFFSETTO:+0200
TZNAME:CEST
DTSTART:20240331T010000
END:DAYLIGHT
BEGIN:STANDARD
TZOFFSETFROM:+0200
TZOFFSETTO:+0100
TZNAME:CET
DTSTART:20241027T010000
END:STANDARD
END:VTIMEZONE
BEGIN:VEVENT
DTSTART;VALUE=DATE:20230506
DTEND;VALUE=DATE:20230508
DTSTAMP:20260421T151336
CREATED:20221227T154625Z
LAST-MODIFIED:20221227T154625Z
UID:123204-1683334800-1683421199@www.karate.ch
SUMMARY:Internat. Swiss Junior Open\, Basel
DESCRIPTION:
URL:https://www.karate.ch/event/internat-swiss-junior-open-basel/
LOCATION:Basel\, Switzerland
END:VEVENT
BEGIN:VEVENT
DTSTART;VALUE=DATE:20230512
DTEND;VALUE=DATE:20230516
DTSTAMP:20260421T151336
CREATED:20221007T145703Z
LAST-MODIFIED:20221227T154806Z
UID:122444-1683853200-1684112399@www.karate.ch
SUMMARY:Premier League Rabat\, Marocco
DESCRIPTION:
URL:https://www.karate.ch/event/series-a-tbd-canada/
LOCATION:Rabat\, Morocco
END:VEVENT
BEGIN:VEVENT
DTSTART;VALUE=DATE:20230513
DTEND;VALUE=DATE:20230515
DTSTAMP:20260421T151336
CREATED:20221227T154940Z
LAST-MODIFIED:20221227T154940Z
UID:123208-1683939600-1684025999@www.karate.ch
SUMMARY:Fujimura Cup\, Wettingen
DESCRIPTION:
URL:https://www.karate.ch/event/fujimura-cup-wettingen-2/
LOCATION:Wettingen\, Switzerland
END:VEVENT
BEGIN:VEVENT
DTSTART;VALUE=DATE:20230514
DTEND;VALUE=DATE:20230516
DTSTAMP:20260421T151336
CREATED:20221227T155045Z
LAST-MODIFIED:20230319T040135Z
UID:123210-1684026000-1684112399@www.karate.ch
SUMMARY:Junior Karate League Liestal
DESCRIPTION:
URL:https://www.karate.ch/event/junior-karate-league-liestal/
LOCATION:Liestal
END:VEVENT
BEGIN:VEVENT
DTSTART;VALUE=DATE:20230520
DTEND;VALUE=DATE:20230521
DTSTAMP:20260421T151336
CREATED:20221227T155134Z
LAST-MODIFIED:20221227T155134Z
UID:123212-1684544400-1684544400@www.karate.ch
SUMMARY:Eurocup Zell am See
DESCRIPTION:
URL:https://www.karate.ch/event/eurocup-zell-am-see/
LOCATION:Zell am See
END:VEVENT
BEGIN:VEVENT
DTSTART;VALUE=DATE:20230527
DTEND;VALUE=DATE:20230531
DTSTAMP:20260421T151336
CREATED:20221227T155239Z
LAST-MODIFIED:20221227T155239Z
UID:123214-1685149200-1685408399@www.karate.ch
SUMMARY:Nationalkader Zuchwil
DESCRIPTION:
URL:https://www.karate.ch/event/nationalkader-zuchwil-7/
LOCATION:Zuchwil
END:VEVENT
END:VCALENDAR