BEGIN:VCALENDAR
VERSION:2.0
PRODID:-//Swiss Karate Federation - ECPv6.15.20//NONSGML v1.0//EN
CALSCALE:GREGORIAN
METHOD:PUBLISH
X-ORIGINAL-URL:https://www.karate.ch
X-WR-CALDESC:Veranstaltungen für Swiss Karate Federation
REFRESH-INTERVAL;VALUE=DURATION:PT1H
X-Robots-Tag:noindex
X-PUBLISHED-TTL:PT1H
BEGIN:VTIMEZONE
TZID:Europe/Zurich
BEGIN:DAYLIGHT
TZOFFSETFROM:+0100
TZOFFSETTO:+0200
TZNAME:CEST
DTSTART:20220327T010000
END:DAYLIGHT
BEGIN:STANDARD
TZOFFSETFROM:+0200
TZOFFSETTO:+0100
TZNAME:CET
DTSTART:20221030T010000
END:STANDARD
BEGIN:DAYLIGHT
TZOFFSETFROM:+0100
TZOFFSETTO:+0200
TZNAME:CEST
DTSTART:20230326T010000
END:DAYLIGHT
BEGIN:STANDARD
TZOFFSETFROM:+0200
TZOFFSETTO:+0100
TZNAME:CET
DTSTART:20231029T010000
END:STANDARD
BEGIN:DAYLIGHT
TZOFFSETFROM:+0100
TZOFFSETTO:+0200
TZNAME:CEST
DTSTART:20240331T010000
END:DAYLIGHT
BEGIN:STANDARD
TZOFFSETFROM:+0200
TZOFFSETTO:+0100
TZNAME:CET
DTSTART:20241027T010000
END:STANDARD
END:VTIMEZONE
BEGIN:VEVENT
DTSTART;VALUE=DATE:20231202
DTEND;VALUE=DATE:20231204
DTSTAMP:20260421T045826
CREATED:20221227T161722Z
LAST-MODIFIED:20221227T161722Z
UID:123256-1701478800-1701565199@www.karate.ch
SUMMARY:SSKF Meisterschaft
DESCRIPTION:
URL:https://www.karate.ch/event/sskf-meisterschaft/
END:VEVENT
BEGIN:VEVENT
DTSTART;TZID=Europe/Zurich:20231208T000000
DTEND;TZID=Europe/Zurich:20231208T000000
DTSTAMP:20260421T045826
CREATED:20230122T134100Z
LAST-MODIFIED:20230122T134100Z
UID:124670-1701993600-1701993600@www.karate.ch
SUMMARY:ZV Sitzung\, Olten
DESCRIPTION:
URL:https://www.karate.ch/event/zv-sitzung-olten-2/
LOCATION:Olten\, Switzerland
END:VEVENT
BEGIN:VEVENT
DTSTART;VALUE=DATE:20231208
DTEND;VALUE=DATE:20231212
DTSTAMP:20260421T045826
CREATED:20221007T145234Z
LAST-MODIFIED:20221007T145234Z
UID:122436-1701997200-1702256399@www.karate.ch
SUMMARY:Youth League Venice\, Italien
DESCRIPTION:
URL:https://www.karate.ch/event/youth-league-venice-italien/
LOCATION:Venice\, Italy
END:VEVENT
END:VCALENDAR