BEGIN:VCALENDAR
VERSION:2.0
PRODID:-//Swiss Karate Federation - ECPv6.15.20//NONSGML v1.0//EN
CALSCALE:GREGORIAN
METHOD:PUBLISH
X-ORIGINAL-URL:https://www.karate.ch
X-WR-CALDESC:Veranstaltungen für Swiss Karate Federation
REFRESH-INTERVAL;VALUE=DURATION:PT1H
X-Robots-Tag:noindex
X-PUBLISHED-TTL:PT1H
BEGIN:VTIMEZONE
TZID:Europe/Zurich
BEGIN:DAYLIGHT
TZOFFSETFROM:+0100
TZOFFSETTO:+0200
TZNAME:CEST
DTSTART:20230326T010000
END:DAYLIGHT
BEGIN:STANDARD
TZOFFSETFROM:+0200
TZOFFSETTO:+0100
TZNAME:CET
DTSTART:20231029T010000
END:STANDARD
BEGIN:DAYLIGHT
TZOFFSETFROM:+0100
TZOFFSETTO:+0200
TZNAME:CEST
DTSTART:20240331T010000
END:DAYLIGHT
BEGIN:STANDARD
TZOFFSETFROM:+0200
TZOFFSETTO:+0100
TZNAME:CET
DTSTART:20241027T010000
END:STANDARD
BEGIN:DAYLIGHT
TZOFFSETFROM:+0100
TZOFFSETTO:+0200
TZNAME:CEST
DTSTART:20250330T010000
END:DAYLIGHT
BEGIN:STANDARD
TZOFFSETFROM:+0200
TZOFFSETTO:+0100
TZNAME:CET
DTSTART:20251026T010000
END:STANDARD
END:VTIMEZONE
BEGIN:VEVENT
DTSTART;VALUE=DATE:20240112
DTEND;VALUE=DATE:20240116
DTSTAMP:20260421T031247
CREATED:20231117T131852Z
LAST-MODIFIED:20231117T131859Z
UID:126022-1705021200-1705280399@www.karate.ch
SUMMARY:KARATE 1 SERIE A ATHENS
DESCRIPTION:
URL:https://www.karate.ch/event/karate-1-serie-a-athens/
END:VEVENT
BEGIN:VEVENT
DTSTART;VALUE=DATE:20240120
DTEND;VALUE=DATE:20240122
DTSTAMP:20260421T031247
CREATED:20231117T143340Z
LAST-MODIFIED:20231117T143340Z
UID:126042-1705712400-1705798799@www.karate.ch
SUMMARY:Austrian Karate Championscup Hard
DESCRIPTION:
URL:https://www.karate.ch/event/austrian-karate-championscup-hard/
END:VEVENT
BEGIN:VEVENT
DTSTART;VALUE=DATE:20240126
DTEND;VALUE=DATE:20240130
DTSTAMP:20260421T031247
CREATED:20231117T132003Z
LAST-MODIFIED:20231117T132003Z
UID:126024-1706230800-1706489999@www.karate.ch
SUMMARY:KARATE1 PREMIER LEAGUE PARIS
DESCRIPTION:
URL:https://www.karate.ch/event/karate1-premier-league-paris/
END:VEVENT
END:VCALENDAR