BEGIN:VCALENDAR
VERSION:2.0
PRODID:-//Swiss Karate Federation - ECPv6.15.20//NONSGML v1.0//EN
CALSCALE:GREGORIAN
METHOD:PUBLISH
X-ORIGINAL-URL:https://www.karate.ch
X-WR-CALDESC:Veranstaltungen für Swiss Karate Federation
REFRESH-INTERVAL;VALUE=DURATION:PT1H
X-Robots-Tag:noindex
X-PUBLISHED-TTL:PT1H
BEGIN:VTIMEZONE
TZID:Europe/Zurich
BEGIN:DAYLIGHT
TZOFFSETFROM:+0100
TZOFFSETTO:+0200
TZNAME:CEST
DTSTART:20230326T010000
END:DAYLIGHT
BEGIN:STANDARD
TZOFFSETFROM:+0200
TZOFFSETTO:+0100
TZNAME:CET
DTSTART:20231029T010000
END:STANDARD
BEGIN:DAYLIGHT
TZOFFSETFROM:+0100
TZOFFSETTO:+0200
TZNAME:CEST
DTSTART:20240331T010000
END:DAYLIGHT
BEGIN:STANDARD
TZOFFSETFROM:+0200
TZOFFSETTO:+0100
TZNAME:CET
DTSTART:20241027T010000
END:STANDARD
BEGIN:DAYLIGHT
TZOFFSETFROM:+0100
TZOFFSETTO:+0200
TZNAME:CEST
DTSTART:20250330T010000
END:DAYLIGHT
BEGIN:STANDARD
TZOFFSETFROM:+0200
TZOFFSETTO:+0100
TZNAME:CET
DTSTART:20251026T010000
END:STANDARD
END:VTIMEZONE
BEGIN:VEVENT
DTSTART;VALUE=DATE:20240209
DTEND;VALUE=DATE:20240213
DTSTAMP:20260421T013823
CREATED:20231117T132141Z
LAST-MODIFIED:20231117T132141Z
UID:126026-1707440400-1707699599@www.karate.ch
SUMMARY:EKF JUNIOR\, CADET & U21 CHAMPIONSHIPS 2024 TBILISI
DESCRIPTION:
URL:https://www.karate.ch/event/ekf-junior-cadet-u21-championships-2024-tbilisi/
LOCATION:TBILIS
END:VEVENT
BEGIN:VEVENT
DTSTART;VALUE=DATE:20240216
DTEND;VALUE=DATE:20240220
DTSTAMP:20260421T013823
CREATED:20231117T132254Z
LAST-MODIFIED:20231117T132254Z
UID:126029-1708045200-1708304399@www.karate.ch
SUMMARY:KARATE SERIES A LARNACA
DESCRIPTION:
URL:https://www.karate.ch/event/karate-series-a-larnaca/
LOCATION:Larnaca\, Cyprus
END:VEVENT
BEGIN:VEVENT
DTSTART;VALUE=DATE:20240222
DTEND;VALUE=DATE:20240227
DTSTAMP:20260421T013823
CREATED:20231117T132424Z
LAST-MODIFIED:20231117T132424Z
UID:126031-1708563600-1708909199@www.karate.ch
SUMMARY:KARATE YOUTH LEAGUE FUJAIRAH
DESCRIPTION:
URL:https://www.karate.ch/event/karate-youth-league-fujairah/
LOCATION:Fujairah 2024
END:VEVENT
END:VCALENDAR