BEGIN:VCALENDAR
VERSION:2.0
PRODID:-//Swiss Karate Federation - ECPv6.15.20//NONSGML v1.0//EN
CALSCALE:GREGORIAN
METHOD:PUBLISH
X-ORIGINAL-URL:https://www.karate.ch
X-WR-CALDESC:Veranstaltungen für Swiss Karate Federation
REFRESH-INTERVAL;VALUE=DURATION:PT1H
X-Robots-Tag:noindex
X-PUBLISHED-TTL:PT1H
BEGIN:VTIMEZONE
TZID:Europe/Zurich
BEGIN:DAYLIGHT
TZOFFSETFROM:+0100
TZOFFSETTO:+0200
TZNAME:CEST
DTSTART:20230326T010000
END:DAYLIGHT
BEGIN:STANDARD
TZOFFSETFROM:+0200
TZOFFSETTO:+0100
TZNAME:CET
DTSTART:20231029T010000
END:STANDARD
BEGIN:DAYLIGHT
TZOFFSETFROM:+0100
TZOFFSETTO:+0200
TZNAME:CEST
DTSTART:20240331T010000
END:DAYLIGHT
BEGIN:STANDARD
TZOFFSETFROM:+0200
TZOFFSETTO:+0100
TZNAME:CET
DTSTART:20241027T010000
END:STANDARD
BEGIN:DAYLIGHT
TZOFFSETFROM:+0100
TZOFFSETTO:+0200
TZNAME:CEST
DTSTART:20250330T010000
END:DAYLIGHT
BEGIN:STANDARD
TZOFFSETFROM:+0200
TZOFFSETTO:+0100
TZNAME:CET
DTSTART:20251026T010000
END:STANDARD
END:VTIMEZONE
BEGIN:VEVENT
DTSTART;VALUE=DATE:20240310
DTEND;VALUE=DATE:20240312
DTSTAMP:20260421T000101
CREATED:20231207T153849Z
LAST-MODIFIED:20240204T014905Z
UID:127198-1710032400-1710118799@www.karate.ch
SUMMARY:Junior Karate League Windisch
DESCRIPTION:
URL:https://www.karate.ch/event/junior-karate-league-brugg/
LOCATION:Windisch
END:VEVENT
BEGIN:VEVENT
DTSTART;VALUE=DATE:20240315
DTEND;VALUE=DATE:20240317
DTSTAMP:20260421T000101
CREATED:20240128T022742Z
LAST-MODIFIED:20240128T022742Z
UID:127532-1710464400-1710550799@www.karate.ch
SUMMARY:ZV Sitzung\, Olten
DESCRIPTION:
URL:https://www.karate.ch/event/zv-sitzung-olten-3/
LOCATION:Olten\, Switzerland
END:VEVENT
BEGIN:VEVENT
DTSTART;TZID=Europe/Zurich:20240315T080000
DTEND;TZID=Europe/Zurich:20240317T170000
DTSTAMP:20260421T000101
CREATED:20231117T143515Z
LAST-MODIFIED:20231117T143515Z
UID:126045-1710489600-1710694800@www.karate.ch
SUMMARY:KARATE 1 PREMIER LEAGUE ANTALYA
DESCRIPTION:
URL:https://www.karate.ch/event/karate-1-premier-league-antalya/
LOCATION:Antalya
END:VEVENT
BEGIN:VEVENT
DTSTART;VALUE=DATE:20240316
DTEND;VALUE=DATE:20240319
DTSTAMP:20260421T000101
CREATED:20240131T023645Z
LAST-MODIFIED:20240131T024306Z
UID:127549-1710550800-1710723599@www.karate.ch
SUMMARY:SKU Promo Tour Vallorbe
DESCRIPTION:
URL:https://www.karate.ch/event/sku-promo-tour-vallorbe/
LOCATION:Vallorbe
END:VEVENT
BEGIN:VEVENT
DTSTART;VALUE=DATE:20240317
DTEND;VALUE=DATE:20240319
DTSTAMP:20260421T000101
CREATED:20231207T154135Z
LAST-MODIFIED:20231207T154135Z
UID:127202-1710637200-1710723599@www.karate.ch
SUMMARY:SKR Frühlingsturnier Dagmarsellen
DESCRIPTION:
URL:https://www.karate.ch/event/skr-fruehlingsturnier-dagmarsellen/
LOCATION:Dagmarsellen
END:VEVENT
BEGIN:VEVENT
DTSTART;VALUE=DATE:20240323
DTEND;VALUE=DATE:20240326
DTSTAMP:20260421T000101
CREATED:20231117T143618Z
LAST-MODIFIED:20231117T143618Z
UID:126048-1711155600-1711328399@www.karate.ch
SUMMARY:Swiss Karate League Wettingen
DESCRIPTION:
URL:https://www.karate.ch/event/swiss-karate-league-wettingen/
LOCATION:Wettingen\, Switzerland
END:VEVENT
END:VCALENDAR