BEGIN:VCALENDAR
VERSION:2.0
PRODID:-//Swiss Karate Federation - ECPv6.15.20//NONSGML v1.0//EN
CALSCALE:GREGORIAN
METHOD:PUBLISH
X-WR-CALNAME:Swiss Karate Federation
X-ORIGINAL-URL:https://www.karate.ch
X-WR-CALDESC:Veranstaltungen für Swiss Karate Federation
REFRESH-INTERVAL;VALUE=DURATION:PT1H
X-Robots-Tag:noindex
X-PUBLISHED-TTL:PT1H
BEGIN:VTIMEZONE
TZID:Europe/Zurich
BEGIN:DAYLIGHT
TZOFFSETFROM:+0100
TZOFFSETTO:+0200
TZNAME:CEST
DTSTART:20230326T010000
END:DAYLIGHT
BEGIN:STANDARD
TZOFFSETFROM:+0200
TZOFFSETTO:+0100
TZNAME:CET
DTSTART:20231029T010000
END:STANDARD
BEGIN:DAYLIGHT
TZOFFSETFROM:+0100
TZOFFSETTO:+0200
TZNAME:CEST
DTSTART:20240331T010000
END:DAYLIGHT
BEGIN:STANDARD
TZOFFSETFROM:+0200
TZOFFSETTO:+0100
TZNAME:CET
DTSTART:20241027T010000
END:STANDARD
BEGIN:DAYLIGHT
TZOFFSETFROM:+0100
TZOFFSETTO:+0200
TZNAME:CEST
DTSTART:20250330T010000
END:DAYLIGHT
BEGIN:STANDARD
TZOFFSETFROM:+0200
TZOFFSETTO:+0100
TZNAME:CET
DTSTART:20251026T010000
END:STANDARD
END:VTIMEZONE
BEGIN:VEVENT
DTSTART;VALUE=DATE:20240505
DTEND;VALUE=DATE:20240512
DTSTAMP:20260420T205802
CREATED:20231205T153715Z
LAST-MODIFIED:20231205T153715Z
UID:127192-1714870800-1715389199@www.karate.ch
SUMMARY:3T Lager Tenero
DESCRIPTION:
URL:https://www.karate.ch/event/3t-lager-tenero/
LOCATION:Tenero
END:VEVENT
BEGIN:VEVENT
DTSTART;VALUE=DATE:20240508
DTEND;VALUE=DATE:20240514
DTSTAMP:20260420T205802
CREATED:20240131T024028Z
LAST-MODIFIED:20240131T071647Z
UID:127551-1715130000-1715561999@www.karate.ch
SUMMARY:EKF European Senior Championships. EM in Zadar\, Kroatien
DESCRIPTION:
URL:https://www.karate.ch/event/em-in-zadar-kroatien/
LOCATION:Zadar\, Kroatien (Lokaler Name: Hrvatska)
END:VEVENT
BEGIN:VEVENT
DTSTART;VALUE=DATE:20240511
DTEND;VALUE=DATE:20240513
DTSTAMP:20260420T205802
CREATED:20231117T141543Z
LAST-MODIFIED:20231117T141543Z
UID:126035-1715389200-1715475599@www.karate.ch
SUMMARY:49. Fujimura Cup
DESCRIPTION:
URL:https://www.karate.ch/event/49-fujimura-cup/
LOCATION:Wettingen\, Switzerland
END:VEVENT
BEGIN:VEVENT
DTSTART;VALUE=DATE:20240516
DTEND;VALUE=DATE:20240521
DTSTAMP:20260420T205802
CREATED:20231117T144214Z
LAST-MODIFIED:20231117T144214Z
UID:126056-1715821200-1716166799@www.karate.ch
SUMMARY:KARATE 1 YOUTH LEAGUE A CORUNA
DESCRIPTION:
URL:https://www.karate.ch/event/karate-1-youth-league-a-coruna/
END:VEVENT
BEGIN:VEVENT
DTSTART;VALUE=DATE:20240526
DTEND;VALUE=DATE:20240528
DTSTAMP:20260420T205802
CREATED:20240120T092111Z
LAST-MODIFIED:20240204T014633Z
UID:127416-1716685200-1716771599@www.karate.ch
SUMMARY:Junior Karate League Liestal
DESCRIPTION:
URL:https://www.karate.ch/event/junior-karate-league-liestal-2/
LOCATION:Liestal
END:VEVENT
BEGIN:VEVENT
DTSTART;VALUE=DATE:20240531
DTEND;VALUE=DATE:20240604
DTSTAMP:20260420T205802
CREATED:20231117T144329Z
LAST-MODIFIED:20231117T144329Z
UID:126058-1717117200-1717376399@www.karate.ch
SUMMARY:KARATE 1 PREMIER LEAGUE CASABLANCA
DESCRIPTION:
URL:https://www.karate.ch/event/karate-1-premier-league-casablanca/
LOCATION:A Coruna
END:VEVENT
END:VCALENDAR