BEGIN:VCALENDAR
VERSION:2.0
PRODID:-//Swiss Karate Federation - ECPv6.15.20//NONSGML v1.0//EN
CALSCALE:GREGORIAN
METHOD:PUBLISH
X-ORIGINAL-URL:https://www.karate.ch
X-WR-CALDESC:Veranstaltungen für Swiss Karate Federation
REFRESH-INTERVAL;VALUE=DURATION:PT1H
X-Robots-Tag:noindex
X-PUBLISHED-TTL:PT1H
BEGIN:VTIMEZONE
TZID:Europe/Zurich
BEGIN:DAYLIGHT
TZOFFSETFROM:+0100
TZOFFSETTO:+0200
TZNAME:CEST
DTSTART:20230326T010000
END:DAYLIGHT
BEGIN:STANDARD
TZOFFSETFROM:+0200
TZOFFSETTO:+0100
TZNAME:CET
DTSTART:20231029T010000
END:STANDARD
BEGIN:DAYLIGHT
TZOFFSETFROM:+0100
TZOFFSETTO:+0200
TZNAME:CEST
DTSTART:20240331T010000
END:DAYLIGHT
BEGIN:STANDARD
TZOFFSETFROM:+0200
TZOFFSETTO:+0100
TZNAME:CET
DTSTART:20241027T010000
END:STANDARD
BEGIN:DAYLIGHT
TZOFFSETFROM:+0100
TZOFFSETTO:+0200
TZNAME:CEST
DTSTART:20250330T010000
END:DAYLIGHT
BEGIN:STANDARD
TZOFFSETFROM:+0200
TZOFFSETTO:+0100
TZNAME:CET
DTSTART:20251026T010000
END:STANDARD
END:VTIMEZONE
BEGIN:VEVENT
DTSTART;VALUE=DATE:20240531
DTEND;VALUE=DATE:20240604
DTSTAMP:20260420T192018
CREATED:20231117T144329Z
LAST-MODIFIED:20231117T144329Z
UID:126058-1717117200-1717376399@www.karate.ch
SUMMARY:KARATE 1 PREMIER LEAGUE CASABLANCA
DESCRIPTION:
URL:https://www.karate.ch/event/karate-1-premier-league-casablanca/
LOCATION:A Coruna
END:VEVENT
BEGIN:VEVENT
DTSTART;VALUE=DATE:20240601
DTEND;VALUE=DATE:20240604
DTSTAMP:20260420T192018
CREATED:20240131T024148Z
LAST-MODIFIED:20240131T024148Z
UID:127554-1717203600-1717376399@www.karate.ch
SUMMARY:SKU Promo Tour Biel
DESCRIPTION:
URL:https://www.karate.ch/event/sku-promo-tour-biel/
LOCATION:Biel/Bienne
END:VEVENT
BEGIN:VEVENT
DTSTART;VALUE=DATE:20240607
DTEND;VALUE=DATE:20240610
DTSTAMP:20260420T192018
CREATED:20231117T144446Z
LAST-MODIFIED:20231117T144446Z
UID:126061-1717722000-1717894799@www.karate.ch
SUMMARY:Lion Cup Luxemburg
DESCRIPTION:
URL:https://www.karate.ch/event/lion-cup-luxemburg-2/
LOCATION:Luxemburg
END:VEVENT
BEGIN:VEVENT
DTSTART;VALUE=DATE:20240608
DTEND;VALUE=DATE:20240610
DTSTAMP:20260420T192018
CREATED:20240130T023251Z
LAST-MODIFIED:20240130T023251Z
UID:127546-1717808400-1717894799@www.karate.ch
SUMMARY:SKF Coach Modul in Zuchwil
DESCRIPTION:
URL:https://www.karate.ch/event/skf-coach-modul-in-zuchwil/
LOCATION:Zuchwil
END:VEVENT
BEGIN:VEVENT
DTSTART;VALUE=DATE:20240609
DTEND;VALUE=DATE:20240611
DTSTAMP:20260420T192018
CREATED:20231117T141638Z
LAST-MODIFIED:20240131T024504Z
UID:126037-1717894800-1717981199@www.karate.ch
SUMMARY:SKF Schweizermeisterschaften Ippon Shobu Bern
DESCRIPTION:
URL:https://www.karate.ch/event/skf-schweizermeisterschaften-ippon-shobu/
LOCATION:Bern
END:VEVENT
BEGIN:VEVENT
DTSTART;VALUE=DATE:20240615
DTEND;VALUE=DATE:20240618
DTSTAMP:20260420T192018
CREATED:20231117T142904Z
LAST-MODIFIED:20231117T142904Z
UID:126040-1718413200-1718585999@www.karate.ch
SUMMARY:SWISS KARATE LEAGUE BURGDORF
DESCRIPTION:
URL:https://www.karate.ch/event/swiss-karate-league-burgdorf/
END:VEVENT
BEGIN:VEVENT
DTSTART;VALUE=DATE:20240627
DTEND;VALUE=DATE:20240702
DTSTAMP:20260420T192018
CREATED:20231117T144601Z
LAST-MODIFIED:20231117T144601Z
UID:126063-1719450000-1719795599@www.karate.ch
SUMMARY:KARATE 1 YOUTH LEAGUE POREC
DESCRIPTION:
URL:https://www.karate.ch/event/karate-1-youth-league-porec/
LOCATION:Porec\, Croatia (Local Name: Hrvatska)
END:VEVENT
BEGIN:VEVENT
DTSTART;VALUE=DATE:20240629
DTEND;VALUE=DATE:20240701
DTSTAMP:20260420T192018
CREATED:20240128T023029Z
LAST-MODIFIED:20240128T023029Z
UID:127534-1719622800-1719709199@www.karate.ch
SUMMARY:ZV/DV Sitzung\, Bern
DESCRIPTION:
URL:https://www.karate.ch/event/zv-dv-sitzung-bern-2/
LOCATION:Bern
END:VEVENT
END:VCALENDAR