BEGIN:VCALENDAR
VERSION:2.0
PRODID:-//Swiss Karate Federation - ECPv6.15.20//NONSGML v1.0//EN
CALSCALE:GREGORIAN
METHOD:PUBLISH
X-WR-CALNAME:Swiss Karate Federation
X-ORIGINAL-URL:https://www.karate.ch
X-WR-CALDESC:Veranstaltungen für Swiss Karate Federation
REFRESH-INTERVAL;VALUE=DURATION:PT1H
X-Robots-Tag:noindex
X-PUBLISHED-TTL:PT1H
BEGIN:VTIMEZONE
TZID:Europe/Zurich
BEGIN:DAYLIGHT
TZOFFSETFROM:+0100
TZOFFSETTO:+0200
TZNAME:CEST
DTSTART:20230326T010000
END:DAYLIGHT
BEGIN:STANDARD
TZOFFSETFROM:+0200
TZOFFSETTO:+0100
TZNAME:CET
DTSTART:20231029T010000
END:STANDARD
BEGIN:DAYLIGHT
TZOFFSETFROM:+0100
TZOFFSETTO:+0200
TZNAME:CEST
DTSTART:20240331T010000
END:DAYLIGHT
BEGIN:STANDARD
TZOFFSETFROM:+0200
TZOFFSETTO:+0100
TZNAME:CET
DTSTART:20241027T010000
END:STANDARD
BEGIN:DAYLIGHT
TZOFFSETFROM:+0100
TZOFFSETTO:+0200
TZNAME:CEST
DTSTART:20250330T010000
END:DAYLIGHT
BEGIN:STANDARD
TZOFFSETFROM:+0200
TZOFFSETTO:+0100
TZNAME:CET
DTSTART:20251026T010000
END:STANDARD
END:VTIMEZONE
BEGIN:VEVENT
DTSTART;VALUE=DATE:20241009
DTEND;VALUE=DATE:20241015
DTSTAMP:20260420T132305
CREATED:20231117T145202Z
LAST-MODIFIED:20231117T145202Z
UID:126074-1728435600-1728867599@www.karate.ch
SUMMARY:CADET\, JUNIOR & U21 CHAMPIONSHIP VENEDIG
DESCRIPTION:
URL:https://www.karate.ch/event/cadet-junior-u21-championship-venedig/
END:VEVENT
BEGIN:VEVENT
DTSTART;VALUE=DATE:20241019
DTEND;VALUE=DATE:20241022
DTSTAMP:20260420T132305
CREATED:20231117T145301Z
LAST-MODIFIED:20231117T145301Z
UID:126076-1729299600-1729472399@www.karate.ch
SUMMARY:Polish Open Bielsko-Biala
DESCRIPTION:
URL:https://www.karate.ch/event/polish-open-bielsko-biala/
LOCATION:Bielsko-Biela\, Poland
END:VEVENT
BEGIN:VEVENT
DTSTART;VALUE=DATE:20241026
DTEND;VALUE=DATE:20241029
DTSTAMP:20260420T132305
CREATED:20231117T145415Z
LAST-MODIFIED:20231117T145415Z
UID:126078-1729904400-1730077199@www.karate.ch
SUMMARY:Swiss Karate Schweizermeisterschaft Sursee
DESCRIPTION:
URL:https://www.karate.ch/event/swiss-karate-schweizermeisterschaft-sursee/
LOCATION:Sursee\, Switzerland
END:VEVENT
END:VCALENDAR