BEGIN:VCALENDAR
VERSION:2.0
PRODID:-//Swiss Karate Federation - ECPv6.15.20//NONSGML v1.0//EN
CALSCALE:GREGORIAN
METHOD:PUBLISH
X-ORIGINAL-URL:https://www.karate.ch
X-WR-CALDESC:Veranstaltungen für Swiss Karate Federation
REFRESH-INTERVAL;VALUE=DURATION:PT1H
X-Robots-Tag:noindex
X-PUBLISHED-TTL:PT1H
BEGIN:VTIMEZONE
TZID:Europe/Zurich
BEGIN:DAYLIGHT
TZOFFSETFROM:+0100
TZOFFSETTO:+0200
TZNAME:CEST
DTSTART:20240331T010000
END:DAYLIGHT
BEGIN:STANDARD
TZOFFSETFROM:+0200
TZOFFSETTO:+0100
TZNAME:CET
DTSTART:20241027T010000
END:STANDARD
BEGIN:DAYLIGHT
TZOFFSETFROM:+0100
TZOFFSETTO:+0200
TZNAME:CEST
DTSTART:20250330T010000
END:DAYLIGHT
BEGIN:STANDARD
TZOFFSETFROM:+0200
TZOFFSETTO:+0100
TZNAME:CET
DTSTART:20251026T010000
END:STANDARD
BEGIN:DAYLIGHT
TZOFFSETFROM:+0100
TZOFFSETTO:+0200
TZNAME:CEST
DTSTART:20260329T010000
END:DAYLIGHT
BEGIN:STANDARD
TZOFFSETFROM:+0200
TZOFFSETTO:+0100
TZNAME:CET
DTSTART:20261025T010000
END:STANDARD
END:VTIMEZONE
BEGIN:VEVENT
DTSTART;VALUE=DATE:20250314
DTEND;VALUE=DATE:20250316
DTSTAMP:20260420T052929
CREATED:20241213T013717Z
LAST-MODIFIED:20250310T180736Z
UID:128668-1741914000-1742000399@www.karate.ch
SUMMARY:ZV Sitzung Olten
DESCRIPTION:
URL:https://www.karate.ch/event/prov-zv-sitzung-olten/
LOCATION:Olten\, Switzerland
END:VEVENT
BEGIN:VEVENT
DTSTART;VALUE=DATE:20250314
DTEND;VALUE=DATE:20250318
DTSTAMP:20260420T052929
CREATED:20241212T150454Z
LAST-MODIFIED:20241212T234649Z
UID:128599-1741914000-1742173199@www.karate.ch
SUMMARY:K1 Premier League Hangzhou
DESCRIPTION:
URL:https://www.karate.ch/event/karate-1-premier-league-hangzhou/
LOCATION:Hangzhou\, China
END:VEVENT
BEGIN:VEVENT
DTSTART;VALUE=DATE:20250315
DTEND;VALUE=DATE:20250317
DTSTAMP:20260420T052929
CREATED:20241212T150235Z
LAST-MODIFIED:20241217T132033Z
UID:128597-1742000400-1742086799@www.karate.ch
SUMMARY:Swiss International Junior Open
DESCRIPTION:
URL:https://www.karate.ch/event/int-swiss-junior-open/
END:VEVENT
BEGIN:VEVENT
DTSTART;VALUE=DATE:20250322
DTEND;VALUE=DATE:20250325
DTSTAMP:20260420T052929
CREATED:20241212T151057Z
LAST-MODIFIED:20250122T081738Z
UID:128602-1742605200-1742777999@www.karate.ch
SUMMARY:Swiss Karate League Zürich
DESCRIPTION:
URL:https://www.karate.ch/event/swiss-karate-league-bonstetten/
LOCATION:Bonstetten\, Switzerland
END:VEVENT
END:VCALENDAR