BEGIN:VCALENDAR
VERSION:2.0
PRODID:-//Swiss Karate Federation - ECPv6.15.20//NONSGML v1.0//EN
CALSCALE:GREGORIAN
METHOD:PUBLISH
X-ORIGINAL-URL:https://www.karate.ch
X-WR-CALDESC:Veranstaltungen für Swiss Karate Federation
REFRESH-INTERVAL;VALUE=DURATION:PT1H
X-Robots-Tag:noindex
X-PUBLISHED-TTL:PT1H
BEGIN:VTIMEZONE
TZID:Europe/Zurich
BEGIN:DAYLIGHT
TZOFFSETFROM:+0100
TZOFFSETTO:+0200
TZNAME:CEST
DTSTART:20240331T010000
END:DAYLIGHT
BEGIN:STANDARD
TZOFFSETFROM:+0200
TZOFFSETTO:+0100
TZNAME:CET
DTSTART:20241027T010000
END:STANDARD
BEGIN:DAYLIGHT
TZOFFSETFROM:+0100
TZOFFSETTO:+0200
TZNAME:CEST
DTSTART:20250330T010000
END:DAYLIGHT
BEGIN:STANDARD
TZOFFSETFROM:+0200
TZOFFSETTO:+0100
TZNAME:CET
DTSTART:20251026T010000
END:STANDARD
BEGIN:DAYLIGHT
TZOFFSETFROM:+0100
TZOFFSETTO:+0200
TZNAME:CEST
DTSTART:20260329T010000
END:DAYLIGHT
BEGIN:STANDARD
TZOFFSETFROM:+0200
TZOFFSETTO:+0100
TZNAME:CET
DTSTART:20261025T010000
END:STANDARD
END:VTIMEZONE
BEGIN:VEVENT
DTSTART;VALUE=DATE:20250905
DTEND;VALUE=DATE:20250909
DTSTAMP:20260419T202716
CREATED:20241212T235926Z
LAST-MODIFIED:20241217T131308Z
UID:128643-1757034000-1757293199@www.karate.ch
SUMMARY:K1 Series A Salzburg
DESCRIPTION:
URL:https://www.karate.ch/event/k1-series-a-salzburg/
LOCATION:Salzburg\, Austria
END:VEVENT
BEGIN:VEVENT
DTSTART;VALUE=DATE:20250906
DTEND;VALUE=DATE:20250909
DTSTAMP:20260419T202716
CREATED:20241213T000025Z
LAST-MODIFIED:20241217T131254Z
UID:128646-1757120400-1757293199@www.karate.ch
SUMMARY:6 SKL Züri-Oberland
DESCRIPTION:
URL:https://www.karate.ch/event/prov-skl-wetzikon/
LOCATION:Züri-Oberland\, Switzerland
END:VEVENT
BEGIN:VEVENT
DTSTART;VALUE=DATE:20250919
DTEND;VALUE=DATE:20250923
DTSTAMP:20260419T202716
CREATED:20250310T181032Z
LAST-MODIFIED:20250310T181032Z
UID:129216-1758243600-1758502799@www.karate.ch
SUMMARY:WSKA WM Cadiz
DESCRIPTION:
URL:https://www.karate.ch/event/wska-wm-cadiz/
LOCATION:Cadiz\, Spain
END:VEVENT
BEGIN:VEVENT
DTSTART;TZID=Europe/Zurich:20250919T170000
DTEND;TZID=Europe/Zurich:20250919T220000
DTSTAMP:20260419T202716
CREATED:20241213T014255Z
LAST-MODIFIED:20250908T155333Z
UID:128677-1758301200-1758319200@www.karate.ch
SUMMARY:ZV Sitzung Olten
DESCRIPTION:
URL:https://www.karate.ch/event/prov-zv-sitzung-olten-2/
LOCATION:Olten\, Switzerland
END:VEVENT
BEGIN:VEVENT
DTSTART;VALUE=DATE:20250926
DTEND;VALUE=DATE:20250929
DTSTAMP:20260419T202716
CREATED:20241213T000145Z
LAST-MODIFIED:20241217T132209Z
UID:128650-1758848400-1759021199@www.karate.ch
SUMMARY:Lion Cup Luxembourg
DESCRIPTION:
URL:https://www.karate.ch/event/budapest-open-2/
LOCATION:Luxembourg\, Luxembourg
END:VEVENT
END:VCALENDAR