BEGIN:VCALENDAR
VERSION:2.0
PRODID:-//Swiss Karate Federation - ECPv6.15.20//NONSGML v1.0//EN
CALSCALE:GREGORIAN
METHOD:PUBLISH
X-ORIGINAL-URL:https://www.karate.ch
X-WR-CALDESC:Veranstaltungen für Swiss Karate Federation
REFRESH-INTERVAL;VALUE=DURATION:PT1H
X-Robots-Tag:noindex
X-PUBLISHED-TTL:PT1H
BEGIN:VTIMEZONE
TZID:Europe/Zurich
BEGIN:DAYLIGHT
TZOFFSETFROM:+0100
TZOFFSETTO:+0200
TZNAME:CEST
DTSTART:20240331T010000
END:DAYLIGHT
BEGIN:STANDARD
TZOFFSETFROM:+0200
TZOFFSETTO:+0100
TZNAME:CET
DTSTART:20241027T010000
END:STANDARD
BEGIN:DAYLIGHT
TZOFFSETFROM:+0100
TZOFFSETTO:+0200
TZNAME:CEST
DTSTART:20250330T010000
END:DAYLIGHT
BEGIN:STANDARD
TZOFFSETFROM:+0200
TZOFFSETTO:+0100
TZNAME:CET
DTSTART:20251026T010000
END:STANDARD
BEGIN:DAYLIGHT
TZOFFSETFROM:+0100
TZOFFSETTO:+0200
TZNAME:CEST
DTSTART:20260329T010000
END:DAYLIGHT
BEGIN:STANDARD
TZOFFSETFROM:+0200
TZOFFSETTO:+0100
TZNAME:CET
DTSTART:20261025T010000
END:STANDARD
END:VTIMEZONE
BEGIN:VEVENT
DTSTART;TZID=Europe/Zurich:20251122T000100
DTEND;TZID=Europe/Zurich:20251123T235900
DTSTAMP:20260419T170749
CREATED:20241213T012719Z
LAST-MODIFIED:20250908T155654Z
UID:128659-1763769660-1763942340@www.karate.ch
SUMMARY:SM Sursee
DESCRIPTION:
URL:https://www.karate.ch/event/sm-sursee/
LOCATION:Sursee\, Switzerland
END:VEVENT
BEGIN:VEVENT
DTSTART;VALUE=DATE:20251127
DTEND;VALUE=DATE:20251202
DTSTAMP:20260419T170749
CREATED:20241213T012833Z
LAST-MODIFIED:20241217T131145Z
UID:128662-1764205200-1764550799@www.karate.ch
SUMMARY:Elite WM Cairo
DESCRIPTION:
URL:https://www.karate.ch/event/elite-wm-cairo/
LOCATION:Cairo\, Egypt
END:VEVENT
BEGIN:VEVENT
DTSTART;VALUE=DATE:20251128
DTEND;VALUE=DATE:20251202
DTSTAMP:20260419T170749
CREATED:20250310T181131Z
LAST-MODIFIED:20250310T181131Z
UID:129220-1764291600-1764550799@www.karate.ch
SUMMARY:ESKA EM Portimao
DESCRIPTION:
URL:https://www.karate.ch/event/eska-em-portimao/
LOCATION:Portimao\, Portugal
END:VEVENT
END:VCALENDAR