BEGIN:VCALENDAR
VERSION:2.0
PRODID:-//Swiss Karate Federation - ECPv6.15.20//NONSGML v1.0//EN
CALSCALE:GREGORIAN
METHOD:PUBLISH
X-ORIGINAL-URL:https://www.karate.ch
X-WR-CALDESC:Veranstaltungen für Swiss Karate Federation
REFRESH-INTERVAL;VALUE=DURATION:PT1H
X-Robots-Tag:noindex
X-PUBLISHED-TTL:PT1H
BEGIN:VTIMEZONE
TZID:Europe/Zurich
BEGIN:DAYLIGHT
TZOFFSETFROM:+0100
TZOFFSETTO:+0200
TZNAME:CEST
DTSTART:20240331T010000
END:DAYLIGHT
BEGIN:STANDARD
TZOFFSETFROM:+0200
TZOFFSETTO:+0100
TZNAME:CET
DTSTART:20241027T010000
END:STANDARD
BEGIN:DAYLIGHT
TZOFFSETFROM:+0100
TZOFFSETTO:+0200
TZNAME:CEST
DTSTART:20250330T010000
END:DAYLIGHT
BEGIN:STANDARD
TZOFFSETFROM:+0200
TZOFFSETTO:+0100
TZNAME:CET
DTSTART:20251026T010000
END:STANDARD
BEGIN:DAYLIGHT
TZOFFSETFROM:+0100
TZOFFSETTO:+0200
TZNAME:CEST
DTSTART:20260329T010000
END:DAYLIGHT
BEGIN:STANDARD
TZOFFSETFROM:+0200
TZOFFSETTO:+0100
TZNAME:CET
DTSTART:20261025T010000
END:STANDARD
END:VTIMEZONE
BEGIN:VEVENT
DTSTART;VALUE=DATE:20251204
DTEND;VALUE=DATE:20251209
DTSTAMP:20260419T152609
CREATED:20241213T013051Z
LAST-MODIFIED:20241217T131129Z
UID:128664-1764810000-1765155599@www.karate.ch
SUMMARY:K1 Youth League Venice
DESCRIPTION:
URL:https://www.karate.ch/event/k1-youth-league-venice/
LOCATION:Venice\, Italy
END:VEVENT
BEGIN:VEVENT
DTSTART;TZID=Europe/Zurich:20251212T170000
DTEND;TZID=Europe/Zurich:20251212T220000
DTSTAMP:20260419T152609
CREATED:20241213T014332Z
LAST-MODIFIED:20250908T155441Z
UID:128679-1765558800-1765576800@www.karate.ch
SUMMARY:ZV Sitzung Olten
DESCRIPTION:
URL:https://www.karate.ch/event/prov-zv-sitzung-olten-3/
LOCATION:Olten\, Switzerland
END:VEVENT
END:VCALENDAR