BEGIN:VCALENDAR
VERSION:2.0
PRODID:-//Swiss Karate Federation - ECPv6.15.20//NONSGML v1.0//EN
CALSCALE:GREGORIAN
METHOD:PUBLISH
X-WR-CALNAME:Swiss Karate Federation
X-ORIGINAL-URL:https://www.karate.ch
X-WR-CALDESC:Veranstaltungen für Swiss Karate Federation
REFRESH-INTERVAL;VALUE=DURATION:PT1H
X-Robots-Tag:noindex
X-PUBLISHED-TTL:PT1H
BEGIN:VTIMEZONE
TZID:Europe/Zurich
BEGIN:DAYLIGHT
TZOFFSETFROM:+0100
TZOFFSETTO:+0200
TZNAME:CEST
DTSTART:20250330T010000
END:DAYLIGHT
BEGIN:STANDARD
TZOFFSETFROM:+0200
TZOFFSETTO:+0100
TZNAME:CET
DTSTART:20251026T010000
END:STANDARD
BEGIN:DAYLIGHT
TZOFFSETFROM:+0100
TZOFFSETTO:+0200
TZNAME:CEST
DTSTART:20260329T010000
END:DAYLIGHT
BEGIN:STANDARD
TZOFFSETFROM:+0200
TZOFFSETTO:+0100
TZNAME:CET
DTSTART:20261025T010000
END:STANDARD
BEGIN:DAYLIGHT
TZOFFSETFROM:+0100
TZOFFSETTO:+0200
TZNAME:CEST
DTSTART:20270328T010000
END:DAYLIGHT
BEGIN:STANDARD
TZOFFSETFROM:+0200
TZOFFSETTO:+0100
TZNAME:CET
DTSTART:20271031T010000
END:STANDARD
END:VTIMEZONE
BEGIN:VEVENT
DTSTART;VALUE=DATE:20260612
DTEND;VALUE=DATE:20260616
DTSTAMP:20260419T152440
CREATED:20250902T151422Z
LAST-MODIFIED:20250902T151422Z
UID:130123-1781226000-1781485199@www.karate.ch
SUMMARY:K1 Premier League Rabat
DESCRIPTION:
URL:https://www.karate.ch/event/k1-premier-league-rabat/
LOCATION:Rabat\, Morocco
END:VEVENT
BEGIN:VEVENT
DTSTART;VALUE=DATE:20260613
DTEND;VALUE=DATE:20260615
DTSTAMP:20260419T152440
CREATED:20250920T104306Z
LAST-MODIFIED:20250920T104306Z
UID:130181-1781312400-1781398799@www.karate.ch
SUMMARY:ZV/DV Sitzung Bern
DESCRIPTION:
URL:https://www.karate.ch/event/zv-dv-sitzung-bern-3/
LOCATION:Bern\, Switzerland
END:VEVENT
BEGIN:VEVENT
DTSTART;VALUE=DATE:20260614
DTEND;VALUE=DATE:20260616
DTSTAMP:20260419T152440
CREATED:20250902T145544Z
LAST-MODIFIED:20250902T145544Z
UID:130099-1781398800-1781485199@www.karate.ch
SUMMARY:SM Ippon Shobu Bern
DESCRIPTION:
URL:https://www.karate.ch/event/sm-ippon-shobu-bern/
LOCATION:Bern\, Switzerland
END:VEVENT
BEGIN:VEVENT
DTSTART;VALUE=DATE:20260619
DTEND;VALUE=DATE:20260623
DTSTAMP:20260419T152440
CREATED:20260130T090446Z
LAST-MODIFIED:20260130T090446Z
UID:130537-1781830800-1782089999@www.karate.ch
SUMMARY:Polish Open
DESCRIPTION:
URL:https://www.karate.ch/event/polish-open-2/
LOCATION:Bielsko-Biala\, Polen
END:VEVENT
BEGIN:VEVENT
DTSTART;VALUE=DATE:20260627
DTEND;VALUE=DATE:20260630
DTSTAMP:20260419T152440
CREATED:20250902T145156Z
LAST-MODIFIED:20250902T145156Z
UID:130091-1782522000-1782694799@www.karate.ch
SUMMARY:Swiss Karate League Zürich (Saalsporthalle)
DESCRIPTION:
URL:https://www.karate.ch/event/swiss-karate-league-zuerich-saalsporthalle/
LOCATION:Zürich\, Giesshübelstrasse 41\, Zürich\, 8045\, Switzerland
END:VEVENT
END:VCALENDAR