BEGIN:VCALENDAR
VERSION:2.0
PRODID:-//Swiss Karate Federation - ECPv6.15.20//NONSGML v1.0//EN
CALSCALE:GREGORIAN
METHOD:PUBLISH
X-WR-CALNAME:Swiss Karate Federation
X-ORIGINAL-URL:https://www.karate.ch
X-WR-CALDESC:Veranstaltungen für Swiss Karate Federation
REFRESH-INTERVAL;VALUE=DURATION:PT1H
X-Robots-Tag:noindex
X-PUBLISHED-TTL:PT1H
BEGIN:VTIMEZONE
TZID:Europe/Zurich
BEGIN:DAYLIGHT
TZOFFSETFROM:+0100
TZOFFSETTO:+0200
TZNAME:CEST
DTSTART:20250330T010000
END:DAYLIGHT
BEGIN:STANDARD
TZOFFSETFROM:+0200
TZOFFSETTO:+0100
TZNAME:CET
DTSTART:20251026T010000
END:STANDARD
BEGIN:DAYLIGHT
TZOFFSETFROM:+0100
TZOFFSETTO:+0200
TZNAME:CEST
DTSTART:20260329T010000
END:DAYLIGHT
BEGIN:STANDARD
TZOFFSETFROM:+0200
TZOFFSETTO:+0100
TZNAME:CET
DTSTART:20261025T010000
END:STANDARD
BEGIN:DAYLIGHT
TZOFFSETFROM:+0100
TZOFFSETTO:+0200
TZNAME:CEST
DTSTART:20270328T010000
END:DAYLIGHT
BEGIN:STANDARD
TZOFFSETFROM:+0200
TZOFFSETTO:+0100
TZNAME:CET
DTSTART:20271031T010000
END:STANDARD
END:VTIMEZONE
BEGIN:VEVENT
DTSTART;VALUE=DATE:20260905
DTEND;VALUE=DATE:20260908
DTSTAMP:20260419T195600
CREATED:20250902T145254Z
LAST-MODIFIED:20250902T145254Z
UID:130092-1788570000-1788742799@www.karate.ch
SUMMARY:Swiss Karate League Züri Oberland
DESCRIPTION:
URL:https://www.karate.ch/event/swiss-karate-league-zueri-oberland/
LOCATION:Züri-Oberland\, Switzerland
END:VEVENT
BEGIN:VEVENT
DTSTART;VALUE=DATE:20260917
DTEND;VALUE=DATE:20260922
DTSTAMP:20260419T195600
CREATED:20250902T151729Z
LAST-MODIFIED:20260113T085842Z
UID:130129-1789606800-1789952399@www.karate.ch
SUMMARY:K1 Youth League Guadalajara
DESCRIPTION:
URL:https://www.karate.ch/event/k1-youth-league-mexico-city-tbd/
LOCATION:Guadalajara\, Mexico
END:VEVENT
BEGIN:VEVENT
DTSTART;TZID=Europe/Zurich:20260918T130000
DTEND;TZID=Europe/Zurich:20260918T170000
DTSTAMP:20260419T195600
CREATED:20250920T104659Z
LAST-MODIFIED:20250920T104659Z
UID:130189-1789736400-1789750800@www.karate.ch
SUMMARY:ZV Workshop Olten
DESCRIPTION:
URL:https://www.karate.ch/event/zv-workshop-olten-2/
LOCATION:Olten\, Switzerland
END:VEVENT
BEGIN:VEVENT
DTSTART;TZID=Europe/Zurich:20260918T170000
DTEND;TZID=Europe/Zurich:20260918T220000
DTSTAMP:20260419T195600
CREATED:20250920T104345Z
LAST-MODIFIED:20250920T104345Z
UID:130183-1789750800-1789768800@www.karate.ch
SUMMARY:ZV Sitzung Olten
DESCRIPTION:
URL:https://www.karate.ch/event/zv-sitzung-olten-7/
LOCATION:Olten\, Switzerland
END:VEVENT
BEGIN:VEVENT
DTSTART;VALUE=DATE:20260925
DTEND;VALUE=DATE:20260928
DTSTAMP:20260419T195600
CREATED:20260130T090943Z
LAST-MODIFIED:20260130T090943Z
UID:130541-1790298000-1790470799@www.karate.ch
SUMMARY:Lion Cup
DESCRIPTION:
URL:https://www.karate.ch/event/lion-cup/
LOCATION:Luxembourg\, Luxembourg
END:VEVENT
END:VCALENDAR