BEGIN:VCALENDAR
VERSION:2.0
PRODID:-//Swiss Karate Federation - ECPv6.15.20//NONSGML v1.0//EN
CALSCALE:GREGORIAN
METHOD:PUBLISH
X-WR-CALNAME:Swiss Karate Federation
X-ORIGINAL-URL:https://www.karate.ch
X-WR-CALDESC:Veranstaltungen für Swiss Karate Federation
REFRESH-INTERVAL;VALUE=DURATION:PT1H
X-Robots-Tag:noindex
X-PUBLISHED-TTL:PT1H
BEGIN:VTIMEZONE
TZID:Europe/Zurich
BEGIN:DAYLIGHT
TZOFFSETFROM:+0100
TZOFFSETTO:+0200
TZNAME:CEST
DTSTART:20250330T010000
END:DAYLIGHT
BEGIN:STANDARD
TZOFFSETFROM:+0200
TZOFFSETTO:+0100
TZNAME:CET
DTSTART:20251026T010000
END:STANDARD
BEGIN:DAYLIGHT
TZOFFSETFROM:+0100
TZOFFSETTO:+0200
TZNAME:CEST
DTSTART:20260329T010000
END:DAYLIGHT
BEGIN:STANDARD
TZOFFSETFROM:+0200
TZOFFSETTO:+0100
TZNAME:CET
DTSTART:20261025T010000
END:STANDARD
BEGIN:DAYLIGHT
TZOFFSETFROM:+0100
TZOFFSETTO:+0200
TZNAME:CEST
DTSTART:20270328T010000
END:DAYLIGHT
BEGIN:STANDARD
TZOFFSETFROM:+0200
TZOFFSETTO:+0100
TZNAME:CET
DTSTART:20271031T010000
END:STANDARD
END:VTIMEZONE
BEGIN:VEVENT
DTSTART;VALUE=DATE:20261210
DTEND;VALUE=DATE:20261215
DTSTAMP:20260420T003436
CREATED:20250902T152205Z
LAST-MODIFIED:20250902T152205Z
UID:130137-1796864400-1797209999@www.karate.ch
SUMMARY:K1 Youth League Venice
DESCRIPTION:
URL:https://www.karate.ch/event/k1-youth-league-venice-2/
LOCATION:Venice\, Italy
END:VEVENT
BEGIN:VEVENT
DTSTART;TZID=Europe/Zurich:20261211T170000
DTEND;TZID=Europe/Zurich:20261211T220000
DTSTAMP:20260420T003436
CREATED:20250920T104420Z
LAST-MODIFIED:20250920T104420Z
UID:130185-1797008400-1797026400@www.karate.ch
SUMMARY:ZV Sitzung Olten
DESCRIPTION:
URL:https://www.karate.ch/event/zv-sitzung-olten-8/
LOCATION:Olten\, Switzerland
END:VEVENT
END:VCALENDAR